{"text_format":"3","workbook":"xlsx","n_sheets":5,"sheets":["INICIO","INSTRUCTIVO","TARIFAS","FORMULARIO","LIQUIDACION"],"not_rendered":{"images":2,"macros":1,"defined_names":5},"read":"whole","date_system":"1900"}

{"sheet":"INICIO","index":0,"n_rows":3,"n_cols":2,"rows_kept":3,"merged":[[1,1,1,5],[2,1,2,5]]}
[]
[null,"FORMATO SOLICITUD COMPRA"]
[null,"TIQUETES PREPAGO"]

{"sheet":"INSTRUCTIVO","index":1,"n_rows":11,"n_cols":2,"rows_kept":11,"merged":[[10,1,12,1]]}
[]
[]
[]
[]
[null," IN-GF- 001 INSTRUCTIVO DE COMPRA DE TIQUETES"]
[null,"VERSIÓN 005                                     FECHA VERSIÓN: 01/02/2023"]
[]
[]
[]
[]
[null,"1.\tAl seleccionar el botón “FORMULARIO DE COMPRA”, diligenciar la información correspondiente al solicitante: nombre o razón social, documento de identificación o NIT, dirección de recepción de los tiquetes prepago.\n2.\tSeleccione la (s) estación (es) de peje sobre las cuales realizará la compra.\n3.\tUna vez se despliegue la información de tarifas por categoría (tomar en cuenta que las categorias pueden variar en algunas estaciones), diligenciar las casillas (color gris) con el número de tiquetes prepago por cada estación y cada categoría. \n4.\tEn la última columna del formulario podrá visualizar el valor de los tiquetes por cada estación de peaje.\n5.\tEn el margen inferior derecho el usuario podrá visualizar el valor total de la compra.\n6.\tRealizada la verificación de la información por parte del usuario, pulsar el botón “LIQUIDACIÓN”.\n7.\tEn el formulario de liquidación, el usuario podrá visualizar toda la información diligenciada en el “FORMULARIO DE COMPRA”.\n8.\tAdicionalmente, el formulario liquidará el valor correspondiente a los gastos bancarios y los gastos de envío para totalizar el valor de la compra. El usuario seleccionara la opcion del lugar de la consigancion si es Local (Bogota) o a nivel Nacional.\n9.\tEl usuario debe imprimir el formato de liquidación y firmarlo, puesto que el archivo será el soporte que garantice el pago efectuado para que la Unión Temporal despache los tiquetes adquiridos.\n\n10.\tProceso de pago, validación del pago y entrega de tiquetes prepago:\n\n11.\tUna vez el usuario tenga a su disposición el valor de adquisición de los tiquetes prepago (“FORMULARIO DE COMPRA”), deberá realizar el pago en el Banco Davivienda a la siguiente cuenta bancaria:\n\n12.\t-\tNo. Cuenta: \t\t\t482800024150\n13.\t-\tTipo de cuenta:\t\tAhorros\n14.\t-\tNombre de la cuenta:\t\tPA Peajes Nacionales Tiquetes Prepago\n15.\t-\tTitular: \t\t\tPA FIDUCIARIA CORFICOLOMBIANA SA\n16.\t-\tNIT:\t\t\t\t800.256.769-6\n17.\tRealizado el pago, en la casilla “Pegar Consignación” de la Liquidación, el usuario debe proceder a pegar el soporte de consignación y escanear dicho documento completo.\n18.\tPosteriormente debe remitir al correo “prepagos@utpeajesnacionales.com.co” el documento digital (escaneado).\n19.\tUna vez la UT reciba la información del pago, procederá a la verificación del ingreso a la respectiva cuenta.\n20.\tIdentificado el ingreso realizado por el usuario, la Unión Temporal contará con tres (3) días hábiles para el envío si el destino es Bogotá D.C., y seis (6) días hábiles para el envío a destino nacional."]

{"sheet":"TARIFAS","index":2,"n_rows":81,"n_cols":30,"rows_kept":81,"hidden":true,"merged":[[7,0,8,0],[7,1,8,1],[7,2,8,2],[7,3,7,20],[7,21,7,24],[7,25,8,25],[48,0,49,0],[48,1,49,1],[48,2,49,2],[48,3,48,22],[48,23,48,26],[48,27,49,27],[48,28,49,28],[48,29,49,29]]}
[]
[null,null,"TARIFAS 16 ENE 2023 AL 15 ENE 2024"]
[null,null,"IPC DIC 2020",105.48]
[null,null,"IPC DIC 2021",111.41]
[null,null,"FACTOR",{"v":1.0562191884717482,"d":"1.0562"}]
[]
[null,1,{"$f":"+B7+1","v":2},{"$f":"+C7+1","v":3},4,5,6,7,8,9,10,11,{"$f":"+L7+1","v":12},{"$f":"+M7+1","v":13},{"$f":"+N7+1","v":14},{"$f":"+O7+1","v":15},{"$f":"+P7+1","v":16},17,18,19,20,21,22,23,24,25]
["No.","Estación de Peaje","Departamento","CATEGORÍAS VEHICULARES",{"$nulls":17},"EJES",{"$nulls":3},"FOSEVI"]
[{"$nulls":3},"I","IE","IEA","IEB","II","IIE","IIEE","III","IIIE","IIIP","IIIG","IV","IVE","V","VB","VE","VI","VII","E. GRUA","E. REMOL.","E. ADIC.","E. CAÑERO"]
[1,"CASABLANCA","CUNDINAMARCA",{"v":9100,"d":"$ 9,100"},0,0,0,{"v":9800,"d":"$ 9,800"},0,0,{"v":25600,"d":"$ 25,600"},0,0,0,{"v":31800,"d":"$ 31,800"},0,{"v":37200,"d":"$ 37,200"},0,0,0,0,{"v":7500,"d":"$ 7,500"},{"v":10800,"d":"$ 10,800"},{"v":11000,"d":"$ 11,000"},0,{"v":300,"d":"$ 300"}]
[{"$f":"A10+1","v":2},"SABOYÁ","BOYACA",{"v":9100,"d":"$ 9,100"},{"v":2400,"d":"$ 2,400"},0,0,{"v":9800,"d":"$ 9,800"},{"v":2400,"d":"$ 2,400"},0,{"v":25600,"d":"$ 25,600"},0,0,0,{"v":31800,"d":"$ 31,800"},0,{"v":37200,"d":"$ 37,200"},0,0,0,0,{"v":7500,"d":"$ 7,500"},{"v":10800,"d":"$ 10,800"},{"v":11000,"d":"$ 11,000"},0,{"v":300,"d":"$ 300"}]
[{"$f":"A11+1","v":3},"OIBA","SANTANDER",{"v":9100,"d":"$ 9,100"},{"v":800,"d":"$ 800"},0,0,{"v":9800,"d":"$ 9,800"},{"v":800,"d":"$ 800"},0,{"v":25600,"d":"$ 25,600"},0,0,0,{"v":31800,"d":"$ 31,800"},0,{"v":37200,"d":"$ 37,200"},0,0,0,0,{"v":7500,"d":"$ 7,500"},{"v":10800,"d":"$ 10,800"},{"v":11000,"d":"$ 11,000"},0,{"v":300,"d":"$ 300"}]
[4,"CURITI","SANTANDER",{"v":9100,"d":"$ 9,100"},{"v":6900,"d":"$ 6,900"},0,0,{"v":9800,"d":"$ 9,800"},0,0,{"v":25600,"d":"$ 25,600"},0,0,0,{"v":31800,"d":"$ 31,800"},0,{"v":37200,"d":"$ 37,200"},0,0,0,0,{"v":7500,"d":"$ 7,500"},{"v":10800,"d":"$ 10,800"},{"v":11000,"d":"$ 11,000"},0,{"v":300,"d":"$ 300"}]
[5,"LOS CUROS","SANTANDER",{"v":9100,"d":"$ 9,100"},0,0,0,{"v":9800,"d":"$ 9,800"},0,0,{"v":25600,"d":"$ 25,600"},0,0,0,{"v":31800,"d":"$ 31,800"},0,{"v":37200,"d":"$ 37,200"},0,0,0,0,{"v":7500,"d":"$ 7,500"},{"v":10800,"d":"$ 10,800"},{"v":11000,"d":"$ 11,000"},0,{"v":300,"d":"$ 300"}]
[6,"PLATANAL","CESAR",{"v":8800,"d":"$ 8,800"},{"v":200,"d":"$ 200"},0,0,{"v":9800,"d":"$ 9,800"},{"v":200,"d":"$ 200"},{"v":5100,"d":"$ 5,100"},{"v":20900,"d":"$ 20,900"},{"v":10700,"d":"$ 10,700"},0,0,{"v":26500,"d":"$ 26,500"},{"v":13500,"d":"$ 13,500"},{"v":30400,"d":"$ 30,400"},0,{"v":15300,"d":"$ 15,300"},0,0,{"v":7100,"d":"$ 7,100"},{"v":9300,"d":"$ 9,300"},{"v":9600,"d":"$ 9,600"},0,{"v":200,"d":"$ 200"}]
[7,"SAN DIEGO","CESAR",{"v":5200,"d":"$ 5,200"},{"v":3600,"d":"$ 3,600"},0,0,{"v":5600,"d":"$ 5,600"},0,0,{"v":6100,"d":"$ 6,100"},0,0,0,{"v":6500,"d":"$ 6,500"},0,{"v":13700,"d":"$ 13,700"},{"v":29700,"d":"$ 29,700"},0,{"v":39700,"d":"$ 39,700"},{"v":45100,"d":"$ 45,100"},0,0,0,0,{"v":200,"d":"$ 200"}]
[8,"RINCÓN HONDO","CESAR",{"v":10500,"d":"$ 10,500"},0,0,0,{"v":11100,"d":"$ 11,100"},0,0,{"v":12000,"d":"$ 12,000"},0,0,0,{"v":12800,"d":"$ 12,800"},0,{"v":13800,"d":"$ 13,800"},{"v":29700,"d":"$ 29,700"},0,{"v":39700,"d":"$ 39,700"},{"v":45500,"d":"$ 45,500"},0,0,0,0,{"v":200,"d":"$ 200"}]
[9,"SAN JUAN","GUAJIRA",0,0,{"v":5200,"d":"$ 5,200"},{"v":2200,"d":"$ 2,200"},{"v":10500,"d":"$ 10,500"},0,0,{"v":21700,"d":"$ 21,700"},0,0,0,{"v":27600,"d":"$ 27,600"},0,{"v":31200,"d":"$ 31,200"},0,0,0,0,{"v":5600,"d":"$ 5,600"},{"v":7400,"d":"$ 7,400"},{"v":7600,"d":"$ 7,600"},0,{"v":200,"d":"$ 200"}]
[10,"COCORNA","ANTIOQUIA",{"v":13500,"d":"$ 13,500"},{"v":1100,"d":"$ 1,100"},0,0,{"v":21200,"d":"$ 21,200"},{"v":1100,"d":"$ 1,100"},0,{"v":18600,"d":"$ 18,600"},{"v":1100,"d":"$ 1,100"},0,0,{"v":23100,"d":"$ 23,100"},{"v":1100,"d":"$ 1,100"},{"v":46400,"d":"$ 46,400"},0,0,{"v":66100,"d":"$ 66,100"},{"v":66100,"d":"$ 66,100"},0,0,0,0,{"v":200,"d":"$ 200"}]
[11,"PUERTO TRIUNFO","ANTIOQUIA",{"v":13500,"d":"$ 13,500"},0,0,0,{"v":21200,"d":"$ 21,200"},0,0,{"v":18600,"d":"$ 18,600"},0,0,0,{"v":23100,"d":"$ 23,100"},0,{"v":46400,"d":"$ 46,400"},0,0,{"v":66100,"d":"$ 66,100"},{"v":66100,"d":"$ 66,100"},0,0,0,0,{"v":200,"d":"$ 200"}]
[12,"LOBOGUERRERO","VALLE DEL CAUCA",{"v":8900,"d":"$ 8,900"},{"v":600,"d":"$ 600"},0,0,{"v":9900,"d":"$ 9,900"},{"v":600,"d":"$ 600"},0,{"v":24000,"d":"$ 24,000"},0,0,0,{"v":31500,"d":"$ 31,500"},0,{"v":35700,"d":"$ 35,700"},0,0,0,0,{"v":7000,"d":"$ 7,000"},{"v":23100,"d":"$ 23,100"},{"v":11000,"d":"$ 11,000"},{"v":7000,"d":"$ 7,000"},{"v":200,"d":"$ 200"}]
[13,"LA PARADA","NORTE DE SANTANDER",{"v":2100,"d":"$ 2,100"},0,0,0,{"v":2100,"d":"$ 2,100"},0,0,{"v":2100,"d":"$ 2,100"},0,0,0,{"v":2100,"d":"$ 2,100"},0,{"v":2100,"d":"$ 2,100"},0,0,0,0,{"v":2100,"d":"$ 2,100"},0,{"v":2100,"d":"$ 2,100"},0,0]
[14,"EL KORAN","CUNDINAMARCA",{"v":14300,"d":"$ 14,300"},{"v":3100,"d":"$ 3,100"},0,0,{"v":20100,"d":"$ 20,100"},{"v":3100,"d":"$ 3,100"},0,0,0,{"v":28300,"d":"$ 28,300"},{"v":28300,"d":"$ 28,300"},{"v":59100,"d":"$ 59,100"},0,{"v":73500,"d":"$ 73,500"},0,0,{"v":87200,"d":"$ 87,200"},0,{"v":7200,"d":"$ 7,200"},{"v":9700,"d":"$ 9,700"},{"v":10100,"d":"$ 10,100"},0,{"v":200,"d":"$ 200"}]
[15,"TUNEL LA LINEA TOLIMA","TOLIMA",{"v":9400,"d":"$ 9,400"},{"v":2100,"d":"$ 2,100"},0,0,{"v":10500,"d":"$ 10,500"},{"v":2100,"d":"$ 2,100"},0,{"v":21700,"d":"$ 21,700"},0,0,0,{"v":27600,"d":"$ 27,600"},0,{"v":31200,"d":"$ 31,200"},0,0,0,0,{"v":7100,"d":"$ 7,100"},{"v":9300,"d":"$ 9,300"},{"v":9600,"d":"$ 9,600"},0,{"v":300,"d":"$ 300"}]
[16,"TUNEL LA LINEA QUINDIO","QUINDIO",{"v":9400,"d":"$ 9,400"},{"v":2100,"d":"$ 2,100"},0,0,{"v":10500,"d":"$ 10,500"},{"v":2100,"d":"$ 2,100"},0,{"v":21700,"d":"$ 21,700"},0,0,0,{"v":27600,"d":"$ 27,600"},0,{"v":31200,"d":"$ 31,200"},0,0,0,0,{"v":7100,"d":"$ 7,100"},{"v":9300,"d":"$ 9,300"},{"v":9600,"d":"$ 9,600"},0,{"v":300,"d":"$ 300"}]
[17,"ARCABUCO","BOYACA",{"v":9200,"d":"$ 9,200"},0,0,0,{"v":9900,"d":"$ 9,900"},0,0,{"v":21300,"d":"$ 21,300"},0,0,0,{"v":27100,"d":"$ 27,100"},0,{"v":30500,"d":"$ 30,500"},0,0,0,0,{"v":7100,"d":"$ 7,100"},{"v":9300,"d":"$ 9,300"},{"v":9600,"d":"$ 9,600"},0,{"v":300,"d":"$ 300"}]
[18,"BICENTENARIO","CUNDINAMARCA",{"v":9900,"d":"$ 9,900"},{"v":4900,"d":"$ 4,900"},0,0,{"v":12900,"d":"$ 12,900"},{"v":6100,"d":"$ 6,100"},0,{"v":30300,"d":"$ 30,300"},0,0,0,{"v":36800,"d":"$ 36,800"},0,{"v":42700,"d":"$ 42,700"},0,0,0,0,{"v":7100,"d":"$ 7,100"},{"v":9300,"d":"$ 9,300"},{"v":9600,"d":"$ 9,600"},0,{"v":300,"d":"$ 300"}]
[19,"CARIMAGUA","CORDOBA",{"v":13400,"d":"$ 13,400"},0,0,0,{"v":19400,"d":"$ 19,400"},0,0,{"v":19400,"d":"$ 19,400"},0,0,0,{"v":19400,"d":"$ 19,400"},0,{"v":35200,"d":"$ 35,200"},0,0,{"v":55900,"d":"$ 55,900"},{"v":64500,"d":"$ 64,500"},0,0,0,0,{"v":300,"d":"$ 300"}]
[20,"EL CRUCERO","BOYACA",{"v":9200,"d":"$ 9,200"},{"v":2300,"d":"$ 2,300"},0,0,{"v":9900,"d":"$ 9,900"},{"v":2500,"d":"$ 2,500"},0,{"v":21300,"d":"$ 21,300"},0,0,0,{"v":27100,"d":"$ 27,100"},0,{"v":30500,"d":"$ 30,500"},0,0,0,0,{"v":7100,"d":"$ 7,100"},{"v":9300,"d":"$ 9,300"},{"v":9600,"d":"$ 9,600"},0,{"v":300,"d":"$ 300"}]
[{"$f":"A39+1","v":22},"LOS LLANOS","ANTIOQUIA",{"v":9400,"d":"$ 9,400"},{"v":4900,"d":"$ 4,900"},0,0,{"v":10500,"d":"$ 10,500"},{"v":5200,"d":"$ 5,200"},0,{"v":21700,"d":"$ 21,700"},0,0,0,{"v":27600,"d":"$ 27,600"},0,{"v":31200,"d":"$ 31,200"},0,0,0,0,{"v":7100,"d":"$ 7,100"},{"v":9300,"d":"$ 9,300"},{"v":9600,"d":"$ 9,600"},0,{"v":300,"d":"$ 300"}]
[23,"RIO BLANCO","SANTANDER",{"v":9400,"d":"$ 9,400"},0,0,0,{"v":10500,"d":"$ 10,500"},0,0,{"v":21700,"d":"$ 21,700"},0,0,0,{"v":27600,"d":"$ 27,600"},0,{"v":31200,"d":"$ 31,200"},0,0,0,0,{"v":7100,"d":"$ 7,100"},{"v":9300,"d":"$ 9,300"},{"v":9600,"d":"$ 9,600"},0,{"v":300,"d":"$ 300"}]
[24,"RIO FRIO","VALLE DEL CAUCA",{"v":9200,"d":"$ 9,200"},0,0,0,{"v":9900,"d":"$ 9,900"},0,0,{"v":21300,"d":"$ 21,300"},0,0,0,{"v":27100,"d":"$ 27,100"},0,{"v":30500,"d":"$ 30,500"},0,0,0,0,{"v":7100,"d":"$ 7,100"},{"v":9300,"d":"$ 9,300"},{"v":9600,"d":"$ 9,600"},{"v":7500,"d":"$ 7,500"},{"v":300,"d":"$ 300"}]
[25,"SACHICA","BOYACA",{"v":9200,"d":"$ 9,200"},0,0,0,{"v":9900,"d":"$ 9,900"},0,0,{"v":21300,"d":"$ 21,300"},0,0,0,{"v":27100,"d":"$ 27,100"},0,{"v":30500,"d":"$ 30,500"},0,0,0,0,{"v":7100,"d":"$ 7,100"},{"v":9300,"d":"$ 9,300"},{"v":9600,"d":"$ 9,600"},0,{"v":300,"d":"$ 300"}]
[26,"SAN CLEMENTE","CALDAS",{"v":9200,"d":"$ 9,200"},0,0,0,{"v":9900,"d":"$ 9,900"},0,0,{"v":21300,"d":"$ 21,300"},0,0,0,{"v":27100,"d":"$ 27,100"},0,{"v":30500,"d":"$ 30,500"},0,0,0,0,{"v":7100,"d":"$ 7,100"},{"v":9300,"d":"$ 9,300"},{"v":9600,"d":"$ 9,600"},0,{"v":300,"d":"$ 300"}]
[27,"TARAZA","ANTIOQUIA",{"v":9400,"d":"$ 9,400"},{"v":6200,"d":"$ 6,200"},0,0,{"v":10500,"d":"$ 10,500"},0,0,{"v":21700,"d":"$ 21,700"},0,0,0,{"v":27600,"d":"$ 27,600"},0,{"v":31200,"d":"$ 31,200"},0,0,0,0,{"v":7100,"d":"$ 7,100"},{"v":9300,"d":"$ 9,300"},{"v":9600,"d":"$ 9,600"},0,{"v":300,"d":"$ 300"}]
[28,"TORO","VALLE DEL CAUCA",{"v":9200,"d":"$ 9,200"},{"v":2600,"d":"$ 2,600"},0,0,{"v":9900,"d":"$ 9,900"},{"v":3000,"d":"$ 3,000"},0,{"v":21300,"d":"$ 21,300"},0,0,0,{"v":27100,"d":"$ 27,100"},0,{"v":30500,"d":"$ 30,500"},0,0,0,0,{"v":7100,"d":"$ 7,100"},{"v":9300,"d":"$ 9,300"},{"v":9600,"d":"$ 9,600"},{"v":7500,"d":"$ 7,500"},{"v":300,"d":"$ 300"}]
[29,"CANO","NARIÑO",{"v":11200,"d":"$ 11,200"},0,0,0,{"v":11900,"d":"$ 11,900"},0,0,{"v":24700,"d":"$ 24,700"},0,0,0,{"v":32400,"d":"$ 32,400"},0,{"v":37500,"d":"$ 37,500"},0,0,0,0,{"v":7200,"d":"$ 7,200"},{"v":10600,"d":"$ 10,600"},{"v":10900,"d":"$ 10,900"},0,{"v":300,"d":"$ 300"}]
[30,"CERRITOS II","RISARALDA",{"v":13400,"d":"$ 13,400"},{"v":2900,"d":"$ 2,900"},0,0,{"v":15300,"d":"$ 15,300"},{"v":9900,"d":"$ 9,900"},0,{"v":37900,"d":"$ 37,900"},0,0,0,{"v":49600,"d":"$ 49,600"},0,{"v":56800,"d":"$ 56,800"},0,0,0,0,{"v":11500,"d":"$ 11,500"},{"v":16800,"d":"$ 16,800"},{"v":17000,"d":"$ 17,000"},0,{"v":200,"d":"$ 200"}]
[{"$f":"A29+1","v":21},"EL BORDO","CAUCA",{"v":9400,"d":"$ 9,400"},0,0,0,{"v":10500,"d":"$ 10,500"},0,0,{"v":21700,"d":"$ 21,700"},0,0,0,{"v":27600,"d":"$ 27,600"},0,{"v":31200,"d":"$ 31,200"},0,0,0,0,{"v":7100,"d":"$ 7,100"},{"v":9300,"d":"$ 9,300"},{"v":9600,"d":"$ 9,600"},0,{"v":300,"d":"$ 300"}]
[{"$f":"A38+1","v":31},"GAMARRA","CESAR",{"v":8800,"d":"$ 8,800"},{"v":200,"d":"$ 200"},0,0,{"v":9800,"d":"$ 9,800"},{"v":200,"d":"$ 200"},{"v":5100,"d":"$ 5,100"},{"v":20900,"d":"$ 20,900"},{"v":10700,"d":"$ 10,700"},0,0,{"v":26500,"d":"$ 26,500"},{"v":13500,"d":"$ 13,500"},{"v":30400,"d":"$ 30,400"},0,{"v":15300,"d":"$ 15,300"},0,0,{"v":7100,"d":"$ 7,100"},{"v":9300,"d":"$ 9,300"},{"v":9600,"d":"$ 9,600"},0,{"v":200,"d":"$ 200"}]
[32,"TUNIA","CAUCA",{"v":9500,"d":"$ 9,500"},{"v":5000,"d":"$ 5,000"},0,0,{"v":11500,"d":"$ 11,500"},{"v":5900,"d":"$ 5,900"},0,{"v":31100,"d":"$ 31,100"},0,0,0,{"v":40500,"d":"$ 40,500"},0,{"v":46600,"d":"$ 46,600"},0,0,0,0,{"v":7100,"d":"$ 7,100"},{"v":22700,"d":"$ 22,700"},{"v":11500,"d":"$ 11,500"},{"v":7100,"d":"$ 7,100"},{"v":200,"d":"$ 200"}]
[33,"AGUAS NEGRAS ","SANTANDER",{"v":11700,"d":"$ 11,700"},0,0,0,{"v":14800,"d":"$ 14,800"},0,0,{"v":34700,"d":"$ 34,700"},0,0,0,{"v":41600,"d":"$ 41,600"},0,{"v":48900,"d":"$ 48,900"},0,0,0,0,{"v":7800,"d":"$ 7,800"},{"v":10800,"d":"$ 10,800"},{"v":11000,"d":"$ 11,000"},0,{"v":200,"d":"$ 200"}]
[34,"LA GOMEZ","SANTANDER",{"v":11700,"d":"$ 11,700"},0,0,0,{"v":14800,"d":"$ 14,800"},0,0,{"v":34700,"d":"$ 34,700"},0,0,0,{"v":41600,"d":"$ 41,600"},0,{"v":48900,"d":"$ 48,900"},0,0,0,0,{"v":7800,"d":"$ 7,800"},{"v":10800,"d":"$ 10,800"},{"v":11000,"d":"$ 11,000"},0,{"v":200,"d":"$ 200"}]
[35,"MORRISON ","CESAR",{"v":10600,"d":"$ 10,600"},0,0,0,{"v":11500,"d":"$ 11,500"},0,0,{"v":23900,"d":"$ 23,900"},0,0,0,{"v":30500,"d":"$ 30,500"},0,{"v":34700,"d":"$ 34,700"},0,0,0,0,{"v":7800,"d":"$ 7,800"},{"v":10800,"d":"$ 10,800"},{"v":11000,"d":"$ 11,000"},0,{"v":200,"d":"$ 200"}]
[36,"PAILITAS ","CESAR",{"v":10600,"d":"$ 10,600"},{"v":5200,"d":"$ 5,200"},0,0,{"v":11500,"d":"$ 11,500"},{"v":200,"d":"$ 200"},{"v":5900,"d":"$ 5,900"},{"v":23900,"d":"$ 23,900"},{"v":12000,"d":"$ 12,000"},0,0,{"v":30500,"d":"$ 30,500"},{"v":15300,"d":"$ 15,300"},{"v":34700,"d":"$ 34,700"},0,{"v":17500,"d":"$ 17,500"},0,0,{"v":7800,"d":"$ 7,800"},{"v":10800,"d":"$ 10,800"},{"v":11000,"d":"$ 11,000"},0,{"v":200,"d":"$ 200"}]
[37,"ZAMBITO ","SANTANDER",{"v":11700,"d":"$ 11,700"},0,0,0,{"v":14800,"d":"$ 14,800"},0,0,{"v":34700,"d":"$ 34,700"},0,0,0,{"v":41600,"d":"$ 41,600"},0,{"v":48900,"d":"$ 48,900"},0,0,0,0,{"v":7800,"d":"$ 7,800"},{"v":10800,"d":"$ 10,800"},{"v":11000,"d":"$ 11,000"},0,{"v":200,"d":"$ 200"}]
[null,"P. Cerritos: Mediante Resolución No.20233040016505 se modifica la tarifa de la Cat I de la Resol No.20233040016165"]
[null,1,{"$f":"+B48+1","v":2},{"$f":"+C48+1","v":3},4,5,6,7,8,9,10,11,12,13,14,15,16,17,18,19,20,21,22]
["No.","Estación de Peaje","Departamento","CATEGORÍAS VEHICULARES 2024",{"$nulls":19},"EJES 2024",{"$nulls":3},"FOSEVI 2024","FOSEVI 2023","DIFERENCIA FOSEVI"]
[{"$nulls":3},"I","IE","IEA","IEB","IEQ","II","IIE","IIEE","IIEQ","III","IIIE","IIIP","IIIG","IV","IVE","V","VB","VE","VI","VII","E. GRUA","E. REMOL.","E. ADIC.","E. CAÑERO"]
[1,"ARCABUCO","BOYACA",{"v":10600,"d":"$ 10,600"},0,0,0,0,{"v":11400,"d":"$ 11,400"},0,0,0,{"v":24300,"d":"$ 24,300"},0,0,0,{"v":30900,"d":"$ 30,900"},0,{"v":34700,"d":"$ 34,700"},0,0,0,0,{"v":8000,"d":"$ 8,000"},{"v":10500,"d":"$ 10,500"},{"v":10900,"d":"$ 10,900"},0,{"v":500,"d":"$ 500"},{"v":300,"d":"$ 300"},{"v":200,"d":"$ 200"}]
[2,"BICENTENARIO","CUNDINAMARCA",{"v":11400,"d":"$ 11,400"},{"v":5700,"d":"$ 5,700"},0,0,0,{"v":14800,"d":"$ 14,800"},{"v":7100,"d":"$ 7,100"},0,0,{"v":34500,"d":"$ 34,500"},0,0,0,{"v":41800,"d":"$ 41,800"},0,{"v":48500,"d":"$ 48,500"},0,0,0,0,{"v":8000,"d":"$ 8,000"},{"v":10500,"d":"$ 10,500"},{"v":10900,"d":"$ 10,900"},0,{"v":500,"d":"$ 500"},{"v":300,"d":"$ 300"},{"v":200,"d":"$ 200"}]
[3,"T. LA LINEA TOLIMA","TOLIMA",{"v":10800,"d":"$ 10,800"},{"v":2600,"d":"$ 2,600"},0,0,0,{"v":12100,"d":"$ 12,100"},{"v":2600,"d":"$ 2,600"},0,0,{"v":24700,"d":"$ 24,700"},0,0,0,{"v":31400,"d":"$ 31,400"},0,{"v":35500,"d":"$ 35,500"},0,0,0,0,{"v":8000,"d":"$ 8,000"},{"v":10500,"d":"$ 10,500"},{"v":10900,"d":"$ 10,900"},0,{"v":500,"d":"$ 500"},{"v":300,"d":"$ 300"},{"v":200,"d":"$ 200"}]
[4,"T. LA LINEA QUINDIO","QUINDIO",{"v":10800,"d":"$ 10,800"},{"v":2600,"d":"$ 2,600"},0,0,{"v":3800,"d":"$ 3,800"},{"v":12100,"d":"$ 12,100"},{"v":2600,"d":"$ 2,600"},0,{"v":3800,"d":"$ 3,800"},{"v":24700,"d":"$ 24,700"},0,0,0,{"v":31400,"d":"$ 31,400"},0,{"v":35500,"d":"$ 35,500"},0,0,0,0,{"v":8000,"d":"$ 8,000"},{"v":10500,"d":"$ 10,500"},{"v":10900,"d":"$ 10,900"},0,{"v":500,"d":"$ 500"},{"v":300,"d":"$ 300"},{"v":200,"d":"$ 200"}]
[5,"CANO","NARIÑO",{"v":12900,"d":"$ 12,900"},0,0,0,0,{"v":13700,"d":"$ 13,700"},0,0,0,{"v":28100,"d":"$ 28,100"},0,0,0,{"v":36900,"d":"$ 36,900"},0,{"v":42600,"d":"$ 42,600"},0,0,0,0,{"v":8100,"d":"$ 8,100"},{"v":12000,"d":"$ 12,000"},{"v":12300,"d":"$ 12,300"},0,{"v":500,"d":"$ 500"},{"v":300,"d":"$ 300"},{"v":200,"d":"$ 200"}]
[6,"CARIMAGUA","CORDOBA",{"v":15400,"d":"$ 15,400"},0,0,0,0,{"v":22100,"d":"$ 22,100"},0,0,0,{"v":22100,"d":"$ 22,100"},0,0,0,{"v":22100,"d":"$ 22,100"},0,{"v":40000,"d":"$ 40,000"},0,0,{"v":63400,"d":"$ 63,400"},{"v":73200,"d":"$ 73,200"},0,0,0,0,{"v":500,"d":"$ 500"},{"v":300,"d":"$ 300"},{"v":200,"d":"$ 200"}]
[7,"EL CRUCERO","BOYACA",{"v":10600,"d":"$ 10,600"},{"v":2800,"d":"$ 2,800"},0,0,0,{"v":11400,"d":"$ 11,400"},{"v":3000,"d":"$ 3,000"},0,0,{"v":24300,"d":"$ 24,300"},0,0,0,{"v":30900,"d":"$ 30,900"},0,{"v":34700,"d":"$ 34,700"},0,0,0,0,{"v":8000,"d":"$ 8,000"},{"v":10500,"d":"$ 10,500"},{"v":10900,"d":"$ 10,900"},0,{"v":500,"d":"$ 500"},{"v":300,"d":"$ 300"},{"v":200,"d":"$ 200"}]
[8,"EL BORDO","CAUCA",{"v":10800,"d":"$ 10,800"},0,0,0,0,{"v":12100,"d":"$ 12,100"},0,0,0,{"v":24700,"d":"$ 24,700"},0,0,0,{"v":31400,"d":"$ 31,400"},0,{"v":35500,"d":"$ 35,500"},0,0,0,0,{"v":8000,"d":"$ 8,000"},{"v":10500,"d":"$ 10,500"},{"v":10900,"d":"$ 10,900"},0,{"v":500,"d":"$ 500"},{"v":300,"d":"$ 300"},{"v":200,"d":"$ 200"}]
[9,"LOS LLANOS","ANTIOQUIA",{"v":10800,"d":"$ 10,800"},{"v":5700,"d":"$ 5,700"},0,0,0,{"v":12100,"d":"$ 12,100"},{"v":6100,"d":"$ 6,100"},0,0,{"v":24700,"d":"$ 24,700"},0,0,0,{"v":31400,"d":"$ 31,400"},0,{"v":35500,"d":"$ 35,500"},0,0,0,0,{"v":8000,"d":"$ 8,000"},{"v":10500,"d":"$ 10,500"},{"v":10900,"d":"$ 10,900"},0,{"v":500,"d":"$ 500"},{"v":300,"d":"$ 300"},{"v":200,"d":"$ 200"}]
[10,"RIO BLANCO","SANTANDER",{"v":10800,"d":"$ 10,800"},{"v":3600,"d":"$ 3,600"},0,0,0,{"v":12100,"d":"$ 12,100"},{"v":4700,"d":"$ 4,700"},0,0,{"v":24700,"d":"$ 24,700"},0,0,0,{"v":31400,"d":"$ 31,400"},0,{"v":35500,"d":"$ 35,500"},0,0,0,0,{"v":8000,"d":"$ 8,000"},{"v":10500,"d":"$ 10,500"},{"v":10900,"d":"$ 10,900"},0,{"v":500,"d":"$ 500"},{"v":300,"d":"$ 300"},{"v":200,"d":"$ 200"}]
[11,"RIO FRIO","VALLE DEL CAUCA",{"v":10600,"d":"$ 10,600"},0,0,0,0,{"v":11400,"d":"$ 11,400"},0,0,0,{"v":24300,"d":"$ 24,300"},0,0,0,{"v":30900,"d":"$ 30,900"},0,{"v":34700,"d":"$ 34,700"},0,0,0,0,{"v":8000,"d":"$ 8,000"},{"v":10500,"d":"$ 10,500"},{"v":10900,"d":"$ 10,900"},{"v":8500,"d":"$ 8,500"},{"v":500,"d":"$ 500"},{"v":300,"d":"$ 300"},{"v":200,"d":"$ 200"}]
[12,"SACHICA","BOYACA",{"v":10600,"d":"$ 10,600"},{"v":3600,"d":"$ 3,600"},0,0,0,{"v":11400,"d":"$ 11,400"},{"v":3600,"d":"$ 3,600"},0,0,{"v":24300,"d":"$ 24,300"},0,0,0,{"v":30900,"d":"$ 30,900"},0,{"v":34700,"d":"$ 34,700"},0,0,0,0,{"v":8000,"d":"$ 8,000"},{"v":10500,"d":"$ 10,500"},{"v":10900,"d":"$ 10,900"},0,{"v":500,"d":"$ 500"},{"v":300,"d":"$ 300"},{"v":200,"d":"$ 200"}]
[13,"SAN CLEMENTE","CALDAS",{"v":10600,"d":"$ 10,600"},0,0,0,0,{"v":11400,"d":"$ 11,400"},0,0,0,{"v":24300,"d":"$ 24,300"},0,0,0,{"v":30900,"d":"$ 30,900"},0,{"v":34700,"d":"$ 34,700"},0,0,0,0,{"v":8000,"d":"$ 8,000"},{"v":10500,"d":"$ 10,500"},{"v":10900,"d":"$ 10,900"},0,{"v":500,"d":"$ 500"},{"v":300,"d":"$ 300"},{"v":200,"d":"$ 200"}]
[14,"TORO","VALLE DEL CAUCA",{"v":10600,"d":"$ 10,600"},{"v":3100,"d":"$ 3,100"},0,0,0,{"v":11400,"d":"$ 11,400"},{"v":3600,"d":"$ 3,600"},0,0,{"v":24300,"d":"$ 24,300"},0,0,0,{"v":30900,"d":"$ 30,900"},0,{"v":34700,"d":"$ 34,700"},0,0,0,0,{"v":8000,"d":"$ 8,000"},{"v":10500,"d":"$ 10,500"},{"v":10900,"d":"$ 10,900"},{"v":8500,"d":"$ 8,500"},{"v":500,"d":"$ 500"},{"v":300,"d":"$ 300"},{"v":200,"d":"$ 200"}]
[15,"TARAZA","ANTIOQUIA",{"v":10800,"d":"$ 10,800"},{"v":7200,"d":"$ 7,200"},0,0,0,{"v":12100,"d":"$ 12,100"},0,0,0,{"v":24700,"d":"$ 24,700"},0,0,0,{"v":31400,"d":"$ 31,400"},0,{"v":35500,"d":"$ 35,500"},0,0,0,0,{"v":8000,"d":"$ 8,000"},{"v":10500,"d":"$ 10,500"},{"v":10900,"d":"$ 10,900"},0,{"v":500,"d":"$ 500"},{"v":300,"d":"$ 300"},{"v":200,"d":"$ 200"}]
[16,"CASABLANCA","CUNDINAMARCA",{"v":10500,"d":"$ 10,500"},0,0,0,0,{"v":11300,"d":"$ 11,300"},0,0,0,{"v":29200,"d":"$ 29,200"},0,0,0,{"v":36200,"d":"$ 36,200"},0,{"v":42300,"d":"$ 42,300"},0,0,0,0,{"v":8500,"d":"$ 8,500"},{"v":12200,"d":"$ 12,200"},{"v":12400,"d":"$ 12,400"},0,{"v":500,"d":"$ 500"},{"v":300,"d":"$ 300"},{"v":200,"d":"$ 200"}]
[17,"SABOYÁ","BOYACA",{"v":10500,"d":"$ 10,500"},{"v":2900,"d":"$ 2,900"},0,0,0,{"v":11300,"d":"$ 11,300"},{"v":2900,"d":"$ 2,900"},0,0,{"v":29200,"d":"$ 29,200"},0,0,0,{"v":36200,"d":"$ 36,200"},0,{"v":42300,"d":"$ 42,300"},0,0,0,0,{"v":8500,"d":"$ 8,500"},{"v":12200,"d":"$ 12,200"},{"v":12400,"d":"$ 12,400"},0,{"v":500,"d":"$ 500"},{"v":300,"d":"$ 300"},{"v":200,"d":"$ 200"}]
[18,"OIBA","SANTANDER",{"v":10500,"d":"$ 10,500"},{"v":1100,"d":"$ 1,100"},0,0,0,{"v":11300,"d":"$ 11,300"},{"v":1100,"d":"$ 1,100"},0,0,{"v":29200,"d":"$ 29,200"},0,0,0,{"v":36200,"d":"$ 36,200"},0,{"v":42300,"d":"$ 42,300"},0,0,0,0,{"v":8500,"d":"$ 8,500"},{"v":12200,"d":"$ 12,200"},{"v":12400,"d":"$ 12,400"},0,{"v":500,"d":"$ 500"},{"v":300,"d":"$ 300"},{"v":200,"d":"$ 200"}]
[19,"CURITI","SANTANDER",{"v":10500,"d":"$ 10,500"},{"v":8000,"d":"$ 8,000"},0,0,0,{"v":11300,"d":"$ 11,300"},0,0,0,{"v":29200,"d":"$ 29,200"},0,0,0,{"v":36200,"d":"$ 36,200"},0,{"v":42300,"d":"$ 42,300"},0,0,0,0,{"v":8500,"d":"$ 8,500"},{"v":12200,"d":"$ 12,200"},{"v":12400,"d":"$ 12,400"},0,{"v":500,"d":"$ 500"},{"v":300,"d":"$ 300"},{"v":200,"d":"$ 200"}]
[20,"LOS CUROS","SANTANDER",{"v":10500,"d":"$ 10,500"},0,0,0,0,{"v":11300,"d":"$ 11,300"},0,0,0,{"v":29200,"d":"$ 29,200"},0,0,0,{"v":36200,"d":"$ 36,200"},0,{"v":42300,"d":"$ 42,300"},0,0,0,0,{"v":8500,"d":"$ 8,500"},{"v":12200,"d":"$ 12,200"},{"v":12400,"d":"$ 12,400"},0,{"v":500,"d":"$ 500"},{"v":300,"d":"$ 300"},{"v":200,"d":"$ 200"}]
[21,"PLATANAL","CESAR",{"v":10300,"d":"$ 10,300"},{"v":500,"d":"$ 500"},0,0,0,{"v":11400,"d":"$ 11,400"},{"v":500,"d":"$ 500"},{"v":6100,"d":"$ 6,100"},0,{"v":23900,"d":"$ 23,900"},{"v":12400,"d":"$ 12,400"},0,0,{"v":30300,"d":"$ 30,300"},{"v":15600,"d":"$ 15,600"},{"v":34700,"d":"$ 34,700"},0,{"v":17600,"d":"$ 17,600"},0,0,{"v":8000,"d":"$ 8,000"},{"v":10500,"d":"$ 10,500"},{"v":10900,"d":"$ 10,900"},0,{"v":500,"d":"$ 500"},{"v":200,"d":"$ 200"},{"v":300,"d":"$ 300"}]
[22,"SAN DIEGO","CESAR",{"v":6200,"d":"$ 6,200"},{"v":4400,"d":"$ 4,400"},0,0,0,{"v":6600,"d":"$ 6,600"},0,0,0,{"v":7200,"d":"$ 7,200"},0,0,0,{"v":7700,"d":"$ 7,700"},0,{"v":15800,"d":"$ 15,800"},{"v":33900,"d":"$ 33,900"},0,{"v":45200,"d":"$ 45,200"},{"v":51300,"d":"$ 51,300"},0,0,0,0,{"v":500,"d":"$ 500"},{"v":200,"d":"$ 200"},{"v":300,"d":"$ 300"}]
[23,"RINCÓN HONDO","CESAR",{"v":12200,"d":"$ 12,200"},0,0,0,0,{"v":12900,"d":"$ 12,900"},0,0,0,{"v":13900,"d":"$ 13,900"},0,0,0,{"v":14800,"d":"$ 14,800"},0,{"v":15900,"d":"$ 15,900"},{"v":33900,"d":"$ 33,900"},0,{"v":45200,"d":"$ 45,200"},{"v":51800,"d":"$ 51,800"},0,0,0,0,{"v":500,"d":"$ 500"},{"v":200,"d":"$ 200"},{"v":300,"d":"$ 300"}]
[24,"SAN JUAN","CESAR",0,0,{"v":6200,"d":"$ 6,200"},{"v":2800,"d":"$ 2,800"},0,{"v":12200,"d":"$ 12,200"},{"v":2800,"d":"$ 2,800"},0,0,{"v":24800,"d":"$ 24,800"},0,0,0,{"v":31500,"d":"$ 31,500"},0,{"v":35600,"d":"$ 35,600"},0,0,0,0,{"v":6300,"d":"$ 6,300"},{"v":8400,"d":"$ 8,400"},{"v":8600,"d":"$ 8,600"},0,{"v":500,"d":"$ 500"},{"v":200,"d":"$ 200"},{"v":300,"d":"$ 300"}]
[25,"COCORNA","ANTIOQUIA",{"v":15600,"d":"$ 15,600"},{"v":1500,"d":"$ 1,500"},0,0,0,{"v":24300,"d":"$ 24,300"},{"v":1500,"d":"$ 1,500"},0,0,{"v":21300,"d":"$ 21,300"},{"v":1500,"d":"$ 1,500"},0,0,{"v":26400,"d":"$ 26,400"},{"v":1500,"d":"$ 1,500"},{"v":52800,"d":"$ 52,800"},0,0,{"v":75100,"d":"$ 75,100"},{"v":75100,"d":"$ 75,100"},0,0,0,0,{"v":500,"d":"$ 500"},{"v":200,"d":"$ 200"},{"v":300,"d":"$ 300"}]
[26,"PUERTO TRIUNFO","ANTIOQUIA",{"v":15600,"d":"$ 15,600"},0,0,0,0,{"v":24300,"d":"$ 24,300"},0,0,0,{"v":21300,"d":"$ 21,300"},0,0,0,{"v":26400,"d":"$ 26,400"},0,{"v":52800,"d":"$ 52,800"},0,0,{"v":75100,"d":"$ 75,100"},{"v":75100,"d":"$ 75,100"},0,0,0,0,{"v":500,"d":"$ 500"},{"v":200,"d":"$ 200"},{"v":300,"d":"$ 300"}]
[27,"CERRITOS II","RISARALDA",{"v":15500,"d":"$ 15,500"},{"v":3600,"d":"$ 3,600"},0,0,0,{"v":17600,"d":"$ 17,600"},{"v":11500,"d":"$ 11,500"},0,0,{"v":43200,"d":"$ 43,200"},0,0,0,{"v":56400,"d":"$ 56,400"},0,{"v":64600,"d":"$ 64,600"},0,0,0,0,{"v":13000,"d":"$ 13,000"},{"v":19000,"d":"$ 19,000"},{"v":19200,"d":"$ 19,200"},0,{"v":500,"d":"$ 500"},{"v":200,"d":"$ 200"},{"v":300,"d":"$ 300"}]
[28,"LA PARADA","NORTE DE SANTANDER",{"v":2400,"d":"$ 2,400"},0,0,0,0,{"v":2400,"d":"$ 2,400"},0,0,0,{"v":2400,"d":"$ 2,400"},0,0,0,{"v":2400,"d":"$ 2,400"},0,{"v":2400,"d":"$ 2,400"},0,0,0,0,{"v":2400,"d":"$ 2,400"},0,{"v":2400,"d":"$ 2,400"},0,0,0,0]
[29,"EL KORAN","CUNDINAMARCA",{"v":16500,"d":"$ 16,500"},{"v":3800,"d":"$ 3,800"},0,0,0,{"v":23000,"d":"$ 23,000"},{"v":3800,"d":"$ 3,800"},0,0,0,0,{"v":32300,"d":"$ 32,300"},{"v":32300,"d":"$ 32,300"},{"v":67200,"d":"$ 67,200"},0,{"v":83400,"d":"$ 83,400"},0,0,{"v":98900,"d":"$ 98,900"},0,{"v":8100,"d":"$ 8,100"},{"v":11000,"d":"$ 11,000"},{"v":11400,"d":"$ 11,400"},0,{"v":500,"d":"$ 500"},{"v":200,"d":"$ 200"},{"v":300,"d":"$ 300"}]
[30,"RIO BOGOTA","CUNDINAMARCA",{"v":11200,"d":"$ 11,200"},{"v":500,"d":"$ 500"},0,0,0,{"v":16700,"d":"$ 16,700"},{"v":500,"d":"$ 500"},0,0,{"v":14600,"d":"$ 14,600"},{"v":500,"d":"$ 500"},0,0,{"v":19300,"d":"$ 19,300"},{"v":500,"d":"$ 500"},{"v":32700,"d":"$ 32,700"},0,0,{"v":44100,"d":"$ 44,100"},{"v":47700,"d":"$ 47,700"},0,0,0,0,{"v":500,"d":"$ 500"}]
[30,"CORZO","CUNDINAMARCA",{"v":11200,"d":"$ 11,200"},{"v":500,"d":"$ 500"},0,0,0,{"v":16700,"d":"$ 16,700"},{"v":500,"d":"$ 500"},0,0,{"v":14600,"d":"$ 14,600"},{"v":500,"d":"$ 500"},0,0,{"v":19300,"d":"$ 19,300"},{"v":500,"d":"$ 500"},{"v":32700,"d":"$ 32,700"},0,0,{"v":44100,"d":"$ 44,100"},{"v":47700,"d":"$ 47,700"},0,0,0,0,{"v":500,"d":"$ 500"}]

{"sheet":"FORMULARIO","index":3,"n_rows":2004,"n_cols":27,"rows_kept":2004,"merged":[[4,2,4,3],[6,2,6,4],[8,2,8,8],[8,10,8,12],[8,13,8,15],[8,21,8,22],[10,3,10,8],[10,10,10,12],[10,13,10,18],[10,19,10,20],[10,21,10,22],[11,3,11,8],[12,3,12,8],[12,13,12,18],[45,0,45,1]]}
[]
[null,"F-GF-019","FORMULARIO DE COMPRA",{"$nulls":22},1]
[null,null,"TIQUETES PREPAGO",{"$nulls":22},{"$f":"+Z2+1","v":2}]
[" ","VERSIÓN ","010",{"$nulls":22},{"$f":"+Z3+1","v":3}]
[null,"FECHA VERSIÓN","2024-04-01",{"$nulls":22},4]
[{"$nulls":25},5]
[null,"Fecha",{"$nulls":23},6]
[{"$nulls":25},7]
[null,"Nombre del Cliente",{"$nulls":8},"Documento ID",{"$nulls":9},"No.",{"$nulls":4},8]
[{"$nulls":25},9]
[null,"Direccion de envio Tiquetes",null," ",{"$nulls":6},"Ciudad",{"$nulls":8},"Departamento",{"$nulls":5},10]
[null,"Contacto",null," ",{"$nulls":21},11]
[null,"N° Celular Contacto",{"$nulls":10},"E_MAIL"," ",{"$nulls":11},12]
[{"$nulls":25},13]
["No.","Peaje","DEPARTAMENTO","Cant",{"$f":"+CONCATENATE(\"Tar Cat \",TARIFAS!D9)","v":"Tar Cat I"},"Cant",{"$f":"+CONCATENATE(\"Tar Cat \",TARIFAS!H9)","v":"Tar Cat II"},"Cant",{"$f":"+CONCATENATE(\"Tar Cat \",TARIFAS!K9)","v":"Tar Cat III"},"Cant",{"$f":"+CONCATENATE(\"Tar Cat \",TARIFAS!M9)","v":"Tar Cat IIIP"},"Cant",{"$f":"+CONCATENATE(\"Tar Cat \",TARIFAS!N9)","v":"Tar Cat IIIG"},"Cant",{"$f":"+CONCATENATE(\"Tar Cat \",TARIFAS!O9)","v":"Tar Cat IV"},"Cant",{"$f":"+CONCATENATE(\"Tar Cat \",TARIFAS!Q9)","v":"Tar Cat V"},"Cant",{"$f":"+CONCATENATE(\"Tar Cat \",TARIFAS!T9)","v":"Tar Cat VI"},"Cant",{"$f":"+CONCATENATE(\"Tar Cat \",TARIFAS!U9)","v":"Tar Cat VII"},"Total Cant","Valor total",null,null,14,{"$f":"+K9","v":"Documento ID"}]
[{"$f":"IF(B16>\"\",1,\"\")","v":1},"RIO BOGOTA",{"$f":"IF(B16=\"\",\"\",VLOOKUP(B16,TARIFAS!$B$49:$C$81,2,0))","v":"CUNDINAMARCA"},null,{"$f":"IF(B16=\"\",\"\",VLOOKUP(B16,TARIFAS!$B$51:$W$81,3,0))","v":{"v":11200,"d":"11,200"}},null,{"$f":"IF(B16=\"\",\"\",VLOOKUP(B16,TARIFAS!$B$51:$W$81,8,0))","v":{"v":16700,"d":"16,700"}},null,{"$f":"IF(B16=\"\",\"\",VLOOKUP(B16,TARIFAS!$B$51:$W$81,12,0))","v":{"v":14600,"d":"14,600"}},null,{"$f":"IF(B16=\"\",\"\",VLOOKUP(B16,TARIFAS!$B$51:$W$81,14,0))","v":0},null,{"$f":"IF(B16=\"\",\"\",VLOOKUP(B16,TARIFAS!$B$51:$W$81,15,0))","v":0},null,{"$f":"IF(B16=\"\",\"\",VLOOKUP(B16,TARIFAS!$B$51:$W$81,16,0))","v":{"v":19300,"d":"19,300"}},null,{"$f":"IF(B16=\"\",\"\",VLOOKUP(B16,TARIFAS!$B$51:$W$81,18,0))","v":{"v":32700,"d":"32,700"}},null,{"$f":"IF(B16=\"\",\"\",VLOOKUP(B16,TARIFAS!$B$51:$W$81,21,0))","v":{"v":44100,"d":"44,100"}},null,{"$f":"IF(B16=\"\",\"\",VLOOKUP(B16,TARIFAS!$B$51:$W$81,22,0))","v":{"v":47700,"d":"47,700"}},{"$f":"+IF(B16=\"\",\"\",IF(B16=$AA$32,D16+F16+H16+J16+L16+N16+P16+R16+T16,IF(B16=$AA$33,D16+F16+H16+J16+L16+N16+P16+R16+T16,IF(B16=$AA$34,D16+F16+H16+N16+P16+R16+T16,IF(B16=$AA$35,D16+F16+H16+N16+P16+R16+T16,IF(B16=$AA$36,D16+F16+H16+J16+L16+N16+P16+R16+T16,SUM(D16,F16,H16,N16,P16)))))))","v":0},{"$f":"+IF(C16=\"\",0,(D16*E16)+(F16*G16)+(H16*I16)+(J16*K16)+(L16*M16)+(N16*O16)+(P16*Q16)+(R16*S16)+(T16*U16))","v":0},null,null,15]
[{"$f":"IF(A16<1,\"\",IF(B17=\"\",\"\",IF(A16=\"\",\"\",A16+1)))","v":""},null,{"$f":"IF(B17=\"\",\"\",VLOOKUP(B17,TARIFAS!$B$49:$C$81,2,0))","v":""},null,{"$f":"IF(B17=\"\",\"\",VLOOKUP(B17,TARIFAS!$B$51:$W$81,3,0))","v":""},null,{"$f":"IF(B17=\"\",\"\",VLOOKUP(B17,TARIFAS!$B$51:$W$81,8,0))","v":""},null,{"$f":"IF(B17=\"\",\"\",VLOOKUP(B17,TARIFAS!$B$51:$W$81,12,0))","v":""},null,{"$f":"IF(B17=\"\",\"\",VLOOKUP(B17,TARIFAS!$B$51:$W$81,14,0))","v":""},null,{"$f":"IF(B17=\"\",\"\",VLOOKUP(B17,TARIFAS!$B$51:$W$81,15,0))","v":""},null,{"$f":"IF(B17=\"\",\"\",VLOOKUP(B17,TARIFAS!$B$51:$W$81,16,0))","v":""},null,{"$f":"IF(B17=\"\",\"\",VLOOKUP(B17,TARIFAS!$B$51:$W$81,18,0))","v":""},null,{"$f":"IF(B17=\"\",\"\",VLOOKUP(B17,TARIFAS!$B$51:$W$81,21,0))","v":""},null,{"$f":"IF(B17=\"\",\"\",VLOOKUP(B17,TARIFAS!$B$51:$W$81,22,0))","v":""},{"$f":"+IF(B17=\"\",\"\",IF(B17=$AA$32,D17+F17+H17+J17+L17+N17+P17+R17+T17,IF(B17=$AA$33,D17+F17+H17+J17+L17+N17+P17+R17+T17,IF(B17=$AA$34,D17+F17+H17+N17+P17+R17+T17,IF(B17=$AA$35,D17+F17+H17+N17+P17+R17+T17,IF(B17=$AA$36,D17+F17+H17+J17+L17+N17+P17+R17+T17,SUM(D17,F17,H17,N17,P17)))))))","v":""},{"$f":"+IF(C17=\"\",0,(D17*E17)+(F17*G17)+(H17*I17)+(J17*K17)+(L17*M17)+(N17*O17)+(P17*Q17)+(R17*S17)+(T17*U17))","v":0},null,null,16,"NIT"]
["",null,{"$f":"IF(B18=\"\",\"\",VLOOKUP(B18,TARIFAS!$B$49:$C$81,2,0))","v":""},null,{"$f":"IF(B18=\"\",\"\",VLOOKUP(B18,TARIFAS!$B$51:$W$81,3,0))","v":""},null,{"$f":"IF(B18=\"\",\"\",VLOOKUP(B18,TARIFAS!$B$51:$W$81,8,0))","v":""},null,{"$f":"IF(B18=\"\",\"\",VLOOKUP(B18,TARIFAS!$B$51:$W$81,12,0))","v":""},null,{"$f":"IF(B18=\"\",\"\",VLOOKUP(B18,TARIFAS!$B$51:$W$81,14,0))","v":""},null,{"$f":"IF(B18=\"\",\"\",VLOOKUP(B18,TARIFAS!$B$51:$W$81,15,0))","v":""},null,{"$f":"IF(B18=\"\",\"\",VLOOKUP(B18,TARIFAS!$B$51:$W$81,16,0))","v":""},null,{"$f":"IF(B18=\"\",\"\",VLOOKUP(B18,TARIFAS!$B$51:$W$81,18,0))","v":""},null,{"$f":"IF(B18=\"\",\"\",VLOOKUP(B18,TARIFAS!$B$51:$W$81,21,0))","v":""},null,{"$f":"IF(B18=\"\",\"\",VLOOKUP(B18,TARIFAS!$B$51:$W$81,22,0))","v":""},{"$f":"+IF(B18=\"\",\"\",IF(B18=$AA$32,D18+F18+H18+J18+L18+N18+P18+R18+T18,IF(B18=$AA$33,D18+F18+H18+J18+L18+N18+P18+R18+T18,IF(B18=$AA$34,D18+F18+H18+N18+P18+R18+T18,IF(B18=$AA$35,D18+F18+H18+N18+P18+R18+T18,SUM(D18,F18,H18,N18,P18))))))","v":""},0,null,null,17,"Pasaporte"]
["",null,{"$f":"IF(B19=\"\",\"\",VLOOKUP(B19,TARIFAS!$B$49:$C$81,2,0))","v":""},null,{"$f":"IF(B19=\"\",\"\",VLOOKUP(B19,TARIFAS!$B$51:$W$81,3,0))","v":""},null,{"$f":"IF(B19=\"\",\"\",VLOOKUP(B19,TARIFAS!$B$51:$W$81,8,0))","v":""},null,{"$f":"IF(B19=\"\",\"\",VLOOKUP(B19,TARIFAS!$B$51:$W$81,12,0))","v":""},null,{"$f":"IF(B19=\"\",\"\",VLOOKUP(B19,TARIFAS!$B$51:$W$81,14,0))","v":""},null,{"$f":"IF(B19=\"\",\"\",VLOOKUP(B19,TARIFAS!$B$51:$W$81,15,0))","v":""},null,{"$f":"IF(B19=\"\",\"\",VLOOKUP(B19,TARIFAS!$B$51:$W$81,16,0))","v":""},null,{"$f":"IF(B19=\"\",\"\",VLOOKUP(B19,TARIFAS!$B$51:$W$81,18,0))","v":""},null,{"$f":"IF(B19=\"\",\"\",VLOOKUP(B19,TARIFAS!$B$51:$W$81,21,0))","v":""},null,{"$f":"IF(B19=\"\",\"\",VLOOKUP(B19,TARIFAS!$B$51:$W$81,22,0))","v":""},"",0,null,null,18,"Cedula de Ciudadania"]
["",null,{"$f":"IF(B20=\"\",\"\",VLOOKUP(B20,TARIFAS!$B$49:$C$81,2,0))","v":""},null,{"$f":"IF(B20=\"\",\"\",VLOOKUP(B20,TARIFAS!$B$51:$W$81,3,0))","v":""},null,{"$f":"IF(B20=\"\",\"\",VLOOKUP(B20,TARIFAS!$B$51:$W$81,8,0))","v":""},null,{"$f":"IF(B20=\"\",\"\",VLOOKUP(B20,TARIFAS!$B$51:$W$81,12,0))","v":""},null,{"$f":"IF(B20=\"\",\"\",VLOOKUP(B20,TARIFAS!$B$51:$W$81,14,0))","v":""},null,{"$f":"IF(B20=\"\",\"\",VLOOKUP(B20,TARIFAS!$B$51:$W$81,15,0))","v":""},null,{"$f":"IF(B20=\"\",\"\",VLOOKUP(B20,TARIFAS!$B$51:$W$81,16,0))","v":""},null,{"$f":"IF(B20=\"\",\"\",VLOOKUP(B20,TARIFAS!$B$51:$W$81,18,0))","v":""},null,{"$f":"IF(B20=\"\",\"\",VLOOKUP(B20,TARIFAS!$B$51:$W$81,21,0))","v":""},null,{"$f":"IF(B20=\"\",\"\",VLOOKUP(B20,TARIFAS!$B$51:$W$81,22,0))","v":""},"",0,null,null,19,"Cedula de Extranjeria"]
["",null,{"$f":"IF(B21=\"\",\"\",VLOOKUP(B21,TARIFAS!$B$49:$C$81,2,0))","v":""},null,{"$f":"IF(B21=\"\",\"\",VLOOKUP(B21,TARIFAS!$B$51:$W$81,3,0))","v":""},null,{"$f":"IF(B21=\"\",\"\",VLOOKUP(B21,TARIFAS!$B$51:$W$81,8,0))","v":""},null,{"$f":"IF(B21=\"\",\"\",VLOOKUP(B21,TARIFAS!$B$51:$W$81,12,0))","v":""},null,{"$f":"IF(B21=\"\",\"\",VLOOKUP(B21,TARIFAS!$B$51:$W$81,14,0))","v":""},null,{"$f":"IF(B21=\"\",\"\",VLOOKUP(B21,TARIFAS!$B$51:$W$81,15,0))","v":""},null,{"$f":"IF(B21=\"\",\"\",VLOOKUP(B21,TARIFAS!$B$51:$W$81,16,0))","v":""},null,{"$f":"IF(B21=\"\",\"\",VLOOKUP(B21,TARIFAS!$B$51:$W$81,18,0))","v":""},null,{"$f":"IF(B21=\"\",\"\",VLOOKUP(B21,TARIFAS!$B$51:$W$81,21,0))","v":""},null,{"$f":"IF(B21=\"\",\"\",VLOOKUP(B21,TARIFAS!$B$51:$W$81,22,0))","v":""},"",0,null,null,20,"Otro"]
["",null,{"$f":"IF(B22=\"\",\"\",VLOOKUP(B22,TARIFAS!$B$49:$C$81,2,0))","v":""},null,{"$f":"IF(B22=\"\",\"\",VLOOKUP(B22,TARIFAS!$B$51:$W$81,3,0))","v":""},null,{"$f":"IF(B22=\"\",\"\",VLOOKUP(B22,TARIFAS!$B$51:$W$81,8,0))","v":""},null,{"$f":"IF(B22=\"\",\"\",VLOOKUP(B22,TARIFAS!$B$51:$W$81,12,0))","v":""},null,{"$f":"IF(B22=\"\",\"\",VLOOKUP(B22,TARIFAS!$B$51:$W$81,14,0))","v":""},null,{"$f":"IF(B22=\"\",\"\",VLOOKUP(B22,TARIFAS!$B$51:$W$81,15,0))","v":""},null,{"$f":"IF(B22=\"\",\"\",VLOOKUP(B22,TARIFAS!$B$51:$W$81,16,0))","v":""},null,{"$f":"IF(B22=\"\",\"\",VLOOKUP(B22,TARIFAS!$B$51:$W$81,18,0))","v":""},null,{"$f":"IF(B22=\"\",\"\",VLOOKUP(B22,TARIFAS!$B$51:$W$81,21,0))","v":""},null,{"$f":"IF(B22=\"\",\"\",VLOOKUP(B22,TARIFAS!$B$51:$W$81,22,0))","v":""},"",0,null,null,21]
["",null,{"$f":"IF(B23=\"\",\"\",VLOOKUP(B23,TARIFAS!$B$49:$C$81,2,0))","v":""},null,{"$f":"IF(B23=\"\",\"\",VLOOKUP(B23,TARIFAS!$B$51:$W$81,3,0))","v":""},null,{"$f":"IF(B23=\"\",\"\",VLOOKUP(B23,TARIFAS!$B$51:$W$81,8,0))","v":""},null,{"$f":"IF(B23=\"\",\"\",VLOOKUP(B23,TARIFAS!$B$51:$W$81,12,0))","v":""},null,{"$f":"IF(B23=\"\",\"\",VLOOKUP(B23,TARIFAS!$B$51:$W$81,14,0))","v":""},null,{"$f":"IF(B23=\"\",\"\",VLOOKUP(B23,TARIFAS!$B$51:$W$81,15,0))","v":""},null,{"$f":"IF(B23=\"\",\"\",VLOOKUP(B23,TARIFAS!$B$51:$W$81,16,0))","v":""},null,{"$f":"IF(B23=\"\",\"\",VLOOKUP(B23,TARIFAS!$B$51:$W$81,18,0))","v":""},null,{"$f":"IF(B23=\"\",\"\",VLOOKUP(B23,TARIFAS!$B$51:$W$81,21,0))","v":""},null,{"$f":"IF(B23=\"\",\"\",VLOOKUP(B23,TARIFAS!$B$51:$W$81,22,0))","v":""},"",0,null,null,22,"ARCABUCO"]
["",null,{"$f":"IF(B24=\"\",\"\",VLOOKUP(B24,TARIFAS!$B$49:$C$81,2,0))","v":""},null,{"$f":"IF(B24=\"\",\"\",VLOOKUP(B24,TARIFAS!$B$51:$W$81,3,0))","v":""},null,{"$f":"IF(B24=\"\",\"\",VLOOKUP(B24,TARIFAS!$B$51:$W$81,8,0))","v":""},null,{"$f":"IF(B24=\"\",\"\",VLOOKUP(B24,TARIFAS!$B$51:$W$81,12,0))","v":""},null,{"$f":"IF(B24=\"\",\"\",VLOOKUP(B24,TARIFAS!$B$51:$W$81,14,0))","v":""},null,{"$f":"IF(B24=\"\",\"\",VLOOKUP(B24,TARIFAS!$B$51:$W$81,15,0))","v":""},null,{"$f":"IF(B24=\"\",\"\",VLOOKUP(B24,TARIFAS!$B$51:$W$81,16,0))","v":""},null,{"$f":"IF(B24=\"\",\"\",VLOOKUP(B24,TARIFAS!$B$51:$W$81,18,0))","v":""},null,{"$f":"IF(B24=\"\",\"\",VLOOKUP(B24,TARIFAS!$B$51:$W$81,21,0))","v":""},null,{"$f":"IF(B24=\"\",\"\",VLOOKUP(B24,TARIFAS!$B$51:$W$81,22,0))","v":""},"",0,null,null,23,"BICENTENARIO"]
["",null,{"$f":"IF(B25=\"\",\"\",VLOOKUP(B25,TARIFAS!$B$49:$C$81,2,0))","v":""},null,{"$f":"IF(B25=\"\",\"\",VLOOKUP(B25,TARIFAS!$B$51:$W$81,3,0))","v":""},null,{"$f":"IF(B25=\"\",\"\",VLOOKUP(B25,TARIFAS!$B$51:$W$81,8,0))","v":""},null,{"$f":"IF(B25=\"\",\"\",VLOOKUP(B25,TARIFAS!$B$51:$W$81,12,0))","v":""},null,{"$f":"IF(B25=\"\",\"\",VLOOKUP(B25,TARIFAS!$B$51:$W$81,14,0))","v":""},null,{"$f":"IF(B25=\"\",\"\",VLOOKUP(B25,TARIFAS!$B$51:$W$81,15,0))","v":""},null,{"$f":"IF(B25=\"\",\"\",VLOOKUP(B25,TARIFAS!$B$51:$W$81,16,0))","v":""},null,{"$f":"IF(B25=\"\",\"\",VLOOKUP(B25,TARIFAS!$B$51:$W$81,18,0))","v":""},null,{"$f":"IF(B25=\"\",\"\",VLOOKUP(B25,TARIFAS!$B$51:$W$81,21,0))","v":""},null,{"$f":"IF(B25=\"\",\"\",VLOOKUP(B25,TARIFAS!$B$51:$W$81,22,0))","v":""},"",0,null,null,24,"T. LA LINEA TOLIMA"]
["",null,{"$f":"IF(B26=\"\",\"\",VLOOKUP(B26,TARIFAS!$B$49:$C$81,2,0))","v":""},null,{"$f":"IF(B26=\"\",\"\",VLOOKUP(B26,TARIFAS!$B$51:$W$81,3,0))","v":""},null,{"$f":"IF(B26=\"\",\"\",VLOOKUP(B26,TARIFAS!$B$51:$W$81,8,0))","v":""},null,{"$f":"IF(B26=\"\",\"\",VLOOKUP(B26,TARIFAS!$B$51:$W$81,12,0))","v":""},null,{"$f":"IF(B26=\"\",\"\",VLOOKUP(B26,TARIFAS!$B$51:$W$81,14,0))","v":""},null,{"$f":"IF(B26=\"\",\"\",VLOOKUP(B26,TARIFAS!$B$51:$W$81,15,0))","v":""},null,{"$f":"IF(B26=\"\",\"\",VLOOKUP(B26,TARIFAS!$B$51:$W$81,16,0))","v":""},null,{"$f":"IF(B26=\"\",\"\",VLOOKUP(B26,TARIFAS!$B$51:$W$81,18,0))","v":""},null,{"$f":"IF(B26=\"\",\"\",VLOOKUP(B26,TARIFAS!$B$51:$W$81,21,0))","v":""},null,{"$f":"IF(B26=\"\",\"\",VLOOKUP(B26,TARIFAS!$B$51:$W$81,22,0))","v":""},"",0,null,null,25,"T. LA LINEA QUINDIO"]
["",null,{"$f":"IF(B27=\"\",\"\",VLOOKUP(B27,TARIFAS!$B$49:$C$81,2,0))","v":""},null,{"$f":"IF(B27=\"\",\"\",VLOOKUP(B27,TARIFAS!$B$51:$W$81,3,0))","v":""},null,{"$f":"IF(B27=\"\",\"\",VLOOKUP(B27,TARIFAS!$B$51:$W$81,8,0))","v":""},null,{"$f":"IF(B27=\"\",\"\",VLOOKUP(B27,TARIFAS!$B$51:$W$81,12,0))","v":""},null,{"$f":"IF(B27=\"\",\"\",VLOOKUP(B27,TARIFAS!$B$51:$W$81,14,0))","v":""},null,{"$f":"IF(B27=\"\",\"\",VLOOKUP(B27,TARIFAS!$B$51:$W$81,15,0))","v":""},null,{"$f":"IF(B27=\"\",\"\",VLOOKUP(B27,TARIFAS!$B$51:$W$81,16,0))","v":""},null,{"$f":"IF(B27=\"\",\"\",VLOOKUP(B27,TARIFAS!$B$51:$W$81,18,0))","v":""},null,{"$f":"IF(B27=\"\",\"\",VLOOKUP(B27,TARIFAS!$B$51:$W$81,21,0))","v":""},null,{"$f":"IF(B27=\"\",\"\",VLOOKUP(B27,TARIFAS!$B$51:$W$81,22,0))","v":""},"",0,null,null,26,"CANO"]
["",null,{"$f":"IF(B28=\"\",\"\",VLOOKUP(B28,TARIFAS!$B$49:$C$81,2,0))","v":""},null,{"$f":"IF(B28=\"\",\"\",VLOOKUP(B28,TARIFAS!$B$51:$W$81,3,0))","v":""},null,{"$f":"IF(B28=\"\",\"\",VLOOKUP(B28,TARIFAS!$B$51:$W$81,8,0))","v":""},null,{"$f":"IF(B28=\"\",\"\",VLOOKUP(B28,TARIFAS!$B$51:$W$81,12,0))","v":""},null,{"$f":"IF(B28=\"\",\"\",VLOOKUP(B28,TARIFAS!$B$51:$W$81,14,0))","v":""},null,{"$f":"IF(B28=\"\",\"\",VLOOKUP(B28,TARIFAS!$B$51:$W$81,15,0))","v":""},null,{"$f":"IF(B28=\"\",\"\",VLOOKUP(B28,TARIFAS!$B$51:$W$81,16,0))","v":""},null,{"$f":"IF(B28=\"\",\"\",VLOOKUP(B28,TARIFAS!$B$51:$W$81,18,0))","v":""},null,{"$f":"IF(B28=\"\",\"\",VLOOKUP(B28,TARIFAS!$B$51:$W$81,21,0))","v":""},null,{"$f":"IF(B28=\"\",\"\",VLOOKUP(B28,TARIFAS!$B$51:$W$81,22,0))","v":""},"",0,null,null,27,"CARIMAGUA"]
["",null,{"$f":"IF(B29=\"\",\"\",VLOOKUP(B29,TARIFAS!$B$49:$C$81,2,0))","v":""},null,{"$f":"IF(B29=\"\",\"\",VLOOKUP(B29,TARIFAS!$B$51:$W$81,3,0))","v":""},null,{"$f":"IF(B29=\"\",\"\",VLOOKUP(B29,TARIFAS!$B$51:$W$81,8,0))","v":""},null,{"$f":"IF(B29=\"\",\"\",VLOOKUP(B29,TARIFAS!$B$51:$W$81,12,0))","v":""},null,{"$f":"IF(B29=\"\",\"\",VLOOKUP(B29,TARIFAS!$B$51:$W$81,14,0))","v":""},null,{"$f":"IF(B29=\"\",\"\",VLOOKUP(B29,TARIFAS!$B$51:$W$81,15,0))","v":""},null,{"$f":"IF(B29=\"\",\"\",VLOOKUP(B29,TARIFAS!$B$51:$W$81,16,0))","v":""},null,{"$f":"IF(B29=\"\",\"\",VLOOKUP(B29,TARIFAS!$B$51:$W$81,18,0))","v":""},null,{"$f":"IF(B29=\"\",\"\",VLOOKUP(B29,TARIFAS!$B$51:$W$81,21,0))","v":""},null,{"$f":"IF(B29=\"\",\"\",VLOOKUP(B29,TARIFAS!$B$51:$W$81,22,0))","v":""},"",0,null,null,28,"EL CRUCERO"]
["",null,{"$f":"IF(B30=\"\",\"\",VLOOKUP(B30,TARIFAS!$B$49:$C$81,2,0))","v":""},null,{"$f":"IF(B30=\"\",\"\",VLOOKUP(B30,TARIFAS!$B$51:$W$81,3,0))","v":""},null,{"$f":"IF(B30=\"\",\"\",VLOOKUP(B30,TARIFAS!$B$51:$W$81,8,0))","v":""},null,{"$f":"IF(B30=\"\",\"\",VLOOKUP(B30,TARIFAS!$B$51:$W$81,12,0))","v":""},null,{"$f":"IF(B30=\"\",\"\",VLOOKUP(B30,TARIFAS!$B$51:$W$81,14,0))","v":""},null,{"$f":"IF(B30=\"\",\"\",VLOOKUP(B30,TARIFAS!$B$51:$W$81,15,0))","v":""},null,{"$f":"IF(B30=\"\",\"\",VLOOKUP(B30,TARIFAS!$B$51:$W$81,16,0))","v":""},null,{"$f":"IF(B30=\"\",\"\",VLOOKUP(B30,TARIFAS!$B$51:$W$81,18,0))","v":""},null,{"$f":"IF(B30=\"\",\"\",VLOOKUP(B30,TARIFAS!$B$51:$W$81,21,0))","v":""},null,{"$f":"IF(B30=\"\",\"\",VLOOKUP(B30,TARIFAS!$B$51:$W$81,22,0))","v":""},"",0,null,null,29,"EL BORDO"]
["",null,{"$f":"IF(B31=\"\",\"\",VLOOKUP(B31,TARIFAS!$B$49:$C$81,2,0))","v":""},null,{"$f":"IF(B31=\"\",\"\",VLOOKUP(B31,TARIFAS!$B$51:$W$81,3,0))","v":""},null,{"$f":"IF(B31=\"\",\"\",VLOOKUP(B31,TARIFAS!$B$51:$W$81,8,0))","v":""},null,{"$f":"IF(B31=\"\",\"\",VLOOKUP(B31,TARIFAS!$B$51:$W$81,12,0))","v":""},null,{"$f":"IF(B31=\"\",\"\",VLOOKUP(B31,TARIFAS!$B$51:$W$81,14,0))","v":""},null,{"$f":"IF(B31=\"\",\"\",VLOOKUP(B31,TARIFAS!$B$51:$W$81,15,0))","v":""},null,{"$f":"IF(B31=\"\",\"\",VLOOKUP(B31,TARIFAS!$B$51:$W$81,16,0))","v":""},null,{"$f":"IF(B31=\"\",\"\",VLOOKUP(B31,TARIFAS!$B$51:$W$81,18,0))","v":""},null,{"$f":"IF(B31=\"\",\"\",VLOOKUP(B31,TARIFAS!$B$51:$W$81,21,0))","v":""},null,{"$f":"IF(B31=\"\",\"\",VLOOKUP(B31,TARIFAS!$B$51:$W$81,22,0))","v":""},"",0,null,null,30,"LOS LLANOS"]
["",null,{"$f":"IF(B32=\"\",\"\",VLOOKUP(B32,TARIFAS!$B$49:$C$81,2,0))","v":""},null,{"$f":"IF(B32=\"\",\"\",VLOOKUP(B32,TARIFAS!$B$51:$W$81,3,0))","v":""},null,{"$f":"IF(B32=\"\",\"\",VLOOKUP(B32,TARIFAS!$B$51:$W$81,8,0))","v":""},null,{"$f":"IF(B32=\"\",\"\",VLOOKUP(B32,TARIFAS!$B$51:$W$81,12,0))","v":""},null,{"$f":"IF(B32=\"\",\"\",VLOOKUP(B32,TARIFAS!$B$51:$W$81,14,0))","v":""},null,{"$f":"IF(B32=\"\",\"\",VLOOKUP(B32,TARIFAS!$B$51:$W$81,15,0))","v":""},null,{"$f":"IF(B32=\"\",\"\",VLOOKUP(B32,TARIFAS!$B$51:$W$81,16,0))","v":""},null,{"$f":"IF(B32=\"\",\"\",VLOOKUP(B32,TARIFAS!$B$51:$W$81,18,0))","v":""},null,{"$f":"IF(B32=\"\",\"\",VLOOKUP(B32,TARIFAS!$B$51:$W$81,21,0))","v":""},null,{"$f":"IF(B32=\"\",\"\",VLOOKUP(B32,TARIFAS!$B$51:$W$81,22,0))","v":""},"",0,null,null,31,"RIO BLANCO"]
["",null,{"$f":"IF(B33=\"\",\"\",VLOOKUP(B33,TARIFAS!$B$49:$C$81,2,0))","v":""},null,{"$f":"IF(B33=\"\",\"\",VLOOKUP(B33,TARIFAS!$B$51:$W$81,3,0))","v":""},null,{"$f":"IF(B33=\"\",\"\",VLOOKUP(B33,TARIFAS!$B$51:$W$81,8,0))","v":""},null,{"$f":"IF(B33=\"\",\"\",VLOOKUP(B33,TARIFAS!$B$51:$W$81,12,0))","v":""},null,{"$f":"IF(B33=\"\",\"\",VLOOKUP(B33,TARIFAS!$B$51:$W$81,14,0))","v":""},null,{"$f":"IF(B33=\"\",\"\",VLOOKUP(B33,TARIFAS!$B$51:$W$81,15,0))","v":""},null,{"$f":"IF(B33=\"\",\"\",VLOOKUP(B33,TARIFAS!$B$51:$W$81,16,0))","v":""},null,{"$f":"IF(B33=\"\",\"\",VLOOKUP(B33,TARIFAS!$B$51:$W$81,18,0))","v":""},null,{"$f":"IF(B33=\"\",\"\",VLOOKUP(B33,TARIFAS!$B$51:$W$81,21,0))","v":""},null,{"$f":"IF(B33=\"\",\"\",VLOOKUP(B33,TARIFAS!$B$51:$W$81,22,0))","v":""},"",0,null,null,32,"RIO FRIO"]
["",null,{"$f":"IF(B34=\"\",\"\",VLOOKUP(B34,TARIFAS!$B$49:$C$81,2,0))","v":""},null,{"$f":"IF(B34=\"\",\"\",VLOOKUP(B34,TARIFAS!$B$51:$W$81,3,0))","v":""},null,{"$f":"IF(B34=\"\",\"\",VLOOKUP(B34,TARIFAS!$B$51:$W$81,8,0))","v":""},null,{"$f":"IF(B34=\"\",\"\",VLOOKUP(B34,TARIFAS!$B$51:$W$81,12,0))","v":""},null,{"$f":"IF(B34=\"\",\"\",VLOOKUP(B34,TARIFAS!$B$51:$W$81,14,0))","v":""},null,{"$f":"IF(B34=\"\",\"\",VLOOKUP(B34,TARIFAS!$B$51:$W$81,15,0))","v":""},null,{"$f":"IF(B34=\"\",\"\",VLOOKUP(B34,TARIFAS!$B$51:$W$81,16,0))","v":""},null,{"$f":"IF(B34=\"\",\"\",VLOOKUP(B34,TARIFAS!$B$51:$W$81,18,0))","v":""},null,{"$f":"IF(B34=\"\",\"\",VLOOKUP(B34,TARIFAS!$B$51:$W$81,21,0))","v":""},null,{"$f":"IF(B34=\"\",\"\",VLOOKUP(B34,TARIFAS!$B$51:$W$81,22,0))","v":""},"",0,null,null,33,"SACHICA"]
["",null,{"$f":"IF(B35=\"\",\"\",VLOOKUP(B35,TARIFAS!$B$49:$C$81,2,0))","v":""},null,{"$f":"IF(B35=\"\",\"\",VLOOKUP(B35,TARIFAS!$B$51:$W$81,3,0))","v":""},null,{"$f":"IF(B35=\"\",\"\",VLOOKUP(B35,TARIFAS!$B$51:$W$81,8,0))","v":""},null,{"$f":"IF(B35=\"\",\"\",VLOOKUP(B35,TARIFAS!$B$51:$W$81,12,0))","v":""},null,{"$f":"IF(B35=\"\",\"\",VLOOKUP(B35,TARIFAS!$B$51:$W$81,14,0))","v":""},null,{"$f":"IF(B35=\"\",\"\",VLOOKUP(B35,TARIFAS!$B$51:$W$81,15,0))","v":""},null,{"$f":"IF(B35=\"\",\"\",VLOOKUP(B35,TARIFAS!$B$51:$W$81,16,0))","v":""},null,{"$f":"IF(B35=\"\",\"\",VLOOKUP(B35,TARIFAS!$B$51:$W$81,18,0))","v":""},null,{"$f":"IF(B35=\"\",\"\",VLOOKUP(B35,TARIFAS!$B$51:$W$81,21,0))","v":""},null,{"$f":"IF(B35=\"\",\"\",VLOOKUP(B35,TARIFAS!$B$51:$W$81,22,0))","v":""},"",0,null,null,34,"SAN CLEMENTE"]
["",null,{"$f":"IF(B36=\"\",\"\",VLOOKUP(B36,TARIFAS!$B$49:$C$81,2,0))","v":""},null,{"$f":"IF(B36=\"\",\"\",VLOOKUP(B36,TARIFAS!$B$51:$W$81,3,0))","v":""},null,{"$f":"IF(B36=\"\",\"\",VLOOKUP(B36,TARIFAS!$B$51:$W$81,8,0))","v":""},null,{"$f":"IF(B36=\"\",\"\",VLOOKUP(B36,TARIFAS!$B$51:$W$81,12,0))","v":""},null,{"$f":"IF(B36=\"\",\"\",VLOOKUP(B36,TARIFAS!$B$51:$W$81,14,0))","v":""},null,{"$f":"IF(B36=\"\",\"\",VLOOKUP(B36,TARIFAS!$B$51:$W$81,15,0))","v":""},null,{"$f":"IF(B36=\"\",\"\",VLOOKUP(B36,TARIFAS!$B$51:$W$81,16,0))","v":""},null,{"$f":"IF(B36=\"\",\"\",VLOOKUP(B36,TARIFAS!$B$51:$W$81,18,0))","v":""},null,{"$f":"IF(B36=\"\",\"\",VLOOKUP(B36,TARIFAS!$B$51:$W$81,21,0))","v":""},null,{"$f":"IF(B36=\"\",\"\",VLOOKUP(B36,TARIFAS!$B$51:$W$81,22,0))","v":""},"",0,null,null,35,"TORO"]
["",null,{"$f":"IF(B37=\"\",\"\",VLOOKUP(B37,TARIFAS!$B$49:$C$81,2,0))","v":""},null,{"$f":"IF(B37=\"\",\"\",VLOOKUP(B37,TARIFAS!$B$51:$W$81,3,0))","v":""},null,{"$f":"IF(B37=\"\",\"\",VLOOKUP(B37,TARIFAS!$B$51:$W$81,8,0))","v":""},null,{"$f":"IF(B37=\"\",\"\",VLOOKUP(B37,TARIFAS!$B$51:$W$81,12,0))","v":""},null,{"$f":"IF(B37=\"\",\"\",VLOOKUP(B37,TARIFAS!$B$51:$W$81,14,0))","v":""},null,{"$f":"IF(B37=\"\",\"\",VLOOKUP(B37,TARIFAS!$B$51:$W$81,15,0))","v":""},null,{"$f":"IF(B37=\"\",\"\",VLOOKUP(B37,TARIFAS!$B$51:$W$81,16,0))","v":""},null,{"$f":"IF(B37=\"\",\"\",VLOOKUP(B37,TARIFAS!$B$51:$W$81,18,0))","v":""},null,{"$f":"IF(B37=\"\",\"\",VLOOKUP(B37,TARIFAS!$B$51:$W$81,21,0))","v":""},null,{"$f":"IF(B37=\"\",\"\",VLOOKUP(B37,TARIFAS!$B$51:$W$81,22,0))","v":""},"",0,null,null,36,"TARAZA"]
["",null,{"$f":"IF(B38=\"\",\"\",VLOOKUP(B38,TARIFAS!$B$49:$C$81,2,0))","v":""},null,{"$f":"IF(B38=\"\",\"\",VLOOKUP(B38,TARIFAS!$B$51:$W$81,3,0))","v":""},null,{"$f":"IF(B38=\"\",\"\",VLOOKUP(B38,TARIFAS!$B$51:$W$81,8,0))","v":""},null,{"$f":"IF(B38=\"\",\"\",VLOOKUP(B38,TARIFAS!$B$51:$W$81,12,0))","v":""},null,{"$f":"IF(B38=\"\",\"\",VLOOKUP(B38,TARIFAS!$B$51:$W$81,14,0))","v":""},null,{"$f":"IF(B38=\"\",\"\",VLOOKUP(B38,TARIFAS!$B$51:$W$81,15,0))","v":""},null,{"$f":"IF(B38=\"\",\"\",VLOOKUP(B38,TARIFAS!$B$51:$W$81,16,0))","v":""},null,{"$f":"IF(B38=\"\",\"\",VLOOKUP(B38,TARIFAS!$B$51:$W$81,18,0))","v":""},null,{"$f":"IF(B38=\"\",\"\",VLOOKUP(B38,TARIFAS!$B$51:$W$81,21,0))","v":""},null,{"$f":"IF(B38=\"\",\"\",VLOOKUP(B38,TARIFAS!$B$51:$W$81,22,0))","v":""},"",0,null,null,37,"CASABLANCA"]
["",null,{"$f":"IF(B39=\"\",\"\",VLOOKUP(B39,TARIFAS!$B$49:$C$81,2,0))","v":""},null,{"$f":"IF(B39=\"\",\"\",VLOOKUP(B39,TARIFAS!$B$51:$W$81,3,0))","v":""},null,{"$f":"IF(B39=\"\",\"\",VLOOKUP(B39,TARIFAS!$B$51:$W$81,8,0))","v":""},null,{"$f":"IF(B39=\"\",\"\",VLOOKUP(B39,TARIFAS!$B$51:$W$81,12,0))","v":""},null,{"$f":"IF(B39=\"\",\"\",VLOOKUP(B39,TARIFAS!$B$51:$W$81,14,0))","v":""},null,{"$f":"IF(B39=\"\",\"\",VLOOKUP(B39,TARIFAS!$B$51:$W$81,15,0))","v":""},null,{"$f":"IF(B39=\"\",\"\",VLOOKUP(B39,TARIFAS!$B$51:$W$81,16,0))","v":""},null,{"$f":"IF(B39=\"\",\"\",VLOOKUP(B39,TARIFAS!$B$51:$W$81,18,0))","v":""},null,{"$f":"IF(B39=\"\",\"\",VLOOKUP(B39,TARIFAS!$B$51:$W$81,21,0))","v":""},null,{"$f":"IF(B39=\"\",\"\",VLOOKUP(B39,TARIFAS!$B$51:$W$81,22,0))","v":""},"",0,null,null,38,"SABOYÁ"]
[{"$f":"IF(A39<1,\"\",IF(B40=\"\",\"\",A39+1))","v":""},null,{"$f":"IF(B40=\"\",\"\",VLOOKUP(B40,TARIFAS!$B$49:$C$81,2,0))","v":""},null,{"$f":"IF(B40=\"\",\"\",VLOOKUP(B40,TARIFAS!$B$51:$W$81,3,0))","v":""},null,{"$f":"IF(B40=\"\",\"\",VLOOKUP(B40,TARIFAS!$B$51:$W$81,8,0))","v":""},null,{"$f":"IF(B40=\"\",\"\",VLOOKUP(B40,TARIFAS!$B$51:$W$81,12,0))","v":""},null,{"$f":"IF(B40=\"\",\"\",VLOOKUP(B40,TARIFAS!$B$51:$W$81,14,0))","v":""},null,{"$f":"IF(B40=\"\",\"\",VLOOKUP(B40,TARIFAS!$B$51:$W$81,15,0))","v":""},null,{"$f":"IF(B40=\"\",\"\",VLOOKUP(B40,TARIFAS!$B$51:$W$81,16,0))","v":""},null,{"$f":"IF(B40=\"\",\"\",VLOOKUP(B40,TARIFAS!$B$51:$W$81,18,0))","v":""},null,{"$f":"IF(B40=\"\",\"\",VLOOKUP(B40,TARIFAS!$B$51:$W$81,21,0))","v":""},null,{"$f":"IF(B40=\"\",\"\",VLOOKUP(B40,TARIFAS!$B$51:$W$81,22,0))","v":""},"",0,null,null,39,"OIBA"]
["",null,{"$f":"IF(B41=\"\",\"\",VLOOKUP(B41,TARIFAS!$B$49:$C$81,2,0))","v":""},null,{"$f":"IF(B41=\"\",\"\",VLOOKUP(B41,TARIFAS!$B$51:$W$81,3,0))","v":""},null,{"$f":"IF(B41=\"\",\"\",VLOOKUP(B41,TARIFAS!$B$51:$W$81,8,0))","v":""},null,{"$f":"IF(B41=\"\",\"\",VLOOKUP(B41,TARIFAS!$B$51:$W$81,12,0))","v":""},null,{"$f":"IF(B41=\"\",\"\",VLOOKUP(B41,TARIFAS!$B$51:$W$81,14,0))","v":""},null,{"$f":"IF(B41=\"\",\"\",VLOOKUP(B41,TARIFAS!$B$51:$W$81,15,0))","v":""},null,{"$f":"IF(B41=\"\",\"\",VLOOKUP(B41,TARIFAS!$B$51:$W$81,16,0))","v":""},null,{"$f":"IF(B41=\"\",\"\",VLOOKUP(B41,TARIFAS!$B$51:$W$81,18,0))","v":""},null,{"$f":"IF(B41=\"\",\"\",VLOOKUP(B41,TARIFAS!$B$51:$W$81,21,0))","v":""},null,{"$f":"IF(B41=\"\",\"\",VLOOKUP(B41,TARIFAS!$B$51:$W$81,22,0))","v":""},"",0,null,null,40,"CURITI"]
["",null,{"$f":"IF(B42=\"\",\"\",VLOOKUP(B42,TARIFAS!$B$49:$C$81,2,0))","v":""},null,{"$f":"IF(B42=\"\",\"\",VLOOKUP(B42,TARIFAS!$B$51:$W$81,3,0))","v":""},null,{"$f":"IF(B42=\"\",\"\",VLOOKUP(B42,TARIFAS!$B$51:$W$81,8,0))","v":""},null,{"$f":"IF(B42=\"\",\"\",VLOOKUP(B42,TARIFAS!$B$51:$W$81,12,0))","v":""},null,{"$f":"IF(B42=\"\",\"\",VLOOKUP(B42,TARIFAS!$B$51:$W$81,14,0))","v":""},null,{"$f":"IF(B42=\"\",\"\",VLOOKUP(B42,TARIFAS!$B$51:$W$81,15,0))","v":""},null,{"$f":"IF(B42=\"\",\"\",VLOOKUP(B42,TARIFAS!$B$51:$W$81,16,0))","v":""},null,{"$f":"IF(B42=\"\",\"\",VLOOKUP(B42,TARIFAS!$B$51:$W$81,18,0))","v":""},null,{"$f":"IF(B42=\"\",\"\",VLOOKUP(B42,TARIFAS!$B$51:$W$81,21,0))","v":""},null,{"$f":"IF(B42=\"\",\"\",VLOOKUP(B42,TARIFAS!$B$51:$W$81,22,0))","v":""},"",0,null,null,41,"LOS CUROS"]
["",null,{"$f":"IF(B43=\"\",\"\",VLOOKUP(B43,TARIFAS!$B$49:$C$81,2,0))","v":""},null,{"$f":"IF(B43=\"\",\"\",VLOOKUP(B43,TARIFAS!$B$51:$W$81,3,0))","v":""},null,{"$f":"IF(B43=\"\",\"\",VLOOKUP(B43,TARIFAS!$B$51:$W$81,8,0))","v":""},null,{"$f":"IF(B43=\"\",\"\",VLOOKUP(B43,TARIFAS!$B$51:$W$81,12,0))","v":""},null,{"$f":"IF(B43=\"\",\"\",VLOOKUP(B43,TARIFAS!$B$51:$W$81,14,0))","v":""},null,{"$f":"IF(B43=\"\",\"\",VLOOKUP(B43,TARIFAS!$B$51:$W$81,15,0))","v":""},null,{"$f":"IF(B43=\"\",\"\",VLOOKUP(B43,TARIFAS!$B$51:$W$81,16,0))","v":""},null,{"$f":"IF(B43=\"\",\"\",VLOOKUP(B43,TARIFAS!$B$51:$W$81,18,0))","v":""},null,{"$f":"IF(B43=\"\",\"\",VLOOKUP(B43,TARIFAS!$B$51:$W$81,21,0))","v":""},null,{"$f":"IF(B43=\"\",\"\",VLOOKUP(B43,TARIFAS!$B$51:$W$81,22,0))","v":""},"",0,null,null,42,"PLATANAL"]
["",null,{"$f":"IF(B44=\"\",\"\",VLOOKUP(B44,TARIFAS!$B$49:$C$81,2,0))","v":""},null,{"$f":"IF(B44=\"\",\"\",VLOOKUP(B44,TARIFAS!$B$51:$W$81,3,0))","v":""},null,{"$f":"IF(B44=\"\",\"\",VLOOKUP(B44,TARIFAS!$B$51:$W$81,8,0))","v":""},null,{"$f":"IF(B44=\"\",\"\",VLOOKUP(B44,TARIFAS!$B$51:$W$81,12,0))","v":""},null,{"$f":"IF(B44=\"\",\"\",VLOOKUP(B44,TARIFAS!$B$51:$W$81,14,0))","v":""},null,{"$f":"IF(B44=\"\",\"\",VLOOKUP(B44,TARIFAS!$B$51:$W$81,15,0))","v":""},null,{"$f":"IF(B44=\"\",\"\",VLOOKUP(B44,TARIFAS!$B$51:$W$81,16,0))","v":""},null,{"$f":"IF(B44=\"\",\"\",VLOOKUP(B44,TARIFAS!$B$51:$W$81,18,0))","v":""},null,{"$f":"IF(B44=\"\",\"\",VLOOKUP(B44,TARIFAS!$B$51:$W$81,21,0))","v":""},null,{"$f":"IF(B44=\"\",\"\",VLOOKUP(B44,TARIFAS!$B$51:$W$81,22,0))","v":""},"",0,null,null,43,"SAN DIEGO"]
["",null,{"$f":"IF(B45=\"\",\"\",VLOOKUP(B45,TARIFAS!$B$49:$C$81,2,0))","v":""},null,{"$f":"IF(B45=\"\",\"\",VLOOKUP(B45,TARIFAS!$B$51:$W$81,3,0))","v":""},null,{"$f":"IF(B45=\"\",\"\",VLOOKUP(B45,TARIFAS!$B$51:$W$81,8,0))","v":""},null,{"$f":"IF(B45=\"\",\"\",VLOOKUP(B45,TARIFAS!$B$51:$W$81,12,0))","v":""},null,{"$f":"IF(B45=\"\",\"\",VLOOKUP(B45,TARIFAS!$B$51:$W$81,14,0))","v":""},null,{"$f":"IF(B45=\"\",\"\",VLOOKUP(B45,TARIFAS!$B$51:$W$81,15,0))","v":""},null,{"$f":"IF(B45=\"\",\"\",VLOOKUP(B45,TARIFAS!$B$51:$W$81,16,0))","v":""},null,{"$f":"IF(B45=\"\",\"\",VLOOKUP(B45,TARIFAS!$B$51:$W$81,18,0))","v":""},null,{"$f":"IF(B45=\"\",\"\",VLOOKUP(B45,TARIFAS!$B$51:$W$81,21,0))","v":""},null,{"$f":"IF(B45=\"\",\"\",VLOOKUP(B45,TARIFAS!$B$51:$W$81,22,0))","v":""},"",0,null,null,44,"RINCÓN HONDO"]
[null,null,"TOTAL",{"$f":"SUM(D16:D45)","v":0},null,{"$f":"SUM(F16:F45)","v":0},null,{"$f":"SUM(H16:H45)","v":0},null,{"$f":"SUM(J16:J45)","v":0},null,{"$f":"SUM(L16:L45)","v":0},null,{"$f":"SUM(N16:N45)","v":0},null,{"$f":"SUM(P16:P45)","v":0},null,{"$f":"SUM(R16:R45)","v":0},null,{"$f":"SUM(T16:T45)","v":0},null,{"$f":"SUM(V16:V45)","v":0},{"$f":"SUM(W16:W45)","v":0},null,null,45,"SAN JUAN"]
[{"$nulls":25},46,"COCORNA"]
[{"$nulls":25},47,"PUERTO TRIUNFO"]
[{"$nulls":25},48,"CERRITOS II"]
[{"$nulls":25},49,"LA PARADA"]
[{"$nulls":25},{"$f":"+Z47+1","v":47},"EL KORAN"]
[{"$nulls":25},48,"RIO BOGOTA"]
[{"$nulls":25},49,"CORZO"]
[{"$nulls":25},50]
[{"$nulls":25},51]
[{"$nulls":25},52]
[{"$nulls":25},53]
[{"$nulls":25},54]
[{"$nulls":25},55]
[{"$nulls":25},56]
[{"$nulls":25},57]
[{"$nulls":25},58]
[{"$nulls":25},59]
[{"$nulls":25},60]
[{"$nulls":25},61]
[{"$nulls":25},62]
[{"$nulls":25},63]
[{"$nulls":25},64]
[{"$nulls":25},65]
[{"$nulls":25},66]
[{"$nulls":25},{"$f":"+Z70+1","v":67}]
[{"$nulls":25},68]
[{"$nulls":25},69]
[{"$nulls":25},70]
[{"$nulls":25},71]
[{"$nulls":25},72]
[{"$nulls":25},73]
[{"$nulls":25},74]
[{"$nulls":25},75]
[{"$nulls":25},76]
[{"$nulls":25},77]
[{"$nulls":25},78]
[{"$nulls":25},79]
[{"$nulls":25},80]
[{"$nulls":25},81]
[{"$nulls":25},82]
[{"$nulls":25},83]
[{"$nulls":25},84]
[{"$nulls":25},85]
[{"$nulls":25},86]
[{"$nulls":25},87]
[{"$nulls":25},88]
[{"$nulls":25},89]
[{"$nulls":25},90]
[{"$nulls":25},91]
[{"$nulls":25},92]
[{"$nulls":25},93]
[{"$nulls":25},94]
[{"$nulls":25},95]
[{"$nulls":25},96]
[{"$nulls":25},97]
[{"$nulls":25},98]
[{"$nulls":25},99]
[{"$nulls":25},100]
[{"$nulls":25},101]
[{"$nulls":25},102]
[{"$nulls":25},103]
[{"$nulls":25},104]
[{"$nulls":25},105]
[{"$nulls":25},106]
[{"$nulls":25},107]
[{"$nulls":25},108]
[{"$nulls":25},109]
[{"$nulls":25},110]
[{"$nulls":25},111]
[{"$nulls":25},112]
[{"$nulls":25},113]
[{"$nulls":25},114]
[{"$nulls":25},115]
[{"$nulls":25},116]
[{"$nulls":25},117]
[{"$nulls":25},118]
[{"$nulls":25},119]
[{"$nulls":25},120]
[{"$nulls":25},121]
[{"$nulls":25},122]
[{"$nulls":25},123]
[{"$nulls":25},124]
[{"$nulls":25},125]
[{"$nulls":25},126]
[{"$nulls":25},127]
[{"$nulls":25},128]
[{"$nulls":25},129]
[{"$nulls":25},130]
[{"$nulls":25},{"$f":"+Z134+1","v":131}]
[{"$nulls":25},132]
[{"$nulls":25},133]
[{"$nulls":25},134]
[{"$nulls":25},135]
[{"$nulls":25},136]
[{"$nulls":25},137]
[{"$nulls":25},138]
[{"$nulls":25},139]
[{"$nulls":25},140]
[{"$nulls":25},141]
[{"$nulls":25},142]
[{"$nulls":25},143]
[{"$nulls":25},144]
[{"$nulls":25},145]
[{"$nulls":25},146]
[{"$nulls":25},147]
[{"$nulls":25},148]
[{"$nulls":25},149]
[{"$nulls":25},150]
[{"$nulls":25},151]
[{"$nulls":25},152]
[{"$nulls":25},153]
[{"$nulls":25},154]
[{"$nulls":25},155]
[{"$nulls":25},156]
[{"$nulls":25},157]
[{"$nulls":25},158]
[{"$nulls":25},159]
[{"$nulls":25},160]
[{"$nulls":25},161]
[{"$nulls":25},162]
[{"$nulls":25},163]
[{"$nulls":25},164]
[{"$nulls":25},165]
[{"$nulls":25},166]
[{"$nulls":25},167]
[{"$nulls":25},168]
[{"$nulls":25},169]
[{"$nulls":25},170]
[{"$nulls":25},171]
[{"$nulls":25},172]
[{"$nulls":25},173]
[{"$nulls":25},174]
[{"$nulls":25},175]
[{"$nulls":25},176]
[{"$nulls":25},177]
[{"$nulls":25},178]
[{"$nulls":25},179]
[{"$nulls":25},180]
[{"$nulls":25},181]
[{"$nulls":25},182]
[{"$nulls":25},183]
[{"$nulls":25},184]
[{"$nulls":25},185]
[{"$nulls":25},186]
[{"$nulls":25},187]
[{"$nulls":25},188]
[{"$nulls":25},189]
[{"$nulls":25},190]
[{"$nulls":25},191]
[{"$nulls":25},192]
[{"$nulls":25},193]
[{"$nulls":25},194]
[{"$nulls":25},{"$f":"+Z198+1","v":195}]
[{"$nulls":25},196]
[{"$nulls":25},197]
[{"$nulls":25},198]
[{"$nulls":25},199]
[{"$nulls":25},200]
[{"$nulls":25},201]
[{"$nulls":25},202]
[{"$nulls":25},203]
[{"$nulls":25},204]
[{"$nulls":25},205]
[{"$nulls":25},206]
[{"$nulls":25},207]
[{"$nulls":25},208]
[{"$nulls":25},209]
[{"$nulls":25},210]
[{"$nulls":25},211]
[{"$nulls":25},212]
[{"$nulls":25},213]
[{"$nulls":25},214]
[{"$nulls":25},215]
[{"$nulls":25},216]
[{"$nulls":25},217]
[{"$nulls":25},218]
[{"$nulls":25},219]
[{"$nulls":25},220]
[{"$nulls":25},221]
[{"$nulls":25},222]
[{"$nulls":25},223]
[{"$nulls":25},224]
[{"$nulls":25},225]
[{"$nulls":25},226]
[{"$nulls":25},227]
[{"$nulls":25},228]
[{"$nulls":25},229]
[{"$nulls":25},230]
[{"$nulls":25},231]
[{"$nulls":25},232]
[{"$nulls":25},233]
[{"$nulls":25},234]
[{"$nulls":25},235]
[{"$nulls":25},236]
[{"$nulls":25},237]
[{"$nulls":25},238]
[{"$nulls":25},239]
[{"$nulls":25},240]
[{"$nulls":25},241]
[{"$nulls":25},242]
[{"$nulls":25},243]
[{"$nulls":25},244]
[{"$nulls":25},245]
[{"$nulls":25},246]
[{"$nulls":25},247]
[{"$nulls":25},248]
[{"$nulls":25},249]
[{"$nulls":25},250]
[{"$nulls":25},251]
[{"$nulls":25},252]
[{"$nulls":25},253]
[{"$nulls":25},254]
[{"$nulls":25},255]
[{"$nulls":25},256]
[{"$nulls":25},257]
[{"$nulls":25},258]
[{"$nulls":25},{"$f":"+Z262+1","v":259}]
[{"$nulls":25},260]
[{"$nulls":25},261]
[{"$nulls":25},262]
[{"$nulls":25},263]
[{"$nulls":25},264]
[{"$nulls":25},265]
[{"$nulls":25},266]
[{"$nulls":25},267]
[{"$nulls":25},268]
[{"$nulls":25},269]
[{"$nulls":25},270]
[{"$nulls":25},271]
[{"$nulls":25},272]
[{"$nulls":25},273]
[{"$nulls":25},274]
[{"$nulls":25},275]
[{"$nulls":25},276]
[{"$nulls":25},277]
[{"$nulls":25},278]
[{"$nulls":25},279]
[{"$nulls":25},280]
[{"$nulls":25},281]
[{"$nulls":25},282]
[{"$nulls":25},283]
[{"$nulls":25},284]
[{"$nulls":25},285]
[{"$nulls":25},286]
[{"$nulls":25},287]
[{"$nulls":25},288]
[{"$nulls":25},289]
[{"$nulls":25},290]
[{"$nulls":25},291]
[{"$nulls":25},292]
[{"$nulls":25},293]
[{"$nulls":25},294]
[{"$nulls":25},295]
[{"$nulls":25},296]
[{"$nulls":25},297]
[{"$nulls":25},298]
[{"$nulls":25},299]
[{"$nulls":25},300]
[{"$nulls":25},301]
[{"$nulls":25},302]
[{"$nulls":25},303]
[{"$nulls":25},304]
[{"$nulls":25},305]
[{"$nulls":25},306]
[{"$nulls":25},307]
[{"$nulls":25},308]
[{"$nulls":25},309]
[{"$nulls":25},310]
[{"$nulls":25},311]
[{"$nulls":25},312]
[{"$nulls":25},313]
[{"$nulls":25},314]
[{"$nulls":25},315]
[{"$nulls":25},316]
[{"$nulls":25},317]
[{"$nulls":25},318]
[{"$nulls":25},319]
[{"$nulls":25},320]
[{"$nulls":25},321]
[{"$nulls":25},322]
[{"$nulls":25},{"$f":"+Z326+1","v":323}]
[{"$nulls":25},324]
[{"$nulls":25},325]
[{"$nulls":25},326]
[{"$nulls":25},327]
[{"$nulls":25},328]
[{"$nulls":25},329]
[{"$nulls":25},330]
[{"$nulls":25},331]
[{"$nulls":25},332]
[{"$nulls":25},333]
[{"$nulls":25},334]
[{"$nulls":25},335]
[{"$nulls":25},336]
[{"$nulls":25},337]
[{"$nulls":25},338]
[{"$nulls":25},339]
[{"$nulls":25},340]
[{"$nulls":25},341]
[{"$nulls":25},342]
[{"$nulls":25},343]
[{"$nulls":25},344]
[{"$nulls":25},345]
[{"$nulls":25},346]
[{"$nulls":25},347]
[{"$nulls":25},348]
[{"$nulls":25},349]
[{"$nulls":25},350]
[{"$nulls":25},351]
[{"$nulls":25},352]
[{"$nulls":25},353]
[{"$nulls":25},354]
[{"$nulls":25},355]
[{"$nulls":25},356]
[{"$nulls":25},357]
[{"$nulls":25},358]
[{"$nulls":25},359]
[{"$nulls":25},360]
[{"$nulls":25},361]
[{"$nulls":25},362]
[{"$nulls":25},363]
[{"$nulls":25},364]
[{"$nulls":25},365]
[{"$nulls":25},366]
[{"$nulls":25},367]
[{"$nulls":25},368]
[{"$nulls":25},369]
[{"$nulls":25},370]
[{"$nulls":25},371]
[{"$nulls":25},372]
[{"$nulls":25},373]
[{"$nulls":25},374]
[{"$nulls":25},375]
[{"$nulls":25},376]
[{"$nulls":25},377]
[{"$nulls":25},378]
[{"$nulls":25},379]
[{"$nulls":25},380]
[{"$nulls":25},381]
[{"$nulls":25},382]
[{"$nulls":25},383]
[{"$nulls":25},384]
[{"$nulls":25},385]
[{"$nulls":25},386]
[{"$nulls":25},{"$f":"+Z390+1","v":387}]
[{"$nulls":25},388]
[{"$nulls":25},389]
[{"$nulls":25},390]
[{"$nulls":25},391]
[{"$nulls":25},392]
[{"$nulls":25},393]
[{"$nulls":25},394]
[{"$nulls":25},395]
[{"$nulls":25},396]
[{"$nulls":25},397]
[{"$nulls":25},398]
[{"$nulls":25},399]
[{"$nulls":25},400]
[{"$nulls":25},401]
[{"$nulls":25},402]
[{"$nulls":25},403]
[{"$nulls":25},404]
[{"$nulls":25},405]
[{"$nulls":25},406]
[{"$nulls":25},407]
[{"$nulls":25},408]
[{"$nulls":25},409]
[{"$nulls":25},410]
[{"$nulls":25},411]
[{"$nulls":25},412]
[{"$nulls":25},413]
[{"$nulls":25},414]
[{"$nulls":25},415]
[{"$nulls":25},416]
[{"$nulls":25},417]
[{"$nulls":25},418]
[{"$nulls":25},419]
[{"$nulls":25},420]
[{"$nulls":25},421]
[{"$nulls":25},422]
[{"$nulls":25},423]
[{"$nulls":25},424]
[{"$nulls":25},425]
[{"$nulls":25},426]
[{"$nulls":25},427]
[{"$nulls":25},428]
[{"$nulls":25},429]
[{"$nulls":25},430]
[{"$nulls":25},431]
[{"$nulls":25},432]
[{"$nulls":25},433]
[{"$nulls":25},434]
[{"$nulls":25},435]
[{"$nulls":25},436]
[{"$nulls":25},437]
[{"$nulls":25},438]
[{"$nulls":25},439]
[{"$nulls":25},440]
[{"$nulls":25},441]
[{"$nulls":25},442]
[{"$nulls":25},443]
[{"$nulls":25},444]
[{"$nulls":25},445]
[{"$nulls":25},446]
[{"$nulls":25},447]
[{"$nulls":25},448]
[{"$nulls":25},449]
[{"$nulls":25},450]
[{"$nulls":25},{"$f":"+Z454+1","v":451}]
[{"$nulls":25},452]
[{"$nulls":25},453]
[{"$nulls":25},454]
[{"$nulls":25},455]
[{"$nulls":25},456]
[{"$nulls":25},457]
[{"$nulls":25},458]
[{"$nulls":25},459]
[{"$nulls":25},460]
[{"$nulls":25},461]
[{"$nulls":25},462]
[{"$nulls":25},463]
[{"$nulls":25},464]
[{"$nulls":25},465]
[{"$nulls":25},466]
[{"$nulls":25},467]
[{"$nulls":25},468]
[{"$nulls":25},469]
[{"$nulls":25},470]
[{"$nulls":25},471]
[{"$nulls":25},472]
[{"$nulls":25},473]
[{"$nulls":25},474]
[{"$nulls":25},475]
[{"$nulls":25},476]
[{"$nulls":25},477]
[{"$nulls":25},478]
[{"$nulls":25},479]
[{"$nulls":25},480]
[{"$nulls":25},481]
[{"$nulls":25},482]
[{"$nulls":25},483]
[{"$nulls":25},484]
[{"$nulls":25},485]
[{"$nulls":25},486]
[{"$nulls":25},487]
[{"$nulls":25},488]
[{"$nulls":25},489]
[{"$nulls":25},490]
[{"$nulls":25},491]
[{"$nulls":25},492]
[{"$nulls":25},493]
[{"$nulls":25},494]
[{"$nulls":25},495]
[{"$nulls":25},496]
[{"$nulls":25},497]
[{"$nulls":25},498]
[{"$nulls":25},499]
[{"$nulls":25},500]
[{"$nulls":25},501]
[{"$nulls":25},502]
[{"$nulls":25},503]
[{"$nulls":25},504]
[{"$nulls":25},505]
[{"$nulls":25},506]
[{"$nulls":25},507]
[{"$nulls":25},508]
[{"$nulls":25},509]
[{"$nulls":25},510]
[{"$nulls":25},511]
[{"$nulls":25},512]
[{"$nulls":25},513]
[{"$nulls":25},514]
[{"$nulls":25},{"$f":"+Z518+1","v":515}]
[{"$nulls":25},516]
[{"$nulls":25},517]
[{"$nulls":25},518]
[{"$nulls":25},519]
[{"$nulls":25},520]
[{"$nulls":25},521]
[{"$nulls":25},522]
[{"$nulls":25},523]
[{"$nulls":25},524]
[{"$nulls":25},525]
[{"$nulls":25},526]
[{"$nulls":25},527]
[{"$nulls":25},528]
[{"$nulls":25},529]
[{"$nulls":25},530]
[{"$nulls":25},531]
[{"$nulls":25},532]
[{"$nulls":25},533]
[{"$nulls":25},534]
[{"$nulls":25},535]
[{"$nulls":25},536]
[{"$nulls":25},537]
[{"$nulls":25},538]
[{"$nulls":25},539]
[{"$nulls":25},540]
[{"$nulls":25},541]
[{"$nulls":25},542]
[{"$nulls":25},543]
[{"$nulls":25},544]
[{"$nulls":25},545]
[{"$nulls":25},546]
[{"$nulls":25},547]
[{"$nulls":25},548]
[{"$nulls":25},549]
[{"$nulls":25},550]
[{"$nulls":25},551]
[{"$nulls":25},552]
[{"$nulls":25},553]
[{"$nulls":25},554]
[{"$nulls":25},555]
[{"$nulls":25},556]
[{"$nulls":25},557]
[{"$nulls":25},558]
[{"$nulls":25},559]
[{"$nulls":25},560]
[{"$nulls":25},561]
[{"$nulls":25},562]
[{"$nulls":25},563]
[{"$nulls":25},564]
[{"$nulls":25},565]
[{"$nulls":25},566]
[{"$nulls":25},567]
[{"$nulls":25},568]
[{"$nulls":25},569]
[{"$nulls":25},570]
[{"$nulls":25},571]
[{"$nulls":25},572]
[{"$nulls":25},573]
[{"$nulls":25},574]
[{"$nulls":25},575]
[{"$nulls":25},576]
[{"$nulls":25},577]
[{"$nulls":25},578]
[{"$nulls":25},{"$f":"+Z582+1","v":579}]
[{"$nulls":25},580]
[{"$nulls":25},581]
[{"$nulls":25},582]
[{"$nulls":25},583]
[{"$nulls":25},584]
[{"$nulls":25},585]
[{"$nulls":25},586]
[{"$nulls":25},587]
[{"$nulls":25},588]
[{"$nulls":25},589]
[{"$nulls":25},590]
[{"$nulls":25},591]
[{"$nulls":25},592]
[{"$nulls":25},593]
[{"$nulls":25},594]
[{"$nulls":25},595]
[{"$nulls":25},596]
[{"$nulls":25},597]
[{"$nulls":25},598]
[{"$nulls":25},599]
[{"$nulls":25},600]
[{"$nulls":25},601]
[{"$nulls":25},602]
[{"$nulls":25},603]
[{"$nulls":25},604]
[{"$nulls":25},605]
[{"$nulls":25},606]
[{"$nulls":25},607]
[{"$nulls":25},608]
[{"$nulls":25},609]
[{"$nulls":25},610]
[{"$nulls":25},611]
[{"$nulls":25},612]
[{"$nulls":25},613]
[{"$nulls":25},614]
[{"$nulls":25},615]
[{"$nulls":25},616]
[{"$nulls":25},617]
[{"$nulls":25},618]
[{"$nulls":25},619]
[{"$nulls":25},620]
[{"$nulls":25},621]
[{"$nulls":25},622]
[{"$nulls":25},623]
[{"$nulls":25},624]
[{"$nulls":25},625]
[{"$nulls":25},626]
[{"$nulls":25},627]
[{"$nulls":25},628]
[{"$nulls":25},629]
[{"$nulls":25},630]
[{"$nulls":25},631]
[{"$nulls":25},632]
[{"$nulls":25},633]
[{"$nulls":25},634]
[{"$nulls":25},635]
[{"$nulls":25},636]
[{"$nulls":25},637]
[{"$nulls":25},638]
[{"$nulls":25},639]
[{"$nulls":25},640]
[{"$nulls":25},641]
[{"$nulls":25},642]
[{"$nulls":25},{"$f":"+Z646+1","v":643}]
[{"$nulls":25},644]
[{"$nulls":25},645]
[{"$nulls":25},646]
[{"$nulls":25},647]
[{"$nulls":25},648]
[{"$nulls":25},649]
[{"$nulls":25},650]
[{"$nulls":25},651]
[{"$nulls":25},652]
[{"$nulls":25},653]
[{"$nulls":25},654]
[{"$nulls":25},655]
[{"$nulls":25},656]
[{"$nulls":25},657]
[{"$nulls":25},658]
[{"$nulls":25},659]
[{"$nulls":25},660]
[{"$nulls":25},661]
[{"$nulls":25},662]
[{"$nulls":25},663]
[{"$nulls":25},664]
[{"$nulls":25},665]
[{"$nulls":25},666]
[{"$nulls":25},667]
[{"$nulls":25},668]
[{"$nulls":25},669]
[{"$nulls":25},670]
[{"$nulls":25},671]
[{"$nulls":25},672]
[{"$nulls":25},673]
[{"$nulls":25},674]
[{"$nulls":25},675]
[{"$nulls":25},676]
[{"$nulls":25},677]
[{"$nulls":25},678]
[{"$nulls":25},679]
[{"$nulls":25},680]
[{"$nulls":25},681]
[{"$nulls":25},682]
[{"$nulls":25},683]
[{"$nulls":25},684]
[{"$nulls":25},685]
[{"$nulls":25},686]
[{"$nulls":25},687]
[{"$nulls":25},688]
[{"$nulls":25},689]
[{"$nulls":25},690]
[{"$nulls":25},691]
[{"$nulls":25},692]
[{"$nulls":25},693]
[{"$nulls":25},694]
[{"$nulls":25},695]
[{"$nulls":25},696]
[{"$nulls":25},697]
[{"$nulls":25},698]
[{"$nulls":25},699]
[{"$nulls":25},700]
[{"$nulls":25},701]
[{"$nulls":25},702]
[{"$nulls":25},703]
[{"$nulls":25},704]
[{"$nulls":25},705]
[{"$nulls":25},706]
[{"$nulls":25},{"$f":"+Z710+1","v":707}]
[{"$nulls":25},708]
[{"$nulls":25},709]
[{"$nulls":25},710]
[{"$nulls":25},711]
[{"$nulls":25},712]
[{"$nulls":25},713]
[{"$nulls":25},714]
[{"$nulls":25},715]
[{"$nulls":25},716]
[{"$nulls":25},717]
[{"$nulls":25},718]
[{"$nulls":25},719]
[{"$nulls":25},720]
[{"$nulls":25},721]
[{"$nulls":25},722]
[{"$nulls":25},723]
[{"$nulls":25},724]
[{"$nulls":25},725]
[{"$nulls":25},726]
[{"$nulls":25},727]
[{"$nulls":25},728]
[{"$nulls":25},729]
[{"$nulls":25},730]
[{"$nulls":25},731]
[{"$nulls":25},732]
[{"$nulls":25},733]
[{"$nulls":25},734]
[{"$nulls":25},735]
[{"$nulls":25},736]
[{"$nulls":25},737]
[{"$nulls":25},738]
[{"$nulls":25},739]
[{"$nulls":25},740]
[{"$nulls":25},741]
[{"$nulls":25},742]
[{"$nulls":25},743]
[{"$nulls":25},744]
[{"$nulls":25},745]
[{"$nulls":25},746]
[{"$nulls":25},747]
[{"$nulls":25},748]
[{"$nulls":25},749]
[{"$nulls":25},750]
[{"$nulls":25},751]
[{"$nulls":25},752]
[{"$nulls":25},753]
[{"$nulls":25},754]
[{"$nulls":25},755]
[{"$nulls":25},756]
[{"$nulls":25},757]
[{"$nulls":25},758]
[{"$nulls":25},759]
[{"$nulls":25},760]
[{"$nulls":25},761]
[{"$nulls":25},762]
[{"$nulls":25},763]
[{"$nulls":25},764]
[{"$nulls":25},765]
[{"$nulls":25},766]
[{"$nulls":25},767]
[{"$nulls":25},768]
[{"$nulls":25},769]
[{"$nulls":25},770]
[{"$nulls":25},{"$f":"+Z774+1","v":771}]
[{"$nulls":25},772]
[{"$nulls":25},773]
[{"$nulls":25},774]
[{"$nulls":25},775]
[{"$nulls":25},776]
[{"$nulls":25},777]
[{"$nulls":25},778]
[{"$nulls":25},779]
[{"$nulls":25},780]
[{"$nulls":25},781]
[{"$nulls":25},782]
[{"$nulls":25},783]
[{"$nulls":25},784]
[{"$nulls":25},785]
[{"$nulls":25},786]
[{"$nulls":25},787]
[{"$nulls":25},788]
[{"$nulls":25},789]
[{"$nulls":25},790]
[{"$nulls":25},791]
[{"$nulls":25},792]
[{"$nulls":25},793]
[{"$nulls":25},794]
[{"$nulls":25},795]
[{"$nulls":25},796]
[{"$nulls":25},797]
[{"$nulls":25},798]
[{"$nulls":25},799]
[{"$nulls":25},800]
[{"$nulls":25},801]
[{"$nulls":25},802]
[{"$nulls":25},803]
[{"$nulls":25},804]
[{"$nulls":25},805]
[{"$nulls":25},806]
[{"$nulls":25},807]
[{"$nulls":25},808]
[{"$nulls":25},809]
[{"$nulls":25},810]
[{"$nulls":25},811]
[{"$nulls":25},812]
[{"$nulls":25},813]
[{"$nulls":25},814]
[{"$nulls":25},815]
[{"$nulls":25},816]
[{"$nulls":25},817]
[{"$nulls":25},818]
[{"$nulls":25},819]
[{"$nulls":25},820]
[{"$nulls":25},821]
[{"$nulls":25},822]
[{"$nulls":25},823]
[{"$nulls":25},824]
[{"$nulls":25},825]
[{"$nulls":25},826]
[{"$nulls":25},827]
[{"$nulls":25},828]
[{"$nulls":25},829]
[{"$nulls":25},830]
[{"$nulls":25},831]
[{"$nulls":25},832]
[{"$nulls":25},833]
[{"$nulls":25},834]
[{"$nulls":25},{"$f":"+Z838+1","v":835}]
[{"$nulls":25},836]
[{"$nulls":25},837]
[{"$nulls":25},838]
[{"$nulls":25},839]
[{"$nulls":25},840]
[{"$nulls":25},841]
[{"$nulls":25},842]
[{"$nulls":25},843]
[{"$nulls":25},844]
[{"$nulls":25},845]
[{"$nulls":25},846]
[{"$nulls":25},847]
[{"$nulls":25},848]
[{"$nulls":25},849]
[{"$nulls":25},850]
[{"$nulls":25},851]
[{"$nulls":25},852]
[{"$nulls":25},853]
[{"$nulls":25},854]
[{"$nulls":25},855]
[{"$nulls":25},856]
[{"$nulls":25},857]
[{"$nulls":25},858]
[{"$nulls":25},859]
[{"$nulls":25},860]
[{"$nulls":25},861]
[{"$nulls":25},862]
[{"$nulls":25},863]
[{"$nulls":25},864]
[{"$nulls":25},865]
[{"$nulls":25},866]
[{"$nulls":25},867]
[{"$nulls":25},868]
[{"$nulls":25},869]
[{"$nulls":25},870]
[{"$nulls":25},871]
[{"$nulls":25},872]
[{"$nulls":25},873]
[{"$nulls":25},874]
[{"$nulls":25},875]
[{"$nulls":25},876]
[{"$nulls":25},877]
[{"$nulls":25},878]
[{"$nulls":25},879]
[{"$nulls":25},880]
[{"$nulls":25},881]
[{"$nulls":25},882]
[{"$nulls":25},883]
[{"$nulls":25},884]
[{"$nulls":25},885]
[{"$nulls":25},886]
[{"$nulls":25},887]
[{"$nulls":25},888]
[{"$nulls":25},889]
[{"$nulls":25},890]
[{"$nulls":25},891]
[{"$nulls":25},892]
[{"$nulls":25},893]
[{"$nulls":25},894]
[{"$nulls":25},895]
[{"$nulls":25},896]
[{"$nulls":25},897]
[{"$nulls":25},898]
[{"$nulls":25},{"$f":"+Z902+1","v":899}]
[{"$nulls":25},900]
[{"$nulls":25},901]
[{"$nulls":25},902]
[{"$nulls":25},903]
[{"$nulls":25},904]
[{"$nulls":25},905]
[{"$nulls":25},906]
[{"$nulls":25},907]
[{"$nulls":25},908]
[{"$nulls":25},909]
[{"$nulls":25},910]
[{"$nulls":25},911]
[{"$nulls":25},912]
[{"$nulls":25},913]
[{"$nulls":25},914]
[{"$nulls":25},915]
[{"$nulls":25},916]
[{"$nulls":25},917]
[{"$nulls":25},918]
[{"$nulls":25},919]
[{"$nulls":25},920]
[{"$nulls":25},921]
[{"$nulls":25},922]
[{"$nulls":25},923]
[{"$nulls":25},924]
[{"$nulls":25},925]
[{"$nulls":25},926]
[{"$nulls":25},927]
[{"$nulls":25},928]
[{"$nulls":25},929]
[{"$nulls":25},930]
[{"$nulls":25},931]
[{"$nulls":25},932]
[{"$nulls":25},933]
[{"$nulls":25},934]
[{"$nulls":25},935]
[{"$nulls":25},936]
[{"$nulls":25},937]
[{"$nulls":25},938]
[{"$nulls":25},939]
[{"$nulls":25},940]
[{"$nulls":25},941]
[{"$nulls":25},942]
[{"$nulls":25},943]
[{"$nulls":25},944]
[{"$nulls":25},945]
[{"$nulls":25},946]
[{"$nulls":25},947]
[{"$nulls":25},948]
[{"$nulls":25},949]
[{"$nulls":25},950]
[{"$nulls":25},951]
[{"$nulls":25},952]
[{"$nulls":25},953]
[{"$nulls":25},954]
[{"$nulls":25},955]
[{"$nulls":25},956]
[{"$nulls":25},957]
[{"$nulls":25},958]
[{"$nulls":25},959]
[{"$nulls":25},960]
[{"$nulls":25},961]
[{"$nulls":25},962]
[{"$nulls":25},{"$f":"+Z966+1","v":963}]
[{"$nulls":25},964]
[{"$nulls":25},965]
[{"$nulls":25},966]
[{"$nulls":25},967]
[{"$nulls":25},968]
[{"$nulls":25},969]
[{"$nulls":25},970]
[{"$nulls":25},971]
[{"$nulls":25},972]
[{"$nulls":25},973]
[{"$nulls":25},974]
[{"$nulls":25},975]
[{"$nulls":25},976]
[{"$nulls":25},977]
[{"$nulls":25},978]
[{"$nulls":25},979]
[{"$nulls":25},980]
[{"$nulls":25},981]
[{"$nulls":25},982]
[{"$nulls":25},983]
[{"$nulls":25},984]
[{"$nulls":25},985]
[{"$nulls":25},986]
[{"$nulls":25},987]
[{"$nulls":25},988]
[{"$nulls":25},989]
[{"$nulls":25},990]
[{"$nulls":25},991]
[{"$nulls":25},992]
[{"$nulls":25},993]
[{"$nulls":25},994]
[{"$nulls":25},995]
[{"$nulls":25},996]
[{"$nulls":25},997]
[{"$nulls":25},998]
[{"$nulls":25},999]
[{"$nulls":25},{"v":1000,"d":"1,000"}]
[{"$nulls":25},{"v":1001,"d":"1,001"}]
[{"$nulls":25},{"v":1002,"d":"1,002"}]
[{"$nulls":25},{"v":1003,"d":"1,003"}]
[{"$nulls":25},{"v":1004,"d":"1,004"}]
[{"$nulls":25},{"v":1005,"d":"1,005"}]
[{"$nulls":25},{"v":1006,"d":"1,006"}]
[{"$nulls":25},{"v":1007,"d":"1,007"}]
[{"$nulls":25},{"v":1008,"d":"1,008"}]
[{"$nulls":25},{"v":1009,"d":"1,009"}]
[{"$nulls":25},{"v":1010,"d":"1,010"}]
[{"$nulls":25},{"v":1011,"d":"1,011"}]
[{"$nulls":25},{"v":1012,"d":"1,012"}]
[{"$nulls":25},{"v":1013,"d":"1,013"}]
[{"$nulls":25},{"v":1014,"d":"1,014"}]
[{"$nulls":25},{"v":1015,"d":"1,015"}]
[{"$nulls":25},{"v":1016,"d":"1,016"}]
[{"$nulls":25},{"v":1017,"d":"1,017"}]
[{"$nulls":25},{"v":1018,"d":"1,018"}]
[{"$nulls":25},{"v":1019,"d":"1,019"}]
[{"$nulls":25},{"v":1020,"d":"1,020"}]
[{"$nulls":25},{"v":1021,"d":"1,021"}]
[{"$nulls":25},{"v":1022,"d":"1,022"}]
[{"$nulls":25},{"v":1023,"d":"1,023"}]
[{"$nulls":25},{"v":1024,"d":"1,024"}]
[{"$nulls":25},{"v":1025,"d":"1,025"}]
[{"$nulls":25},{"v":1026,"d":"1,026"}]
[{"$nulls":25},{"$f":"+Z1030+1","v":{"v":1027,"d":"1,027"}}]
[{"$nulls":25},{"v":1028,"d":"1,028"}]
[{"$nulls":25},{"v":1029,"d":"1,029"}]
[{"$nulls":25},{"v":1030,"d":"1,030"}]
[{"$nulls":25},{"v":1031,"d":"1,031"}]
[{"$nulls":25},{"v":1032,"d":"1,032"}]
[{"$nulls":25},{"v":1033,"d":"1,033"}]
[{"$nulls":25},{"v":1034,"d":"1,034"}]
[{"$nulls":25},{"v":1035,"d":"1,035"}]
[{"$nulls":25},{"v":1036,"d":"1,036"}]
[{"$nulls":25},{"v":1037,"d":"1,037"}]
[{"$nulls":25},{"v":1038,"d":"1,038"}]
[{"$nulls":25},{"v":1039,"d":"1,039"}]
[{"$nulls":25},{"v":1040,"d":"1,040"}]
[{"$nulls":25},{"v":1041,"d":"1,041"}]
[{"$nulls":25},{"v":1042,"d":"1,042"}]
[{"$nulls":25},{"v":1043,"d":"1,043"}]
[{"$nulls":25},{"v":1044,"d":"1,044"}]
[{"$nulls":25},{"v":1045,"d":"1,045"}]
[{"$nulls":25},{"v":1046,"d":"1,046"}]
[{"$nulls":25},{"v":1047,"d":"1,047"}]
[{"$nulls":25},{"v":1048,"d":"1,048"}]
[{"$nulls":25},{"v":1049,"d":"1,049"}]
[{"$nulls":25},{"v":1050,"d":"1,050"}]
[{"$nulls":25},{"v":1051,"d":"1,051"}]
[{"$nulls":25},{"v":1052,"d":"1,052"}]
[{"$nulls":25},{"v":1053,"d":"1,053"}]
[{"$nulls":25},{"v":1054,"d":"1,054"}]
[{"$nulls":25},{"v":1055,"d":"1,055"}]
[{"$nulls":25},{"v":1056,"d":"1,056"}]
[{"$nulls":25},{"v":1057,"d":"1,057"}]
[{"$nulls":25},{"v":1058,"d":"1,058"}]
[{"$nulls":25},{"v":1059,"d":"1,059"}]
[{"$nulls":25},{"v":1060,"d":"1,060"}]
[{"$nulls":25},{"v":1061,"d":"1,061"}]
[{"$nulls":25},{"v":1062,"d":"1,062"}]
[{"$nulls":25},{"v":1063,"d":"1,063"}]
[{"$nulls":25},{"v":1064,"d":"1,064"}]
[{"$nulls":25},{"v":1065,"d":"1,065"}]
[{"$nulls":25},{"v":1066,"d":"1,066"}]
[{"$nulls":25},{"v":1067,"d":"1,067"}]
[{"$nulls":25},{"v":1068,"d":"1,068"}]
[{"$nulls":25},{"v":1069,"d":"1,069"}]
[{"$nulls":25},{"v":1070,"d":"1,070"}]
[{"$nulls":25},{"v":1071,"d":"1,071"}]
[{"$nulls":25},{"v":1072,"d":"1,072"}]
[{"$nulls":25},{"v":1073,"d":"1,073"}]
[{"$nulls":25},{"v":1074,"d":"1,074"}]
[{"$nulls":25},{"v":1075,"d":"1,075"}]
[{"$nulls":25},{"v":1076,"d":"1,076"}]
[{"$nulls":25},{"v":1077,"d":"1,077"}]
[{"$nulls":25},{"v":1078,"d":"1,078"}]
[{"$nulls":25},{"v":1079,"d":"1,079"}]
[{"$nulls":25},{"v":1080,"d":"1,080"}]
[{"$nulls":25},{"v":1081,"d":"1,081"}]
[{"$nulls":25},{"v":1082,"d":"1,082"}]
[{"$nulls":25},{"v":1083,"d":"1,083"}]
[{"$nulls":25},{"v":1084,"d":"1,084"}]
[{"$nulls":25},{"v":1085,"d":"1,085"}]
[{"$nulls":25},{"v":1086,"d":"1,086"}]
[{"$nulls":25},{"v":1087,"d":"1,087"}]
[{"$nulls":25},{"v":1088,"d":"1,088"}]
[{"$nulls":25},{"v":1089,"d":"1,089"}]
[{"$nulls":25},{"v":1090,"d":"1,090"}]
[{"$nulls":25},{"$f":"+Z1094+1","v":{"v":1091,"d":"1,091"}}]
[{"$nulls":25},{"v":1092,"d":"1,092"}]
[{"$nulls":25},{"v":1093,"d":"1,093"}]
[{"$nulls":25},{"v":1094,"d":"1,094"}]
[{"$nulls":25},{"v":1095,"d":"1,095"}]
[{"$nulls":25},{"v":1096,"d":"1,096"}]
[{"$nulls":25},{"v":1097,"d":"1,097"}]
[{"$nulls":25},{"v":1098,"d":"1,098"}]
[{"$nulls":25},{"v":1099,"d":"1,099"}]
[{"$nulls":25},{"v":1100,"d":"1,100"}]
[{"$nulls":25},{"v":1101,"d":"1,101"}]
[{"$nulls":25},{"v":1102,"d":"1,102"}]
[{"$nulls":25},{"v":1103,"d":"1,103"}]
[{"$nulls":25},{"v":1104,"d":"1,104"}]
[{"$nulls":25},{"v":1105,"d":"1,105"}]
[{"$nulls":25},{"v":1106,"d":"1,106"}]
[{"$nulls":25},{"v":1107,"d":"1,107"}]
[{"$nulls":25},{"v":1108,"d":"1,108"}]
[{"$nulls":25},{"v":1109,"d":"1,109"}]
[{"$nulls":25},{"v":1110,"d":"1,110"}]
[{"$nulls":25},{"v":1111,"d":"1,111"}]
[{"$nulls":25},{"v":1112,"d":"1,112"}]
[{"$nulls":25},{"v":1113,"d":"1,113"}]
[{"$nulls":25},{"v":1114,"d":"1,114"}]
[{"$nulls":25},{"v":1115,"d":"1,115"}]
[{"$nulls":25},{"v":1116,"d":"1,116"}]
[{"$nulls":25},{"v":1117,"d":"1,117"}]
[{"$nulls":25},{"v":1118,"d":"1,118"}]
[{"$nulls":25},{"v":1119,"d":"1,119"}]
[{"$nulls":25},{"v":1120,"d":"1,120"}]
[{"$nulls":25},{"v":1121,"d":"1,121"}]
[{"$nulls":25},{"v":1122,"d":"1,122"}]
[{"$nulls":25},{"v":1123,"d":"1,123"}]
[{"$nulls":25},{"v":1124,"d":"1,124"}]
[{"$nulls":25},{"v":1125,"d":"1,125"}]
[{"$nulls":25},{"v":1126,"d":"1,126"}]
[{"$nulls":25},{"v":1127,"d":"1,127"}]
[{"$nulls":25},{"v":1128,"d":"1,128"}]
[{"$nulls":25},{"v":1129,"d":"1,129"}]
[{"$nulls":25},{"v":1130,"d":"1,130"}]
[{"$nulls":25},{"v":1131,"d":"1,131"}]
[{"$nulls":25},{"v":1132,"d":"1,132"}]
[{"$nulls":25},{"v":1133,"d":"1,133"}]
[{"$nulls":25},{"v":1134,"d":"1,134"}]
[{"$nulls":25},{"v":1135,"d":"1,135"}]
[{"$nulls":25},{"v":1136,"d":"1,136"}]
[{"$nulls":25},{"v":1137,"d":"1,137"}]
[{"$nulls":25},{"v":1138,"d":"1,138"}]
[{"$nulls":25},{"v":1139,"d":"1,139"}]
[{"$nulls":25},{"v":1140,"d":"1,140"}]
[{"$nulls":25},{"v":1141,"d":"1,141"}]
[{"$nulls":25},{"v":1142,"d":"1,142"}]
[{"$nulls":25},{"v":1143,"d":"1,143"}]
[{"$nulls":25},{"v":1144,"d":"1,144"}]
[{"$nulls":25},{"v":1145,"d":"1,145"}]
[{"$nulls":25},{"v":1146,"d":"1,146"}]
[{"$nulls":25},{"v":1147,"d":"1,147"}]
[{"$nulls":25},{"v":1148,"d":"1,148"}]
[{"$nulls":25},{"v":1149,"d":"1,149"}]
[{"$nulls":25},{"v":1150,"d":"1,150"}]
[{"$nulls":25},{"v":1151,"d":"1,151"}]
[{"$nulls":25},{"v":1152,"d":"1,152"}]
[{"$nulls":25},{"v":1153,"d":"1,153"}]
[{"$nulls":25},{"v":1154,"d":"1,154"}]
[{"$nulls":25},{"$f":"+Z1158+1","v":{"v":1155,"d":"1,155"}}]
[{"$nulls":25},{"v":1156,"d":"1,156"}]
[{"$nulls":25},{"v":1157,"d":"1,157"}]
[{"$nulls":25},{"v":1158,"d":"1,158"}]
[{"$nulls":25},{"v":1159,"d":"1,159"}]
[{"$nulls":25},{"v":1160,"d":"1,160"}]
[{"$nulls":25},{"v":1161,"d":"1,161"}]
[{"$nulls":25},{"v":1162,"d":"1,162"}]
[{"$nulls":25},{"v":1163,"d":"1,163"}]
[{"$nulls":25},{"v":1164,"d":"1,164"}]
[{"$nulls":25},{"v":1165,"d":"1,165"}]
[{"$nulls":25},{"v":1166,"d":"1,166"}]
[{"$nulls":25},{"v":1167,"d":"1,167"}]
[{"$nulls":25},{"v":1168,"d":"1,168"}]
[{"$nulls":25},{"v":1169,"d":"1,169"}]
[{"$nulls":25},{"v":1170,"d":"1,170"}]
[{"$nulls":25},{"v":1171,"d":"1,171"}]
[{"$nulls":25},{"v":1172,"d":"1,172"}]
[{"$nulls":25},{"v":1173,"d":"1,173"}]
[{"$nulls":25},{"v":1174,"d":"1,174"}]
[{"$nulls":25},{"v":1175,"d":"1,175"}]
[{"$nulls":25},{"v":1176,"d":"1,176"}]
[{"$nulls":25},{"v":1177,"d":"1,177"}]
[{"$nulls":25},{"v":1178,"d":"1,178"}]
[{"$nulls":25},{"v":1179,"d":"1,179"}]
[{"$nulls":25},{"v":1180,"d":"1,180"}]
[{"$nulls":25},{"v":1181,"d":"1,181"}]
[{"$nulls":25},{"v":1182,"d":"1,182"}]
[{"$nulls":25},{"v":1183,"d":"1,183"}]
[{"$nulls":25},{"v":1184,"d":"1,184"}]
[{"$nulls":25},{"v":1185,"d":"1,185"}]
[{"$nulls":25},{"v":1186,"d":"1,186"}]
[{"$nulls":25},{"v":1187,"d":"1,187"}]
[{"$nulls":25},{"v":1188,"d":"1,188"}]
[{"$nulls":25},{"v":1189,"d":"1,189"}]
[{"$nulls":25},{"v":1190,"d":"1,190"}]
[{"$nulls":25},{"v":1191,"d":"1,191"}]
[{"$nulls":25},{"v":1192,"d":"1,192"}]
[{"$nulls":25},{"v":1193,"d":"1,193"}]
[{"$nulls":25},{"v":1194,"d":"1,194"}]
[{"$nulls":25},{"v":1195,"d":"1,195"}]
[{"$nulls":25},{"v":1196,"d":"1,196"}]
[{"$nulls":25},{"v":1197,"d":"1,197"}]
[{"$nulls":25},{"v":1198,"d":"1,198"}]
[{"$nulls":25},{"v":1199,"d":"1,199"}]
[{"$nulls":25},{"v":1200,"d":"1,200"}]
[{"$nulls":25},{"v":1201,"d":"1,201"}]
[{"$nulls":25},{"v":1202,"d":"1,202"}]
[{"$nulls":25},{"v":1203,"d":"1,203"}]
[{"$nulls":25},{"v":1204,"d":"1,204"}]
[{"$nulls":25},{"v":1205,"d":"1,205"}]
[{"$nulls":25},{"v":1206,"d":"1,206"}]
[{"$nulls":25},{"v":1207,"d":"1,207"}]
[{"$nulls":25},{"v":1208,"d":"1,208"}]
[{"$nulls":25},{"v":1209,"d":"1,209"}]
[{"$nulls":25},{"v":1210,"d":"1,210"}]
[{"$nulls":25},{"v":1211,"d":"1,211"}]
[{"$nulls":25},{"v":1212,"d":"1,212"}]
[{"$nulls":25},{"v":1213,"d":"1,213"}]
[{"$nulls":25},{"v":1214,"d":"1,214"}]
[{"$nulls":25},{"v":1215,"d":"1,215"}]
[{"$nulls":25},{"v":1216,"d":"1,216"}]
[{"$nulls":25},{"v":1217,"d":"1,217"}]
[{"$nulls":25},{"v":1218,"d":"1,218"}]
[{"$nulls":25},{"$f":"+Z1222+1","v":{"v":1219,"d":"1,219"}}]
[{"$nulls":25},{"v":1220,"d":"1,220"}]
[{"$nulls":25},{"v":1221,"d":"1,221"}]
[{"$nulls":25},{"v":1222,"d":"1,222"}]
[{"$nulls":25},{"v":1223,"d":"1,223"}]
[{"$nulls":25},{"v":1224,"d":"1,224"}]
[{"$nulls":25},{"v":1225,"d":"1,225"}]
[{"$nulls":25},{"v":1226,"d":"1,226"}]
[{"$nulls":25},{"v":1227,"d":"1,227"}]
[{"$nulls":25},{"v":1228,"d":"1,228"}]
[{"$nulls":25},{"v":1229,"d":"1,229"}]
[{"$nulls":25},{"v":1230,"d":"1,230"}]
[{"$nulls":25},{"v":1231,"d":"1,231"}]
[{"$nulls":25},{"v":1232,"d":"1,232"}]
[{"$nulls":25},{"v":1233,"d":"1,233"}]
[{"$nulls":25},{"v":1234,"d":"1,234"}]
[{"$nulls":25},{"v":1235,"d":"1,235"}]
[{"$nulls":25},{"v":1236,"d":"1,236"}]
[{"$nulls":25},{"v":1237,"d":"1,237"}]
[{"$nulls":25},{"v":1238,"d":"1,238"}]
[{"$nulls":25},{"v":1239,"d":"1,239"}]
[{"$nulls":25},{"v":1240,"d":"1,240"}]
[{"$nulls":25},{"v":1241,"d":"1,241"}]
[{"$nulls":25},{"v":1242,"d":"1,242"}]
[{"$nulls":25},{"v":1243,"d":"1,243"}]
[{"$nulls":25},{"v":1244,"d":"1,244"}]
[{"$nulls":25},{"v":1245,"d":"1,245"}]
[{"$nulls":25},{"v":1246,"d":"1,246"}]
[{"$nulls":25},{"v":1247,"d":"1,247"}]
[{"$nulls":25},{"v":1248,"d":"1,248"}]
[{"$nulls":25},{"v":1249,"d":"1,249"}]
[{"$nulls":25},{"v":1250,"d":"1,250"}]
[{"$nulls":25},{"v":1251,"d":"1,251"}]
[{"$nulls":25},{"v":1252,"d":"1,252"}]
[{"$nulls":25},{"v":1253,"d":"1,253"}]
[{"$nulls":25},{"v":1254,"d":"1,254"}]
[{"$nulls":25},{"v":1255,"d":"1,255"}]
[{"$nulls":25},{"v":1256,"d":"1,256"}]
[{"$nulls":25},{"v":1257,"d":"1,257"}]
[{"$nulls":25},{"v":1258,"d":"1,258"}]
[{"$nulls":25},{"v":1259,"d":"1,259"}]
[{"$nulls":25},{"v":1260,"d":"1,260"}]
[{"$nulls":25},{"v":1261,"d":"1,261"}]
[{"$nulls":25},{"v":1262,"d":"1,262"}]
[{"$nulls":25},{"v":1263,"d":"1,263"}]
[{"$nulls":25},{"v":1264,"d":"1,264"}]
[{"$nulls":25},{"v":1265,"d":"1,265"}]
[{"$nulls":25},{"v":1266,"d":"1,266"}]
[{"$nulls":25},{"v":1267,"d":"1,267"}]
[{"$nulls":25},{"v":1268,"d":"1,268"}]
[{"$nulls":25},{"v":1269,"d":"1,269"}]
[{"$nulls":25},{"v":1270,"d":"1,270"}]
[{"$nulls":25},{"v":1271,"d":"1,271"}]
[{"$nulls":25},{"v":1272,"d":"1,272"}]
[{"$nulls":25},{"v":1273,"d":"1,273"}]
[{"$nulls":25},{"v":1274,"d":"1,274"}]
[{"$nulls":25},{"v":1275,"d":"1,275"}]
[{"$nulls":25},{"v":1276,"d":"1,276"}]
[{"$nulls":25},{"v":1277,"d":"1,277"}]
[{"$nulls":25},{"v":1278,"d":"1,278"}]
[{"$nulls":25},{"v":1279,"d":"1,279"}]
[{"$nulls":25},{"v":1280,"d":"1,280"}]
[{"$nulls":25},{"v":1281,"d":"1,281"}]
[{"$nulls":25},{"v":1282,"d":"1,282"}]
[{"$nulls":25},{"$f":"+Z1286+1","v":{"v":1283,"d":"1,283"}}]
[{"$nulls":25},{"v":1284,"d":"1,284"}]
[{"$nulls":25},{"v":1285,"d":"1,285"}]
[{"$nulls":25},{"v":1286,"d":"1,286"}]
[{"$nulls":25},{"v":1287,"d":"1,287"}]
[{"$nulls":25},{"v":1288,"d":"1,288"}]
[{"$nulls":25},{"v":1289,"d":"1,289"}]
[{"$nulls":25},{"v":1290,"d":"1,290"}]
[{"$nulls":25},{"v":1291,"d":"1,291"}]
[{"$nulls":25},{"v":1292,"d":"1,292"}]
[{"$nulls":25},{"v":1293,"d":"1,293"}]
[{"$nulls":25},{"v":1294,"d":"1,294"}]
[{"$nulls":25},{"v":1295,"d":"1,295"}]
[{"$nulls":25},{"v":1296,"d":"1,296"}]
[{"$nulls":25},{"v":1297,"d":"1,297"}]
[{"$nulls":25},{"v":1298,"d":"1,298"}]
[{"$nulls":25},{"v":1299,"d":"1,299"}]
[{"$nulls":25},{"v":1300,"d":"1,300"}]
[{"$nulls":25},{"v":1301,"d":"1,301"}]
[{"$nulls":25},{"v":1302,"d":"1,302"}]
[{"$nulls":25},{"v":1303,"d":"1,303"}]
[{"$nulls":25},{"v":1304,"d":"1,304"}]
[{"$nulls":25},{"v":1305,"d":"1,305"}]
[{"$nulls":25},{"v":1306,"d":"1,306"}]
[{"$nulls":25},{"v":1307,"d":"1,307"}]
[{"$nulls":25},{"v":1308,"d":"1,308"}]
[{"$nulls":25},{"v":1309,"d":"1,309"}]
[{"$nulls":25},{"v":1310,"d":"1,310"}]
[{"$nulls":25},{"v":1311,"d":"1,311"}]
[{"$nulls":25},{"v":1312,"d":"1,312"}]
[{"$nulls":25},{"v":1313,"d":"1,313"}]
[{"$nulls":25},{"v":1314,"d":"1,314"}]
[{"$nulls":25},{"v":1315,"d":"1,315"}]
[{"$nulls":25},{"v":1316,"d":"1,316"}]
[{"$nulls":25},{"v":1317,"d":"1,317"}]
[{"$nulls":25},{"v":1318,"d":"1,318"}]
[{"$nulls":25},{"v":1319,"d":"1,319"}]
[{"$nulls":25},{"v":1320,"d":"1,320"}]
[{"$nulls":25},{"v":1321,"d":"1,321"}]
[{"$nulls":25},{"v":1322,"d":"1,322"}]
[{"$nulls":25},{"v":1323,"d":"1,323"}]
[{"$nulls":25},{"v":1324,"d":"1,324"}]
[{"$nulls":25},{"v":1325,"d":"1,325"}]
[{"$nulls":25},{"v":1326,"d":"1,326"}]
[{"$nulls":25},{"v":1327,"d":"1,327"}]
[{"$nulls":25},{"v":1328,"d":"1,328"}]
[{"$nulls":25},{"v":1329,"d":"1,329"}]
[{"$nulls":25},{"v":1330,"d":"1,330"}]
[{"$nulls":25},{"v":1331,"d":"1,331"}]
[{"$nulls":25},{"v":1332,"d":"1,332"}]
[{"$nulls":25},{"v":1333,"d":"1,333"}]
[{"$nulls":25},{"v":1334,"d":"1,334"}]
[{"$nulls":25},{"v":1335,"d":"1,335"}]
[{"$nulls":25},{"v":1336,"d":"1,336"}]
[{"$nulls":25},{"v":1337,"d":"1,337"}]
[{"$nulls":25},{"v":1338,"d":"1,338"}]
[{"$nulls":25},{"v":1339,"d":"1,339"}]
[{"$nulls":25},{"v":1340,"d":"1,340"}]
[{"$nulls":25},{"v":1341,"d":"1,341"}]
[{"$nulls":25},{"v":1342,"d":"1,342"}]
[{"$nulls":25},{"v":1343,"d":"1,343"}]
[{"$nulls":25},{"v":1344,"d":"1,344"}]
[{"$nulls":25},{"v":1345,"d":"1,345"}]
[{"$nulls":25},{"v":1346,"d":"1,346"}]
[{"$nulls":25},{"$f":"+Z1350+1","v":{"v":1347,"d":"1,347"}}]
[{"$nulls":25},{"v":1348,"d":"1,348"}]
[{"$nulls":25},{"v":1349,"d":"1,349"}]
[{"$nulls":25},{"v":1350,"d":"1,350"}]
[{"$nulls":25},{"v":1351,"d":"1,351"}]
[{"$nulls":25},{"v":1352,"d":"1,352"}]
[{"$nulls":25},{"v":1353,"d":"1,353"}]
[{"$nulls":25},{"v":1354,"d":"1,354"}]
[{"$nulls":25},{"v":1355,"d":"1,355"}]
[{"$nulls":25},{"v":1356,"d":"1,356"}]
[{"$nulls":25},{"v":1357,"d":"1,357"}]
[{"$nulls":25},{"v":1358,"d":"1,358"}]
[{"$nulls":25},{"v":1359,"d":"1,359"}]
[{"$nulls":25},{"v":1360,"d":"1,360"}]
[{"$nulls":25},{"v":1361,"d":"1,361"}]
[{"$nulls":25},{"v":1362,"d":"1,362"}]
[{"$nulls":25},{"v":1363,"d":"1,363"}]
[{"$nulls":25},{"v":1364,"d":"1,364"}]
[{"$nulls":25},{"v":1365,"d":"1,365"}]
[{"$nulls":25},{"v":1366,"d":"1,366"}]
[{"$nulls":25},{"v":1367,"d":"1,367"}]
[{"$nulls":25},{"v":1368,"d":"1,368"}]
[{"$nulls":25},{"v":1369,"d":"1,369"}]
[{"$nulls":25},{"v":1370,"d":"1,370"}]
[{"$nulls":25},{"v":1371,"d":"1,371"}]
[{"$nulls":25},{"v":1372,"d":"1,372"}]
[{"$nulls":25},{"v":1373,"d":"1,373"}]
[{"$nulls":25},{"v":1374,"d":"1,374"}]
[{"$nulls":25},{"v":1375,"d":"1,375"}]
[{"$nulls":25},{"v":1376,"d":"1,376"}]
[{"$nulls":25},{"v":1377,"d":"1,377"}]
[{"$nulls":25},{"v":1378,"d":"1,378"}]
[{"$nulls":25},{"v":1379,"d":"1,379"}]
[{"$nulls":25},{"v":1380,"d":"1,380"}]
[{"$nulls":25},{"v":1381,"d":"1,381"}]
[{"$nulls":25},{"v":1382,"d":"1,382"}]
[{"$nulls":25},{"v":1383,"d":"1,383"}]
[{"$nulls":25},{"v":1384,"d":"1,384"}]
[{"$nulls":25},{"v":1385,"d":"1,385"}]
[{"$nulls":25},{"v":1386,"d":"1,386"}]
[{"$nulls":25},{"v":1387,"d":"1,387"}]
[{"$nulls":25},{"v":1388,"d":"1,388"}]
[{"$nulls":25},{"v":1389,"d":"1,389"}]
[{"$nulls":25},{"v":1390,"d":"1,390"}]
[{"$nulls":25},{"v":1391,"d":"1,391"}]
[{"$nulls":25},{"v":1392,"d":"1,392"}]
[{"$nulls":25},{"v":1393,"d":"1,393"}]
[{"$nulls":25},{"v":1394,"d":"1,394"}]
[{"$nulls":25},{"v":1395,"d":"1,395"}]
[{"$nulls":25},{"v":1396,"d":"1,396"}]
[{"$nulls":25},{"v":1397,"d":"1,397"}]
[{"$nulls":25},{"v":1398,"d":"1,398"}]
[{"$nulls":25},{"v":1399,"d":"1,399"}]
[{"$nulls":25},{"v":1400,"d":"1,400"}]
[{"$nulls":25},{"v":1401,"d":"1,401"}]
[{"$nulls":25},{"v":1402,"d":"1,402"}]
[{"$nulls":25},{"v":1403,"d":"1,403"}]
[{"$nulls":25},{"v":1404,"d":"1,404"}]
[{"$nulls":25},{"v":1405,"d":"1,405"}]
[{"$nulls":25},{"v":1406,"d":"1,406"}]
[{"$nulls":25},{"v":1407,"d":"1,407"}]
[{"$nulls":25},{"v":1408,"d":"1,408"}]
[{"$nulls":25},{"v":1409,"d":"1,409"}]
[{"$nulls":25},{"v":1410,"d":"1,410"}]
[{"$nulls":25},{"$f":"+Z1414+1","v":{"v":1411,"d":"1,411"}}]
[{"$nulls":25},{"v":1412,"d":"1,412"}]
[{"$nulls":25},{"v":1413,"d":"1,413"}]
[{"$nulls":25},{"v":1414,"d":"1,414"}]
[{"$nulls":25},{"v":1415,"d":"1,415"}]
[{"$nulls":25},{"v":1416,"d":"1,416"}]
[{"$nulls":25},{"v":1417,"d":"1,417"}]
[{"$nulls":25},{"v":1418,"d":"1,418"}]
[{"$nulls":25},{"v":1419,"d":"1,419"}]
[{"$nulls":25},{"v":1420,"d":"1,420"}]
[{"$nulls":25},{"v":1421,"d":"1,421"}]
[{"$nulls":25},{"v":1422,"d":"1,422"}]
[{"$nulls":25},{"v":1423,"d":"1,423"}]
[{"$nulls":25},{"v":1424,"d":"1,424"}]
[{"$nulls":25},{"v":1425,"d":"1,425"}]
[{"$nulls":25},{"v":1426,"d":"1,426"}]
[{"$nulls":25},{"v":1427,"d":"1,427"}]
[{"$nulls":25},{"v":1428,"d":"1,428"}]
[{"$nulls":25},{"v":1429,"d":"1,429"}]
[{"$nulls":25},{"v":1430,"d":"1,430"}]
[{"$nulls":25},{"v":1431,"d":"1,431"}]
[{"$nulls":25},{"v":1432,"d":"1,432"}]
[{"$nulls":25},{"v":1433,"d":"1,433"}]
[{"$nulls":25},{"v":1434,"d":"1,434"}]
[{"$nulls":25},{"v":1435,"d":"1,435"}]
[{"$nulls":25},{"v":1436,"d":"1,436"}]
[{"$nulls":25},{"v":1437,"d":"1,437"}]
[{"$nulls":25},{"v":1438,"d":"1,438"}]
[{"$nulls":25},{"v":1439,"d":"1,439"}]
[{"$nulls":25},{"v":1440,"d":"1,440"}]
[{"$nulls":25},{"v":1441,"d":"1,441"}]
[{"$nulls":25},{"v":1442,"d":"1,442"}]
[{"$nulls":25},{"v":1443,"d":"1,443"}]
[{"$nulls":25},{"v":1444,"d":"1,444"}]
[{"$nulls":25},{"v":1445,"d":"1,445"}]
[{"$nulls":25},{"v":1446,"d":"1,446"}]
[{"$nulls":25},{"v":1447,"d":"1,447"}]
[{"$nulls":25},{"v":1448,"d":"1,448"}]
[{"$nulls":25},{"v":1449,"d":"1,449"}]
[{"$nulls":25},{"v":1450,"d":"1,450"}]
[{"$nulls":25},{"v":1451,"d":"1,451"}]
[{"$nulls":25},{"v":1452,"d":"1,452"}]
[{"$nulls":25},{"v":1453,"d":"1,453"}]
[{"$nulls":25},{"v":1454,"d":"1,454"}]
[{"$nulls":25},{"v":1455,"d":"1,455"}]
[{"$nulls":25},{"v":1456,"d":"1,456"}]
[{"$nulls":25},{"v":1457,"d":"1,457"}]
[{"$nulls":25},{"v":1458,"d":"1,458"}]
[{"$nulls":25},{"v":1459,"d":"1,459"}]
[{"$nulls":25},{"v":1460,"d":"1,460"}]
[{"$nulls":25},{"v":1461,"d":"1,461"}]
[{"$nulls":25},{"v":1462,"d":"1,462"}]
[{"$nulls":25},{"v":1463,"d":"1,463"}]
[{"$nulls":25},{"v":1464,"d":"1,464"}]
[{"$nulls":25},{"v":1465,"d":"1,465"}]
[{"$nulls":25},{"v":1466,"d":"1,466"}]
[{"$nulls":25},{"v":1467,"d":"1,467"}]
[{"$nulls":25},{"v":1468,"d":"1,468"}]
[{"$nulls":25},{"v":1469,"d":"1,469"}]
[{"$nulls":25},{"v":1470,"d":"1,470"}]
[{"$nulls":25},{"v":1471,"d":"1,471"}]
[{"$nulls":25},{"v":1472,"d":"1,472"}]
[{"$nulls":25},{"v":1473,"d":"1,473"}]
[{"$nulls":25},{"v":1474,"d":"1,474"}]
[{"$nulls":25},{"$f":"+Z1478+1","v":{"v":1475,"d":"1,475"}}]
[{"$nulls":25},{"v":1476,"d":"1,476"}]
[{"$nulls":25},{"v":1477,"d":"1,477"}]
[{"$nulls":25},{"v":1478,"d":"1,478"}]
[{"$nulls":25},{"v":1479,"d":"1,479"}]
[{"$nulls":25},{"v":1480,"d":"1,480"}]
[{"$nulls":25},{"v":1481,"d":"1,481"}]
[{"$nulls":25},{"v":1482,"d":"1,482"}]
[{"$nulls":25},{"v":1483,"d":"1,483"}]
[{"$nulls":25},{"v":1484,"d":"1,484"}]
[{"$nulls":25},{"v":1485,"d":"1,485"}]
[{"$nulls":25},{"v":1486,"d":"1,486"}]
[{"$nulls":25},{"v":1487,"d":"1,487"}]
[{"$nulls":25},{"v":1488,"d":"1,488"}]
[{"$nulls":25},{"v":1489,"d":"1,489"}]
[{"$nulls":25},{"v":1490,"d":"1,490"}]
[{"$nulls":25},{"v":1491,"d":"1,491"}]
[{"$nulls":25},{"v":1492,"d":"1,492"}]
[{"$nulls":25},{"v":1493,"d":"1,493"}]
[{"$nulls":25},{"v":1494,"d":"1,494"}]
[{"$nulls":25},{"v":1495,"d":"1,495"}]
[{"$nulls":25},{"v":1496,"d":"1,496"}]
[{"$nulls":25},{"v":1497,"d":"1,497"}]
[{"$nulls":25},{"v":1498,"d":"1,498"}]
[{"$nulls":25},{"v":1499,"d":"1,499"}]
[{"$nulls":25},{"v":1500,"d":"1,500"}]
[{"$nulls":25},{"v":1501,"d":"1,501"}]
[{"$nulls":25},{"v":1502,"d":"1,502"}]
[{"$nulls":25},{"v":1503,"d":"1,503"}]
[{"$nulls":25},{"v":1504,"d":"1,504"}]
[{"$nulls":25},{"v":1505,"d":"1,505"}]
[{"$nulls":25},{"v":1506,"d":"1,506"}]
[{"$nulls":25},{"v":1507,"d":"1,507"}]
[{"$nulls":25},{"v":1508,"d":"1,508"}]
[{"$nulls":25},{"v":1509,"d":"1,509"}]
[{"$nulls":25},{"v":1510,"d":"1,510"}]
[{"$nulls":25},{"v":1511,"d":"1,511"}]
[{"$nulls":25},{"v":1512,"d":"1,512"}]
[{"$nulls":25},{"v":1513,"d":"1,513"}]
[{"$nulls":25},{"v":1514,"d":"1,514"}]
[{"$nulls":25},{"v":1515,"d":"1,515"}]
[{"$nulls":25},{"v":1516,"d":"1,516"}]
[{"$nulls":25},{"v":1517,"d":"1,517"}]
[{"$nulls":25},{"v":1518,"d":"1,518"}]
[{"$nulls":25},{"v":1519,"d":"1,519"}]
[{"$nulls":25},{"v":1520,"d":"1,520"}]
[{"$nulls":25},{"v":1521,"d":"1,521"}]
[{"$nulls":25},{"v":1522,"d":"1,522"}]
[{"$nulls":25},{"v":1523,"d":"1,523"}]
[{"$nulls":25},{"v":1524,"d":"1,524"}]
[{"$nulls":25},{"v":1525,"d":"1,525"}]
[{"$nulls":25},{"v":1526,"d":"1,526"}]
[{"$nulls":25},{"v":1527,"d":"1,527"}]
[{"$nulls":25},{"v":1528,"d":"1,528"}]
[{"$nulls":25},{"v":1529,"d":"1,529"}]
[{"$nulls":25},{"v":1530,"d":"1,530"}]
[{"$nulls":25},{"v":1531,"d":"1,531"}]
[{"$nulls":25},{"v":1532,"d":"1,532"}]
[{"$nulls":25},{"v":1533,"d":"1,533"}]
[{"$nulls":25},{"v":1534,"d":"1,534"}]
[{"$nulls":25},{"v":1535,"d":"1,535"}]
[{"$nulls":25},{"v":1536,"d":"1,536"}]
[{"$nulls":25},{"v":1537,"d":"1,537"}]
[{"$nulls":25},{"v":1538,"d":"1,538"}]
[{"$nulls":25},{"$f":"+Z1542+1","v":{"v":1539,"d":"1,539"}}]
[{"$nulls":25},{"v":1540,"d":"1,540"}]
[{"$nulls":25},{"v":1541,"d":"1,541"}]
[{"$nulls":25},{"v":1542,"d":"1,542"}]
[{"$nulls":25},{"v":1543,"d":"1,543"}]
[{"$nulls":25},{"v":1544,"d":"1,544"}]
[{"$nulls":25},{"v":1545,"d":"1,545"}]
[{"$nulls":25},{"v":1546,"d":"1,546"}]
[{"$nulls":25},{"v":1547,"d":"1,547"}]
[{"$nulls":25},{"v":1548,"d":"1,548"}]
[{"$nulls":25},{"v":1549,"d":"1,549"}]
[{"$nulls":25},{"v":1550,"d":"1,550"}]
[{"$nulls":25},{"v":1551,"d":"1,551"}]
[{"$nulls":25},{"v":1552,"d":"1,552"}]
[{"$nulls":25},{"v":1553,"d":"1,553"}]
[{"$nulls":25},{"v":1554,"d":"1,554"}]
[{"$nulls":25},{"v":1555,"d":"1,555"}]
[{"$nulls":25},{"v":1556,"d":"1,556"}]
[{"$nulls":25},{"v":1557,"d":"1,557"}]
[{"$nulls":25},{"v":1558,"d":"1,558"}]
[{"$nulls":25},{"v":1559,"d":"1,559"}]
[{"$nulls":25},{"v":1560,"d":"1,560"}]
[{"$nulls":25},{"v":1561,"d":"1,561"}]
[{"$nulls":25},{"v":1562,"d":"1,562"}]
[{"$nulls":25},{"v":1563,"d":"1,563"}]
[{"$nulls":25},{"v":1564,"d":"1,564"}]
[{"$nulls":25},{"v":1565,"d":"1,565"}]
[{"$nulls":25},{"v":1566,"d":"1,566"}]
[{"$nulls":25},{"v":1567,"d":"1,567"}]
[{"$nulls":25},{"v":1568,"d":"1,568"}]
[{"$nulls":25},{"v":1569,"d":"1,569"}]
[{"$nulls":25},{"v":1570,"d":"1,570"}]
[{"$nulls":25},{"v":1571,"d":"1,571"}]
[{"$nulls":25},{"v":1572,"d":"1,572"}]
[{"$nulls":25},{"v":1573,"d":"1,573"}]
[{"$nulls":25},{"v":1574,"d":"1,574"}]
[{"$nulls":25},{"v":1575,"d":"1,575"}]
[{"$nulls":25},{"v":1576,"d":"1,576"}]
[{"$nulls":25},{"v":1577,"d":"1,577"}]
[{"$nulls":25},{"v":1578,"d":"1,578"}]
[{"$nulls":25},{"v":1579,"d":"1,579"}]
[{"$nulls":25},{"v":1580,"d":"1,580"}]
[{"$nulls":25},{"v":1581,"d":"1,581"}]
[{"$nulls":25},{"v":1582,"d":"1,582"}]
[{"$nulls":25},{"v":1583,"d":"1,583"}]
[{"$nulls":25},{"v":1584,"d":"1,584"}]
[{"$nulls":25},{"v":1585,"d":"1,585"}]
[{"$nulls":25},{"v":1586,"d":"1,586"}]
[{"$nulls":25},{"v":1587,"d":"1,587"}]
[{"$nulls":25},{"v":1588,"d":"1,588"}]
[{"$nulls":25},{"v":1589,"d":"1,589"}]
[{"$nulls":25},{"v":1590,"d":"1,590"}]
[{"$nulls":25},{"v":1591,"d":"1,591"}]
[{"$nulls":25},{"v":1592,"d":"1,592"}]
[{"$nulls":25},{"v":1593,"d":"1,593"}]
[{"$nulls":25},{"v":1594,"d":"1,594"}]
[{"$nulls":25},{"v":1595,"d":"1,595"}]
[{"$nulls":25},{"v":1596,"d":"1,596"}]
[{"$nulls":25},{"v":1597,"d":"1,597"}]
[{"$nulls":25},{"v":1598,"d":"1,598"}]
[{"$nulls":25},{"v":1599,"d":"1,599"}]
[{"$nulls":25},{"v":1600,"d":"1,600"}]
[{"$nulls":25},{"v":1601,"d":"1,601"}]
[{"$nulls":25},{"v":1602,"d":"1,602"}]
[{"$nulls":25},{"$f":"+Z1606+1","v":{"v":1603,"d":"1,603"}}]
[{"$nulls":25},{"v":1604,"d":"1,604"}]
[{"$nulls":25},{"v":1605,"d":"1,605"}]
[{"$nulls":25},{"v":1606,"d":"1,606"}]
[{"$nulls":25},{"v":1607,"d":"1,607"}]
[{"$nulls":25},{"v":1608,"d":"1,608"}]
[{"$nulls":25},{"v":1609,"d":"1,609"}]
[{"$nulls":25},{"v":1610,"d":"1,610"}]
[{"$nulls":25},{"v":1611,"d":"1,611"}]
[{"$nulls":25},{"v":1612,"d":"1,612"}]
[{"$nulls":25},{"v":1613,"d":"1,613"}]
[{"$nulls":25},{"v":1614,"d":"1,614"}]
[{"$nulls":25},{"v":1615,"d":"1,615"}]
[{"$nulls":25},{"v":1616,"d":"1,616"}]
[{"$nulls":25},{"v":1617,"d":"1,617"}]
[{"$nulls":25},{"v":1618,"d":"1,618"}]
[{"$nulls":25},{"v":1619,"d":"1,619"}]
[{"$nulls":25},{"v":1620,"d":"1,620"}]
[{"$nulls":25},{"v":1621,"d":"1,621"}]
[{"$nulls":25},{"v":1622,"d":"1,622"}]
[{"$nulls":25},{"v":1623,"d":"1,623"}]
[{"$nulls":25},{"v":1624,"d":"1,624"}]
[{"$nulls":25},{"v":1625,"d":"1,625"}]
[{"$nulls":25},{"v":1626,"d":"1,626"}]
[{"$nulls":25},{"v":1627,"d":"1,627"}]
[{"$nulls":25},{"v":1628,"d":"1,628"}]
[{"$nulls":25},{"v":1629,"d":"1,629"}]
[{"$nulls":25},{"v":1630,"d":"1,630"}]
[{"$nulls":25},{"v":1631,"d":"1,631"}]
[{"$nulls":25},{"v":1632,"d":"1,632"}]
[{"$nulls":25},{"v":1633,"d":"1,633"}]
[{"$nulls":25},{"v":1634,"d":"1,634"}]
[{"$nulls":25},{"v":1635,"d":"1,635"}]
[{"$nulls":25},{"v":1636,"d":"1,636"}]
[{"$nulls":25},{"v":1637,"d":"1,637"}]
[{"$nulls":25},{"v":1638,"d":"1,638"}]
[{"$nulls":25},{"v":1639,"d":"1,639"}]
[{"$nulls":25},{"v":1640,"d":"1,640"}]
[{"$nulls":25},{"v":1641,"d":"1,641"}]
[{"$nulls":25},{"v":1642,"d":"1,642"}]
[{"$nulls":25},{"v":1643,"d":"1,643"}]
[{"$nulls":25},{"v":1644,"d":"1,644"}]
[{"$nulls":25},{"v":1645,"d":"1,645"}]
[{"$nulls":25},{"v":1646,"d":"1,646"}]
[{"$nulls":25},{"v":1647,"d":"1,647"}]
[{"$nulls":25},{"v":1648,"d":"1,648"}]
[{"$nulls":25},{"v":1649,"d":"1,649"}]
[{"$nulls":25},{"v":1650,"d":"1,650"}]
[{"$nulls":25},{"v":1651,"d":"1,651"}]
[{"$nulls":25},{"v":1652,"d":"1,652"}]
[{"$nulls":25},{"v":1653,"d":"1,653"}]
[{"$nulls":25},{"v":1654,"d":"1,654"}]
[{"$nulls":25},{"v":1655,"d":"1,655"}]
[{"$nulls":25},{"v":1656,"d":"1,656"}]
[{"$nulls":25},{"v":1657,"d":"1,657"}]
[{"$nulls":25},{"v":1658,"d":"1,658"}]
[{"$nulls":25},{"v":1659,"d":"1,659"}]
[{"$nulls":25},{"v":1660,"d":"1,660"}]
[{"$nulls":25},{"v":1661,"d":"1,661"}]
[{"$nulls":25},{"v":1662,"d":"1,662"}]
[{"$nulls":25},{"v":1663,"d":"1,663"}]
[{"$nulls":25},{"v":1664,"d":"1,664"}]
[{"$nulls":25},{"v":1665,"d":"1,665"}]
[{"$nulls":25},{"v":1666,"d":"1,666"}]
[{"$nulls":25},{"$f":"+Z1670+1","v":{"v":1667,"d":"1,667"}}]
[{"$nulls":25},{"v":1668,"d":"1,668"}]
[{"$nulls":25},{"v":1669,"d":"1,669"}]
[{"$nulls":25},{"v":1670,"d":"1,670"}]
[{"$nulls":25},{"v":1671,"d":"1,671"}]
[{"$nulls":25},{"v":1672,"d":"1,672"}]
[{"$nulls":25},{"v":1673,"d":"1,673"}]
[{"$nulls":25},{"v":1674,"d":"1,674"}]
[{"$nulls":25},{"v":1675,"d":"1,675"}]
[{"$nulls":25},{"v":1676,"d":"1,676"}]
[{"$nulls":25},{"v":1677,"d":"1,677"}]
[{"$nulls":25},{"v":1678,"d":"1,678"}]
[{"$nulls":25},{"v":1679,"d":"1,679"}]
[{"$nulls":25},{"v":1680,"d":"1,680"}]
[{"$nulls":25},{"v":1681,"d":"1,681"}]
[{"$nulls":25},{"v":1682,"d":"1,682"}]
[{"$nulls":25},{"v":1683,"d":"1,683"}]
[{"$nulls":25},{"v":1684,"d":"1,684"}]
[{"$nulls":25},{"v":1685,"d":"1,685"}]
[{"$nulls":25},{"v":1686,"d":"1,686"}]
[{"$nulls":25},{"v":1687,"d":"1,687"}]
[{"$nulls":25},{"v":1688,"d":"1,688"}]
[{"$nulls":25},{"v":1689,"d":"1,689"}]
[{"$nulls":25},{"v":1690,"d":"1,690"}]
[{"$nulls":25},{"v":1691,"d":"1,691"}]
[{"$nulls":25},{"v":1692,"d":"1,692"}]
[{"$nulls":25},{"v":1693,"d":"1,693"}]
[{"$nulls":25},{"v":1694,"d":"1,694"}]
[{"$nulls":25},{"v":1695,"d":"1,695"}]
[{"$nulls":25},{"v":1696,"d":"1,696"}]
[{"$nulls":25},{"v":1697,"d":"1,697"}]
[{"$nulls":25},{"v":1698,"d":"1,698"}]
[{"$nulls":25},{"v":1699,"d":"1,699"}]
[{"$nulls":25},{"v":1700,"d":"1,700"}]
[{"$nulls":25},{"v":1701,"d":"1,701"}]
[{"$nulls":25},{"v":1702,"d":"1,702"}]
[{"$nulls":25},{"v":1703,"d":"1,703"}]
[{"$nulls":25},{"v":1704,"d":"1,704"}]
[{"$nulls":25},{"v":1705,"d":"1,705"}]
[{"$nulls":25},{"v":1706,"d":"1,706"}]
[{"$nulls":25},{"v":1707,"d":"1,707"}]
[{"$nulls":25},{"v":1708,"d":"1,708"}]
[{"$nulls":25},{"v":1709,"d":"1,709"}]
[{"$nulls":25},{"v":1710,"d":"1,710"}]
[{"$nulls":25},{"v":1711,"d":"1,711"}]
[{"$nulls":25},{"v":1712,"d":"1,712"}]
[{"$nulls":25},{"v":1713,"d":"1,713"}]
[{"$nulls":25},{"v":1714,"d":"1,714"}]
[{"$nulls":25},{"v":1715,"d":"1,715"}]
[{"$nulls":25},{"v":1716,"d":"1,716"}]
[{"$nulls":25},{"v":1717,"d":"1,717"}]
[{"$nulls":25},{"v":1718,"d":"1,718"}]
[{"$nulls":25},{"v":1719,"d":"1,719"}]
[{"$nulls":25},{"v":1720,"d":"1,720"}]
[{"$nulls":25},{"v":1721,"d":"1,721"}]
[{"$nulls":25},{"v":1722,"d":"1,722"}]
[{"$nulls":25},{"v":1723,"d":"1,723"}]
[{"$nulls":25},{"v":1724,"d":"1,724"}]
[{"$nulls":25},{"v":1725,"d":"1,725"}]
[{"$nulls":25},{"v":1726,"d":"1,726"}]
[{"$nulls":25},{"v":1727,"d":"1,727"}]
[{"$nulls":25},{"v":1728,"d":"1,728"}]
[{"$nulls":25},{"v":1729,"d":"1,729"}]
[{"$nulls":25},{"v":1730,"d":"1,730"}]
[{"$nulls":25},{"$f":"+Z1734+1","v":{"v":1731,"d":"1,731"}}]
[{"$nulls":25},{"v":1732,"d":"1,732"}]
[{"$nulls":25},{"v":1733,"d":"1,733"}]
[{"$nulls":25},{"v":1734,"d":"1,734"}]
[{"$nulls":25},{"v":1735,"d":"1,735"}]
[{"$nulls":25},{"v":1736,"d":"1,736"}]
[{"$nulls":25},{"v":1737,"d":"1,737"}]
[{"$nulls":25},{"v":1738,"d":"1,738"}]
[{"$nulls":25},{"v":1739,"d":"1,739"}]
[{"$nulls":25},{"v":1740,"d":"1,740"}]
[{"$nulls":25},{"v":1741,"d":"1,741"}]
[{"$nulls":25},{"v":1742,"d":"1,742"}]
[{"$nulls":25},{"v":1743,"d":"1,743"}]
[{"$nulls":25},{"v":1744,"d":"1,744"}]
[{"$nulls":25},{"v":1745,"d":"1,745"}]
[{"$nulls":25},{"v":1746,"d":"1,746"}]
[{"$nulls":25},{"v":1747,"d":"1,747"}]
[{"$nulls":25},{"v":1748,"d":"1,748"}]
[{"$nulls":25},{"v":1749,"d":"1,749"}]
[{"$nulls":25},{"v":1750,"d":"1,750"}]
[{"$nulls":25},{"v":1751,"d":"1,751"}]
[{"$nulls":25},{"v":1752,"d":"1,752"}]
[{"$nulls":25},{"v":1753,"d":"1,753"}]
[{"$nulls":25},{"v":1754,"d":"1,754"}]
[{"$nulls":25},{"v":1755,"d":"1,755"}]
[{"$nulls":25},{"v":1756,"d":"1,756"}]
[{"$nulls":25},{"v":1757,"d":"1,757"}]
[{"$nulls":25},{"v":1758,"d":"1,758"}]
[{"$nulls":25},{"v":1759,"d":"1,759"}]
[{"$nulls":25},{"v":1760,"d":"1,760"}]
[{"$nulls":25},{"v":1761,"d":"1,761"}]
[{"$nulls":25},{"v":1762,"d":"1,762"}]
[{"$nulls":25},{"v":1763,"d":"1,763"}]
[{"$nulls":25},{"v":1764,"d":"1,764"}]
[{"$nulls":25},{"v":1765,"d":"1,765"}]
[{"$nulls":25},{"v":1766,"d":"1,766"}]
[{"$nulls":25},{"v":1767,"d":"1,767"}]
[{"$nulls":25},{"v":1768,"d":"1,768"}]
[{"$nulls":25},{"v":1769,"d":"1,769"}]
[{"$nulls":25},{"v":1770,"d":"1,770"}]
[{"$nulls":25},{"v":1771,"d":"1,771"}]
[{"$nulls":25},{"v":1772,"d":"1,772"}]
[{"$nulls":25},{"v":1773,"d":"1,773"}]
[{"$nulls":25},{"v":1774,"d":"1,774"}]
[{"$nulls":25},{"v":1775,"d":"1,775"}]
[{"$nulls":25},{"v":1776,"d":"1,776"}]
[{"$nulls":25},{"v":1777,"d":"1,777"}]
[{"$nulls":25},{"v":1778,"d":"1,778"}]
[{"$nulls":25},{"v":1779,"d":"1,779"}]
[{"$nulls":25},{"v":1780,"d":"1,780"}]
[{"$nulls":25},{"v":1781,"d":"1,781"}]
[{"$nulls":25},{"v":1782,"d":"1,782"}]
[{"$nulls":25},{"v":1783,"d":"1,783"}]
[{"$nulls":25},{"v":1784,"d":"1,784"}]
[{"$nulls":25},{"v":1785,"d":"1,785"}]
[{"$nulls":25},{"v":1786,"d":"1,786"}]
[{"$nulls":25},{"v":1787,"d":"1,787"}]
[{"$nulls":25},{"v":1788,"d":"1,788"}]
[{"$nulls":25},{"v":1789,"d":"1,789"}]
[{"$nulls":25},{"v":1790,"d":"1,790"}]
[{"$nulls":25},{"v":1791,"d":"1,791"}]
[{"$nulls":25},{"v":1792,"d":"1,792"}]
[{"$nulls":25},{"v":1793,"d":"1,793"}]
[{"$nulls":25},{"v":1794,"d":"1,794"}]
[{"$nulls":25},{"$f":"+Z1798+1","v":{"v":1795,"d":"1,795"}}]
[{"$nulls":25},{"v":1796,"d":"1,796"}]
[{"$nulls":25},{"v":1797,"d":"1,797"}]
[{"$nulls":25},{"v":1798,"d":"1,798"}]
[{"$nulls":25},{"v":1799,"d":"1,799"}]
[{"$nulls":25},{"v":1800,"d":"1,800"}]
[{"$nulls":25},{"v":1801,"d":"1,801"}]
[{"$nulls":25},{"v":1802,"d":"1,802"}]
[{"$nulls":25},{"v":1803,"d":"1,803"}]
[{"$nulls":25},{"v":1804,"d":"1,804"}]
[{"$nulls":25},{"v":1805,"d":"1,805"}]
[{"$nulls":25},{"v":1806,"d":"1,806"}]
[{"$nulls":25},{"v":1807,"d":"1,807"}]
[{"$nulls":25},{"v":1808,"d":"1,808"}]
[{"$nulls":25},{"v":1809,"d":"1,809"}]
[{"$nulls":25},{"v":1810,"d":"1,810"}]
[{"$nulls":25},{"v":1811,"d":"1,811"}]
[{"$nulls":25},{"v":1812,"d":"1,812"}]
[{"$nulls":25},{"v":1813,"d":"1,813"}]
[{"$nulls":25},{"v":1814,"d":"1,814"}]
[{"$nulls":25},{"v":1815,"d":"1,815"}]
[{"$nulls":25},{"v":1816,"d":"1,816"}]
[{"$nulls":25},{"v":1817,"d":"1,817"}]
[{"$nulls":25},{"v":1818,"d":"1,818"}]
[{"$nulls":25},{"v":1819,"d":"1,819"}]
[{"$nulls":25},{"v":1820,"d":"1,820"}]
[{"$nulls":25},{"v":1821,"d":"1,821"}]
[{"$nulls":25},{"v":1822,"d":"1,822"}]
[{"$nulls":25},{"v":1823,"d":"1,823"}]
[{"$nulls":25},{"v":1824,"d":"1,824"}]
[{"$nulls":25},{"v":1825,"d":"1,825"}]
[{"$nulls":25},{"v":1826,"d":"1,826"}]
[{"$nulls":25},{"v":1827,"d":"1,827"}]
[{"$nulls":25},{"v":1828,"d":"1,828"}]
[{"$nulls":25},{"v":1829,"d":"1,829"}]
[{"$nulls":25},{"v":1830,"d":"1,830"}]
[{"$nulls":25},{"v":1831,"d":"1,831"}]
[{"$nulls":25},{"v":1832,"d":"1,832"}]
[{"$nulls":25},{"v":1833,"d":"1,833"}]
[{"$nulls":25},{"v":1834,"d":"1,834"}]
[{"$nulls":25},{"v":1835,"d":"1,835"}]
[{"$nulls":25},{"v":1836,"d":"1,836"}]
[{"$nulls":25},{"v":1837,"d":"1,837"}]
[{"$nulls":25},{"v":1838,"d":"1,838"}]
[{"$nulls":25},{"v":1839,"d":"1,839"}]
[{"$nulls":25},{"v":1840,"d":"1,840"}]
[{"$nulls":25},{"v":1841,"d":"1,841"}]
[{"$nulls":25},{"v":1842,"d":"1,842"}]
[{"$nulls":25},{"v":1843,"d":"1,843"}]
[{"$nulls":25},{"v":1844,"d":"1,844"}]
[{"$nulls":25},{"v":1845,"d":"1,845"}]
[{"$nulls":25},{"v":1846,"d":"1,846"}]
[{"$nulls":25},{"v":1847,"d":"1,847"}]
[{"$nulls":25},{"v":1848,"d":"1,848"}]
[{"$nulls":25},{"v":1849,"d":"1,849"}]
[{"$nulls":25},{"v":1850,"d":"1,850"}]
[{"$nulls":25},{"v":1851,"d":"1,851"}]
[{"$nulls":25},{"v":1852,"d":"1,852"}]
[{"$nulls":25},{"v":1853,"d":"1,853"}]
[{"$nulls":25},{"v":1854,"d":"1,854"}]
[{"$nulls":25},{"v":1855,"d":"1,855"}]
[{"$nulls":25},{"v":1856,"d":"1,856"}]
[{"$nulls":25},{"v":1857,"d":"1,857"}]
[{"$nulls":25},{"v":1858,"d":"1,858"}]
[{"$nulls":25},{"$f":"+Z1862+1","v":{"v":1859,"d":"1,859"}}]
[{"$nulls":25},{"v":1860,"d":"1,860"}]
[{"$nulls":25},{"v":1861,"d":"1,861"}]
[{"$nulls":25},{"v":1862,"d":"1,862"}]
[{"$nulls":25},{"v":1863,"d":"1,863"}]
[{"$nulls":25},{"v":1864,"d":"1,864"}]
[{"$nulls":25},{"v":1865,"d":"1,865"}]
[{"$nulls":25},{"v":1866,"d":"1,866"}]
[{"$nulls":25},{"v":1867,"d":"1,867"}]
[{"$nulls":25},{"v":1868,"d":"1,868"}]
[{"$nulls":25},{"v":1869,"d":"1,869"}]
[{"$nulls":25},{"v":1870,"d":"1,870"}]
[{"$nulls":25},{"v":1871,"d":"1,871"}]
[{"$nulls":25},{"v":1872,"d":"1,872"}]
[{"$nulls":25},{"v":1873,"d":"1,873"}]
[{"$nulls":25},{"v":1874,"d":"1,874"}]
[{"$nulls":25},{"v":1875,"d":"1,875"}]
[{"$nulls":25},{"v":1876,"d":"1,876"}]
[{"$nulls":25},{"v":1877,"d":"1,877"}]
[{"$nulls":25},{"v":1878,"d":"1,878"}]
[{"$nulls":25},{"v":1879,"d":"1,879"}]
[{"$nulls":25},{"v":1880,"d":"1,880"}]
[{"$nulls":25},{"v":1881,"d":"1,881"}]
[{"$nulls":25},{"v":1882,"d":"1,882"}]
[{"$nulls":25},{"v":1883,"d":"1,883"}]
[{"$nulls":25},{"v":1884,"d":"1,884"}]
[{"$nulls":25},{"v":1885,"d":"1,885"}]
[{"$nulls":25},{"v":1886,"d":"1,886"}]
[{"$nulls":25},{"v":1887,"d":"1,887"}]
[{"$nulls":25},{"v":1888,"d":"1,888"}]
[{"$nulls":25},{"v":1889,"d":"1,889"}]
[{"$nulls":25},{"v":1890,"d":"1,890"}]
[{"$nulls":25},{"v":1891,"d":"1,891"}]
[{"$nulls":25},{"v":1892,"d":"1,892"}]
[{"$nulls":25},{"v":1893,"d":"1,893"}]
[{"$nulls":25},{"v":1894,"d":"1,894"}]
[{"$nulls":25},{"v":1895,"d":"1,895"}]
[{"$nulls":25},{"v":1896,"d":"1,896"}]
[{"$nulls":25},{"v":1897,"d":"1,897"}]
[{"$nulls":25},{"v":1898,"d":"1,898"}]
[{"$nulls":25},{"v":1899,"d":"1,899"}]
[{"$nulls":25},{"v":1900,"d":"1,900"}]
[{"$nulls":25},{"v":1901,"d":"1,901"}]
[{"$nulls":25},{"v":1902,"d":"1,902"}]
[{"$nulls":25},{"v":1903,"d":"1,903"}]
[{"$nulls":25},{"v":1904,"d":"1,904"}]
[{"$nulls":25},{"v":1905,"d":"1,905"}]
[{"$nulls":25},{"v":1906,"d":"1,906"}]
[{"$nulls":25},{"v":1907,"d":"1,907"}]
[{"$nulls":25},{"v":1908,"d":"1,908"}]
[{"$nulls":25},{"v":1909,"d":"1,909"}]
[{"$nulls":25},{"v":1910,"d":"1,910"}]
[{"$nulls":25},{"v":1911,"d":"1,911"}]
[{"$nulls":25},{"v":1912,"d":"1,912"}]
[{"$nulls":25},{"v":1913,"d":"1,913"}]
[{"$nulls":25},{"v":1914,"d":"1,914"}]
[{"$nulls":25},{"v":1915,"d":"1,915"}]
[{"$nulls":25},{"v":1916,"d":"1,916"}]
[{"$nulls":25},{"v":1917,"d":"1,917"}]
[{"$nulls":25},{"v":1918,"d":"1,918"}]
[{"$nulls":25},{"v":1919,"d":"1,919"}]
[{"$nulls":25},{"v":1920,"d":"1,920"}]
[{"$nulls":25},{"v":1921,"d":"1,921"}]
[{"$nulls":25},{"v":1922,"d":"1,922"}]
[{"$nulls":25},{"$f":"+Z1926+1","v":{"v":1923,"d":"1,923"}}]
[{"$nulls":25},{"v":1924,"d":"1,924"}]
[{"$nulls":25},{"v":1925,"d":"1,925"}]
[{"$nulls":25},{"v":1926,"d":"1,926"}]
[{"$nulls":25},{"v":1927,"d":"1,927"}]
[{"$nulls":25},{"v":1928,"d":"1,928"}]
[{"$nulls":25},{"v":1929,"d":"1,929"}]
[{"$nulls":25},{"v":1930,"d":"1,930"}]
[{"$nulls":25},{"v":1931,"d":"1,931"}]
[{"$nulls":25},{"v":1932,"d":"1,932"}]
[{"$nulls":25},{"v":1933,"d":"1,933"}]
[{"$nulls":25},{"v":1934,"d":"1,934"}]
[{"$nulls":25},{"v":1935,"d":"1,935"}]
[{"$nulls":25},{"v":1936,"d":"1,936"}]
[{"$nulls":25},{"v":1937,"d":"1,937"}]
[{"$nulls":25},{"v":1938,"d":"1,938"}]
[{"$nulls":25},{"v":1939,"d":"1,939"}]
[{"$nulls":25},{"v":1940,"d":"1,940"}]
[{"$nulls":25},{"v":1941,"d":"1,941"}]
[{"$nulls":25},{"v":1942,"d":"1,942"}]
[{"$nulls":25},{"v":1943,"d":"1,943"}]
[{"$nulls":25},{"v":1944,"d":"1,944"}]
[{"$nulls":25},{"v":1945,"d":"1,945"}]
[{"$nulls":25},{"v":1946,"d":"1,946"}]
[{"$nulls":25},{"v":1947,"d":"1,947"}]
[{"$nulls":25},{"v":1948,"d":"1,948"}]
[{"$nulls":25},{"v":1949,"d":"1,949"}]
[{"$nulls":25},{"v":1950,"d":"1,950"}]
[{"$nulls":25},{"v":1951,"d":"1,951"}]
[{"$nulls":25},{"v":1952,"d":"1,952"}]
[{"$nulls":25},{"v":1953,"d":"1,953"}]
[{"$nulls":25},{"v":1954,"d":"1,954"}]
[{"$nulls":25},{"v":1955,"d":"1,955"}]
[{"$nulls":25},{"v":1956,"d":"1,956"}]
[{"$nulls":25},{"v":1957,"d":"1,957"}]
[{"$nulls":25},{"v":1958,"d":"1,958"}]
[{"$nulls":25},{"v":1959,"d":"1,959"}]
[{"$nulls":25},{"v":1960,"d":"1,960"}]
[{"$nulls":25},{"v":1961,"d":"1,961"}]
[{"$nulls":25},{"v":1962,"d":"1,962"}]
[{"$nulls":25},{"v":1963,"d":"1,963"}]
[{"$nulls":25},{"v":1964,"d":"1,964"}]
[{"$nulls":25},{"v":1965,"d":"1,965"}]
[{"$nulls":25},{"v":1966,"d":"1,966"}]
[{"$nulls":25},{"v":1967,"d":"1,967"}]
[{"$nulls":25},{"v":1968,"d":"1,968"}]
[{"$nulls":25},{"v":1969,"d":"1,969"}]
[{"$nulls":25},{"v":1970,"d":"1,970"}]
[{"$nulls":25},{"v":1971,"d":"1,971"}]
[{"$nulls":25},{"v":1972,"d":"1,972"}]
[{"$nulls":25},{"v":1973,"d":"1,973"}]
[{"$nulls":25},{"v":1974,"d":"1,974"}]
[{"$nulls":25},{"v":1975,"d":"1,975"}]
[{"$nulls":25},{"v":1976,"d":"1,976"}]
[{"$nulls":25},{"v":1977,"d":"1,977"}]
[{"$nulls":25},{"v":1978,"d":"1,978"}]
[{"$nulls":25},{"v":1979,"d":"1,979"}]
[{"$nulls":25},{"v":1980,"d":"1,980"}]
[{"$nulls":25},{"v":1981,"d":"1,981"}]
[{"$nulls":25},{"v":1982,"d":"1,982"}]
[{"$nulls":25},{"v":1983,"d":"1,983"}]
[{"$nulls":25},{"v":1984,"d":"1,984"}]
[{"$nulls":25},{"v":1985,"d":"1,985"}]
[{"$nulls":25},{"v":1986,"d":"1,986"}]
[{"$nulls":25},{"$f":"+Z1990+1","v":{"v":1987,"d":"1,987"}}]
[{"$nulls":25},{"v":1988,"d":"1,988"}]
[{"$nulls":25},{"v":1989,"d":"1,989"}]
[{"$nulls":25},{"v":1990,"d":"1,990"}]
[{"$nulls":25},{"v":1991,"d":"1,991"}]
[{"$nulls":25},{"v":1992,"d":"1,992"}]
[{"$nulls":25},{"v":1993,"d":"1,993"}]
[{"$nulls":25},{"v":1994,"d":"1,994"}]
[{"$nulls":25},{"v":1995,"d":"1,995"}]
[{"$nulls":25},{"v":1996,"d":"1,996"}]
[{"$nulls":25},{"v":1997,"d":"1,997"}]
[{"$nulls":25},{"v":1998,"d":"1,998"}]
[{"$nulls":25},{"v":1999,"d":"1,999"}]
[{"$nulls":25},{"v":2000,"d":"2,000"}]

{"sheet":"LIQUIDACION","index":4,"n_rows":55,"n_cols":26,"rows_kept":55,"merged":[[1,1,1,4],[6,2,6,7],[8,2,8,14],[10,2,10,9],[10,11,10,14],[12,2,12,14],[14,2,14,9],[14,10,14,12],[14,13,14,14],[15,2,15,9],[16,2,16,9],[17,2,17,9],[19,0,20,0],[19,1,20,1],[19,2,19,10],[19,14,20,14],[41,2,41,3],[41,4,41,8],[42,4,42,7],[44,2,46,10],[50,2,50,8],[52,2,52,10],[54,0,66,15]]}
[]
[null,"F-GF-020 FORMATO LIQUIDACIÓN COMPRA"]
[null,"TIQUETES PREPAGO"]
[null,"VERSIÓN 005"]
[null,"FECHA : 01/04/2024"]
[]
[null,"Fecha:",{"$f":"+IF(FORMULARIO!C7=\"\",\"\",FORMULARIO!C7)","v":""}]
[]
[null,"Nombre del Cliente",{"$f":"+IF(FORMULARIO!C9=\"\",\"\",FORMULARIO!C9)","v":""}]
[]
[null,"Documento de identidad",{"$f":"+IF(FORMULARIO!N9=\"\",\"\",FORMULARIO!N9)","v":""},{"$nulls":7},"No.",{"$f":"+IF(FORMULARIO!V9=\"\",\"\",FORMULARIO!V9)","v":""}]
[]
[null,"Direccion de envio Tiquetes",{"$f":"+IF(FORMULARIO!D11=\"\",\"\",FORMULARIO!D11)","v":" "}]
[]
[null,"Ciudad",{"$f":"+IF(FORMULARIO!N11=\"\",\"\",FORMULARIO!N11)","v":""},{"$nulls":7},"Departamento",null,null,{"$f":"+IF(FORMULARIO!V11=\"\",\"\",FORMULARIO!V11)","v":""}]
[null,"Contacto",{"$f":"+IF(FORMULARIO!D12=\"\",\"\",FORMULARIO!D12)","v":" "}]
[null,"N° Celular contacto",{"$f":"+IF(FORMULARIO!D13=\"\",\"\",FORMULARIO!D13)","v":""}]
[null,"E_MAIL",{"$f":"+IF(FORMULARIO!N13=\"\",\"\",FORMULARIO!N13)","v":" "}]
[]
["No.","PEAJE","CATEGORÍAS VEHICULARES",{"$nulls":10},"CANTIDAD","VALOR"]
[null,null,"I","II","III","IIIP","IIIG","IV","V","VI","VII",null,null,"TIQUETES"]
[{"$f":"+FORMULARIO!A16","v":1},{"$f":"+IF(FORMULARIO!B16=\"\",\"\",FORMULARIO!B16)","v":"RIO BOGOTA"},{"$f":"+IF(B22=\"\",\"\",IF(FORMULARIO!D16=\"\",\"\",IF(B22=$W$33,\"\",FORMULARIO!D16)))","v":""},{"$f":"+IF(B22=\"\",\"\",IF(FORMULARIO!F16=\"\",\"\",FORMULARIO!F16))","v":""},{"$f":"+IF(B22=\"\",\"\",IF(FORMULARIO!H16=\"\",\"\",FORMULARIO!H16))","v":""},{"$f":"+IF(B22=\"\",\"\",IF(FORMULARIO!J16=\"\",\"\",FORMULARIO!J16))","v":""},{"$f":"+IF(B22=\"\",\"\",IF(FORMULARIO!L16=\"\",\"\",FORMULARIO!L16))","v":""},{"$f":"+IF(B22=\"\",\"\",IF(FORMULARIO!N16=\"\",\"\",FORMULARIO!N16))","v":""},{"$f":"+IF(B22=\"\",\"\",IF(FORMULARIO!P16=\"\",\"\",FORMULARIO!P16))","v":""},{"$f":"+IF(B22=\"\",\"\",IF(FORMULARIO!R16=\"\",\"\",IF(B22=$W$22,\"\",IF(B22=$W$23,\"\",IF(B22=$W$24,\"\",IF(B22=$W$25,\"\",IF(B22=$W$26,\"\",IF(B22=$W$27,\"\",IF(B22=$W$28,\"\",IF(B22=$W$29,\"\",IF(B22=$W$30,\"\",IF(B22=$W$31,\"\",IF(B22=$W$32,\"\",IF(B22=$W$33,\"\",IF(B22=$W$34,\"\",FORMULARIO!R16)))))))))))))))","v":""},{"$f":"+IF(B22=\"\",\"\",IF(FORMULARIO!T16=\"\",\"\",IF(B22=$W$22,\"\",IF(B22=$W$23,\"\",IF(B22=$W$24,\"\",IF(B22=$W$25,\"\",IF(B22=$W$26,\"\",IF(B22=$W$27,\"\",IF(B22=$W$28,\"\",IF(B22=$W$29,\"\",IF(B22=$W$30,\"\",IF(B22=$W$31,\"\",IF(B22=$W$32,\"\",IF(B22=$W$33,\"\",IF(B22=$W$34,\"\",FORMULARIO!T16)))))))))))))))","v":""},null,null,{"$f":"SUM(C22:K22)","v":0},{"$f":"FORMULARIO!W16","v":0},{"$nulls":7},"CASABLANCA"]
[{"$f":"+FORMULARIO!A17","v":""},{"$f":"+IF(FORMULARIO!B17=\"\",\"\",FORMULARIO!B17)","v":""},{"$f":"+IF(B23=\"\",\"\",IF(FORMULARIO!D17=\"\",\"\",IF(B23=$W$33,\"\",FORMULARIO!D17)))","v":""},{"$f":"+IF(B23=\"\",\"\",IF(FORMULARIO!F17=\"\",\"\",FORMULARIO!F17))","v":""},{"$f":"+IF(B23=\"\",\"\",IF(FORMULARIO!H17=\"\",\"\",FORMULARIO!H17))","v":""},{"$f":"+IF(B23=\"\",\"\",IF(FORMULARIO!J17=\"\",\"\",FORMULARIO!J17))","v":""},{"$f":"+IF(B23=\"\",\"\",IF(FORMULARIO!L17=\"\",\"\",FORMULARIO!L17))","v":""},{"$f":"+IF(B23=\"\",\"\",IF(FORMULARIO!N17=\"\",\"\",FORMULARIO!N17))","v":""},{"$f":"+IF(B23=\"\",\"\",IF(FORMULARIO!P17=\"\",\"\",FORMULARIO!P17))","v":""},{"$f":"+IF(B23=\"\",\"\",IF(FORMULARIO!R17=\"\",\"\",IF(B23=$W$22,\"\",IF(B23=$W$23,\"\",IF(B23=$W$24,\"\",IF(B23=$W$25,\"\",IF(B23=$W$26,\"\",IF(B23=$W$27,\"\",IF(B23=$W$28,\"\",IF(B23=$W$29,\"\",IF(B23=$W$30,\"\",IF(B23=$W$31,\"\",IF(B23=$W$32,\"\",IF(B23=$W$33,\"\",IF(B23=$W$34,\"\",FORMULARIO!R17)))))))))))))))","v":""},{"$f":"+IF(B23=\"\",\"\",IF(FORMULARIO!T17=\"\",\"\",IF(B23=$W$22,\"\",IF(B23=$W$23,\"\",IF(B23=$W$24,\"\",IF(B23=$W$25,\"\",IF(B23=$W$26,\"\",IF(B23=$W$27,\"\",IF(B23=$W$28,\"\",IF(B23=$W$29,\"\",IF(B23=$W$30,\"\",IF(B23=$W$31,\"\",IF(B23=$W$32,\"\",IF(B23=$W$33,\"\",IF(B23=$W$34,\"\",FORMULARIO!T17)))))))))))))))","v":""},null,null,{"$f":"SUM(C23:K23)","v":0},{"$f":"FORMULARIO!W17","v":0},{"$nulls":7},"SABOYÁ"]
[{"$f":"+FORMULARIO!A18","v":""},{"$f":"+IF(FORMULARIO!B18=\"\",\"\",FORMULARIO!B18)","v":""},{"$f":"+IF(B24=\"\",\"\",IF(FORMULARIO!D18=\"\",\"\",IF(B24=$W$33,\"\",FORMULARIO!D18)))","v":""},{"$f":"+IF(B24=\"\",\"\",IF(FORMULARIO!F18=\"\",\"\",FORMULARIO!F18))","v":""},{"$f":"+IF(B24=\"\",\"\",IF(FORMULARIO!H18=\"\",\"\",FORMULARIO!H18))","v":""},{"$f":"+IF(B24=\"\",\"\",IF(FORMULARIO!J18=\"\",\"\",FORMULARIO!J18))","v":""},{"$f":"+IF(B24=\"\",\"\",IF(FORMULARIO!L18=\"\",\"\",FORMULARIO!L18))","v":""},{"$f":"+IF(B24=\"\",\"\",IF(FORMULARIO!N18=\"\",\"\",FORMULARIO!N18))","v":""},{"$f":"+IF(B24=\"\",\"\",IF(FORMULARIO!P18=\"\",\"\",FORMULARIO!P18))","v":""},{"$f":"+IF(B24=\"\",\"\",IF(FORMULARIO!R18=\"\",\"\",IF(B24=$W$22,\"\",IF(B24=$W$23,\"\",IF(B24=$W$24,\"\",IF(B24=$W$25,\"\",IF(B24=$W$26,\"\",IF(B24=$W$27,\"\",IF(B24=$W$28,\"\",IF(B24=$W$29,\"\",IF(B24=$W$30,\"\",IF(B24=$W$31,\"\",IF(B24=$W$32,\"\",IF(B24=$W$33,\"\",IF(B24=$W$34,\"\",FORMULARIO!R18)))))))))))))))","v":""},{"$f":"+IF(B24=\"\",\"\",IF(FORMULARIO!T18=\"\",\"\",IF(B24=$W$22,\"\",IF(B24=$W$23,\"\",IF(B24=$W$24,\"\",IF(B24=$W$25,\"\",IF(B24=$W$26,\"\",IF(B24=$W$27,\"\",IF(B24=$W$28,\"\",IF(B24=$W$29,\"\",IF(B24=$W$30,\"\",IF(B24=$W$31,\"\",IF(B24=$W$32,\"\",IF(B24=$W$33,\"\",IF(B24=$W$34,\"\",FORMULARIO!T18)))))))))))))))","v":""},null,null,0,{"$f":"FORMULARIO!W18","v":0},{"$nulls":7},"OIBA"]
[{"$f":"+FORMULARIO!A19","v":""},{"$f":"+IF(FORMULARIO!B19=\"\",\"\",FORMULARIO!B19)","v":""},{"$f":"+IF(B25=\"\",\"\",IF(FORMULARIO!D19=\"\",\"\",IF(B25=$W$33,\"\",FORMULARIO!D19)))","v":""},{"$f":"+IF(B25=\"\",\"\",IF(FORMULARIO!F19=\"\",\"\",FORMULARIO!F19))","v":""},{"$f":"+IF(B25=\"\",\"\",IF(FORMULARIO!H19=\"\",\"\",FORMULARIO!H19))","v":""},{"$f":"+IF(B25=\"\",\"\",IF(FORMULARIO!J19=\"\",\"\",FORMULARIO!J19))","v":""},{"$f":"+IF(B25=\"\",\"\",IF(FORMULARIO!L19=\"\",\"\",FORMULARIO!L19))","v":""},{"$f":"+IF(B25=\"\",\"\",IF(FORMULARIO!N19=\"\",\"\",FORMULARIO!N19))","v":""},{"$f":"+IF(B25=\"\",\"\",IF(FORMULARIO!P19=\"\",\"\",FORMULARIO!P19))","v":""},{"$f":"+IF(B25=\"\",\"\",IF(FORMULARIO!R19=\"\",\"\",IF(B25=$W$22,\"\",IF(B25=$W$23,\"\",IF(B25=$W$24,\"\",IF(B25=$W$25,\"\",IF(B25=$W$26,\"\",IF(B25=$W$27,\"\",IF(B25=$W$28,\"\",IF(B25=$W$29,\"\",IF(B25=$W$30,\"\",IF(B25=$W$31,\"\",IF(B25=$W$32,\"\",IF(B25=$W$33,\"\",IF(B25=$W$34,\"\",FORMULARIO!R19)))))))))))))))","v":""},{"$f":"+IF(B25=\"\",\"\",IF(FORMULARIO!T19=\"\",\"\",IF(B25=$W$22,\"\",IF(B25=$W$23,\"\",IF(B25=$W$24,\"\",IF(B25=$W$25,\"\",IF(B25=$W$26,\"\",IF(B25=$W$27,\"\",IF(B25=$W$28,\"\",IF(B25=$W$29,\"\",IF(B25=$W$30,\"\",IF(B25=$W$31,\"\",IF(B25=$W$32,\"\",IF(B25=$W$33,\"\",IF(B25=$W$34,\"\",FORMULARIO!T19)))))))))))))))","v":""},null,null,0,{"$f":"FORMULARIO!W19","v":0},{"$nulls":7},"CURITI"]
[{"$f":"+FORMULARIO!A20","v":""},{"$f":"+IF(FORMULARIO!B20=\"\",\"\",FORMULARIO!B20)","v":""},{"$f":"+IF(B26=\"\",\"\",IF(FORMULARIO!D20=\"\",\"\",IF(B26=$W$33,\"\",FORMULARIO!D20)))","v":""},{"$f":"+IF(B26=\"\",\"\",IF(FORMULARIO!F20=\"\",\"\",FORMULARIO!F20))","v":""},{"$f":"+IF(B26=\"\",\"\",IF(FORMULARIO!H20=\"\",\"\",FORMULARIO!H20))","v":""},{"$f":"+IF(B26=\"\",\"\",IF(FORMULARIO!J20=\"\",\"\",FORMULARIO!J20))","v":""},{"$f":"+IF(B26=\"\",\"\",IF(FORMULARIO!L20=\"\",\"\",FORMULARIO!L20))","v":""},{"$f":"+IF(B26=\"\",\"\",IF(FORMULARIO!N20=\"\",\"\",FORMULARIO!N20))","v":""},{"$f":"+IF(B26=\"\",\"\",IF(FORMULARIO!P20=\"\",\"\",FORMULARIO!P20))","v":""},{"$f":"+IF(B26=\"\",\"\",IF(FORMULARIO!R20=\"\",\"\",IF(B26=$W$22,\"\",IF(B26=$W$23,\"\",IF(B26=$W$24,\"\",IF(B26=$W$25,\"\",IF(B26=$W$26,\"\",IF(B26=$W$27,\"\",IF(B26=$W$28,\"\",IF(B26=$W$29,\"\",IF(B26=$W$30,\"\",IF(B26=$W$31,\"\",IF(B26=$W$32,\"\",IF(B26=$W$33,\"\",IF(B26=$W$34,\"\",FORMULARIO!R20)))))))))))))))","v":""},{"$f":"+IF(B26=\"\",\"\",IF(FORMULARIO!T20=\"\",\"\",IF(B26=$W$22,\"\",IF(B26=$W$23,\"\",IF(B26=$W$24,\"\",IF(B26=$W$25,\"\",IF(B26=$W$26,\"\",IF(B26=$W$27,\"\",IF(B26=$W$28,\"\",IF(B26=$W$29,\"\",IF(B26=$W$30,\"\",IF(B26=$W$31,\"\",IF(B26=$W$32,\"\",IF(B26=$W$33,\"\",IF(B26=$W$34,\"\",FORMULARIO!T20)))))))))))))))","v":""},null,null,0,{"$f":"FORMULARIO!W20","v":0},{"$nulls":7},"LOS CUROS"]
[{"$f":"+FORMULARIO!A21","v":""},{"$f":"+IF(FORMULARIO!B21=\"\",\"\",FORMULARIO!B21)","v":""},{"$f":"+IF(B27=\"\",\"\",IF(FORMULARIO!D21=\"\",\"\",IF(B27=$W$33,\"\",FORMULARIO!D21)))","v":""},{"$f":"+IF(B27=\"\",\"\",IF(FORMULARIO!F21=\"\",\"\",FORMULARIO!F21))","v":""},{"$f":"+IF(B27=\"\",\"\",IF(FORMULARIO!H21=\"\",\"\",FORMULARIO!H21))","v":""},{"$f":"+IF(B27=\"\",\"\",IF(FORMULARIO!J21=\"\",\"\",FORMULARIO!J21))","v":""},{"$f":"+IF(B27=\"\",\"\",IF(FORMULARIO!L21=\"\",\"\",FORMULARIO!L21))","v":""},{"$f":"+IF(B27=\"\",\"\",IF(FORMULARIO!N21=\"\",\"\",FORMULARIO!N21))","v":""},{"$f":"+IF(B27=\"\",\"\",IF(FORMULARIO!P21=\"\",\"\",FORMULARIO!P21))","v":""},{"$f":"+IF(B27=\"\",\"\",IF(FORMULARIO!R21=\"\",\"\",IF(B27=$W$22,\"\",IF(B27=$W$23,\"\",IF(B27=$W$24,\"\",IF(B27=$W$25,\"\",IF(B27=$W$26,\"\",IF(B27=$W$27,\"\",IF(B27=$W$28,\"\",IF(B27=$W$29,\"\",IF(B27=$W$30,\"\",IF(B27=$W$31,\"\",IF(B27=$W$32,\"\",IF(B27=$W$33,\"\",IF(B27=$W$34,\"\",FORMULARIO!R21)))))))))))))))","v":""},{"$f":"+IF(B27=\"\",\"\",IF(FORMULARIO!T21=\"\",\"\",IF(B27=$W$22,\"\",IF(B27=$W$23,\"\",IF(B27=$W$24,\"\",IF(B27=$W$25,\"\",IF(B27=$W$26,\"\",IF(B27=$W$27,\"\",IF(B27=$W$28,\"\",IF(B27=$W$29,\"\",IF(B27=$W$30,\"\",IF(B27=$W$31,\"\",IF(B27=$W$32,\"\",IF(B27=$W$33,\"\",IF(B27=$W$34,\"\",FORMULARIO!T21)))))))))))))))","v":""},null,null,0,{"$f":"FORMULARIO!W21","v":0},{"$nulls":7},"AGUAS NEGRAS "]
[{"$f":"+FORMULARIO!A22","v":""},{"$f":"+IF(FORMULARIO!B22=\"\",\"\",FORMULARIO!B22)","v":""},{"$f":"+IF(B28=\"\",\"\",IF(FORMULARIO!D22=\"\",\"\",IF(B28=$W$33,\"\",FORMULARIO!D22)))","v":""},{"$f":"+IF(B28=\"\",\"\",IF(FORMULARIO!F22=\"\",\"\",FORMULARIO!F22))","v":""},{"$f":"+IF(B28=\"\",\"\",IF(FORMULARIO!H22=\"\",\"\",FORMULARIO!H22))","v":""},{"$f":"+IF(B28=\"\",\"\",IF(FORMULARIO!J22=\"\",\"\",FORMULARIO!J22))","v":""},{"$f":"+IF(B28=\"\",\"\",IF(FORMULARIO!L22=\"\",\"\",FORMULARIO!L22))","v":""},{"$f":"+IF(B28=\"\",\"\",IF(FORMULARIO!N22=\"\",\"\",FORMULARIO!N22))","v":""},{"$f":"+IF(B28=\"\",\"\",IF(FORMULARIO!P22=\"\",\"\",FORMULARIO!P22))","v":""},{"$f":"+IF(B28=\"\",\"\",IF(FORMULARIO!R22=\"\",\"\",IF(B28=$W$22,\"\",IF(B28=$W$23,\"\",IF(B28=$W$24,\"\",IF(B28=$W$25,\"\",IF(B28=$W$26,\"\",IF(B28=$W$27,\"\",IF(B28=$W$28,\"\",IF(B28=$W$29,\"\",IF(B28=$W$30,\"\",IF(B28=$W$31,\"\",IF(B28=$W$32,\"\",IF(B28=$W$33,\"\",IF(B28=$W$34,\"\",FORMULARIO!R22)))))))))))))))","v":""},{"$f":"+IF(B28=\"\",\"\",IF(FORMULARIO!T22=\"\",\"\",IF(B28=$W$22,\"\",IF(B28=$W$23,\"\",IF(B28=$W$24,\"\",IF(B28=$W$25,\"\",IF(B28=$W$26,\"\",IF(B28=$W$27,\"\",IF(B28=$W$28,\"\",IF(B28=$W$29,\"\",IF(B28=$W$30,\"\",IF(B28=$W$31,\"\",IF(B28=$W$32,\"\",IF(B28=$W$33,\"\",IF(B28=$W$34,\"\",FORMULARIO!T22)))))))))))))))","v":""},null,null,0,{"$f":"FORMULARIO!W22","v":0},{"$nulls":7},"LA GOMEZ"]
[{"$f":"+FORMULARIO!A23","v":""},{"$f":"+IF(FORMULARIO!B23=\"\",\"\",FORMULARIO!B23)","v":""},{"$f":"+IF(B29=\"\",\"\",IF(FORMULARIO!D23=\"\",\"\",IF(B29=$W$33,\"\",FORMULARIO!D23)))","v":""},{"$f":"+IF(B29=\"\",\"\",IF(FORMULARIO!F23=\"\",\"\",FORMULARIO!F23))","v":""},{"$f":"+IF(B29=\"\",\"\",IF(FORMULARIO!H23=\"\",\"\",FORMULARIO!H23))","v":""},{"$f":"+IF(B29=\"\",\"\",IF(FORMULARIO!J23=\"\",\"\",FORMULARIO!J23))","v":""},{"$f":"+IF(B29=\"\",\"\",IF(FORMULARIO!L23=\"\",\"\",FORMULARIO!L23))","v":""},{"$f":"+IF(B29=\"\",\"\",IF(FORMULARIO!N23=\"\",\"\",FORMULARIO!N23))","v":""},{"$f":"+IF(B29=\"\",\"\",IF(FORMULARIO!P23=\"\",\"\",FORMULARIO!P23))","v":""},{"$f":"+IF(B29=\"\",\"\",IF(FORMULARIO!R23=\"\",\"\",IF(B29=$W$22,\"\",IF(B29=$W$23,\"\",IF(B29=$W$24,\"\",IF(B29=$W$25,\"\",IF(B29=$W$26,\"\",IF(B29=$W$27,\"\",IF(B29=$W$28,\"\",IF(B29=$W$29,\"\",IF(B29=$W$30,\"\",IF(B29=$W$31,\"\",IF(B29=$W$32,\"\",IF(B29=$W$33,\"\",IF(B29=$W$34,\"\",FORMULARIO!R23)))))))))))))))","v":""},{"$f":"+IF(B29=\"\",\"\",IF(FORMULARIO!T23=\"\",\"\",IF(B29=$W$22,\"\",IF(B29=$W$23,\"\",IF(B29=$W$24,\"\",IF(B29=$W$25,\"\",IF(B29=$W$26,\"\",IF(B29=$W$27,\"\",IF(B29=$W$28,\"\",IF(B29=$W$29,\"\",IF(B29=$W$30,\"\",IF(B29=$W$31,\"\",IF(B29=$W$32,\"\",IF(B29=$W$33,\"\",IF(B29=$W$34,\"\",FORMULARIO!T23)))))))))))))))","v":""},null,null,0,{"$f":"FORMULARIO!W23","v":0},{"$nulls":7},"MORRISON "]
[{"$f":"+FORMULARIO!A24","v":""},{"$f":"+IF(FORMULARIO!B24=\"\",\"\",FORMULARIO!B24)","v":""},{"$f":"+IF(B30=\"\",\"\",IF(FORMULARIO!D24=\"\",\"\",IF(B30=$W$33,\"\",FORMULARIO!D24)))","v":""},{"$f":"+IF(B30=\"\",\"\",IF(FORMULARIO!F24=\"\",\"\",FORMULARIO!F24))","v":""},{"$f":"+IF(B30=\"\",\"\",IF(FORMULARIO!H24=\"\",\"\",FORMULARIO!H24))","v":""},{"$f":"+IF(B30=\"\",\"\",IF(FORMULARIO!J24=\"\",\"\",FORMULARIO!J24))","v":""},{"$f":"+IF(B30=\"\",\"\",IF(FORMULARIO!L24=\"\",\"\",FORMULARIO!L24))","v":""},{"$f":"+IF(B30=\"\",\"\",IF(FORMULARIO!N24=\"\",\"\",FORMULARIO!N24))","v":""},{"$f":"+IF(B30=\"\",\"\",IF(FORMULARIO!P24=\"\",\"\",FORMULARIO!P24))","v":""},{"$f":"+IF(B30=\"\",\"\",IF(FORMULARIO!R24=\"\",\"\",IF(B30=$W$22,\"\",IF(B30=$W$23,\"\",IF(B30=$W$24,\"\",IF(B30=$W$25,\"\",IF(B30=$W$26,\"\",IF(B30=$W$27,\"\",IF(B30=$W$28,\"\",IF(B30=$W$29,\"\",IF(B30=$W$30,\"\",IF(B30=$W$31,\"\",IF(B30=$W$32,\"\",IF(B30=$W$33,\"\",IF(B30=$W$34,\"\",FORMULARIO!R24)))))))))))))))","v":""},{"$f":"+IF(B30=\"\",\"\",IF(FORMULARIO!T24=\"\",\"\",IF(B30=$W$22,\"\",IF(B30=$W$23,\"\",IF(B30=$W$24,\"\",IF(B30=$W$25,\"\",IF(B30=$W$26,\"\",IF(B30=$W$27,\"\",IF(B30=$W$28,\"\",IF(B30=$W$29,\"\",IF(B30=$W$30,\"\",IF(B30=$W$31,\"\",IF(B30=$W$32,\"\",IF(B30=$W$33,\"\",IF(B30=$W$34,\"\",FORMULARIO!T24)))))))))))))))","v":""},null,null,0,{"$f":"FORMULARIO!W24","v":0},{"$nulls":7},"PAILITAS "]
[{"$f":"+FORMULARIO!A25","v":""},{"$f":"+IF(FORMULARIO!B25=\"\",\"\",FORMULARIO!B25)","v":""},{"$f":"+IF(B31=\"\",\"\",IF(FORMULARIO!D25=\"\",\"\",IF(B31=$W$33,\"\",FORMULARIO!D25)))","v":""},{"$f":"+IF(B31=\"\",\"\",IF(FORMULARIO!F25=\"\",\"\",FORMULARIO!F25))","v":""},{"$f":"+IF(B31=\"\",\"\",IF(FORMULARIO!H25=\"\",\"\",FORMULARIO!H25))","v":""},{"$f":"+IF(B31=\"\",\"\",IF(FORMULARIO!J25=\"\",\"\",FORMULARIO!J25))","v":""},{"$f":"+IF(B31=\"\",\"\",IF(FORMULARIO!L25=\"\",\"\",FORMULARIO!L25))","v":""},{"$f":"+IF(B31=\"\",\"\",IF(FORMULARIO!N25=\"\",\"\",FORMULARIO!N25))","v":""},{"$f":"+IF(B31=\"\",\"\",IF(FORMULARIO!P25=\"\",\"\",FORMULARIO!P25))","v":""},{"$f":"+IF(B31=\"\",\"\",IF(FORMULARIO!R25=\"\",\"\",IF(B31=$W$22,\"\",IF(B31=$W$23,\"\",IF(B31=$W$24,\"\",IF(B31=$W$25,\"\",IF(B31=$W$26,\"\",IF(B31=$W$27,\"\",IF(B31=$W$28,\"\",IF(B31=$W$29,\"\",IF(B31=$W$30,\"\",IF(B31=$W$31,\"\",IF(B31=$W$32,\"\",IF(B31=$W$33,\"\",IF(B31=$W$34,\"\",FORMULARIO!R25)))))))))))))))","v":""},{"$f":"+IF(B31=\"\",\"\",IF(FORMULARIO!T25=\"\",\"\",IF(B31=$W$22,\"\",IF(B31=$W$23,\"\",IF(B31=$W$24,\"\",IF(B31=$W$25,\"\",IF(B31=$W$26,\"\",IF(B31=$W$27,\"\",IF(B31=$W$28,\"\",IF(B31=$W$29,\"\",IF(B31=$W$30,\"\",IF(B31=$W$31,\"\",IF(B31=$W$32,\"\",IF(B31=$W$33,\"\",IF(B31=$W$34,\"\",FORMULARIO!T25)))))))))))))))","v":""},null,null,0,{"$f":"FORMULARIO!W25","v":0},{"$nulls":7},"PLATANAL"]
[{"$f":"+FORMULARIO!A26","v":""},{"$f":"+IF(FORMULARIO!B26=\"\",\"\",FORMULARIO!B26)","v":""},{"$f":"+IF(B32=\"\",\"\",IF(FORMULARIO!D26=\"\",\"\",IF(B32=$W$33,\"\",FORMULARIO!D26)))","v":""},{"$f":"+IF(B32=\"\",\"\",IF(FORMULARIO!F26=\"\",\"\",FORMULARIO!F26))","v":""},{"$f":"+IF(B32=\"\",\"\",IF(FORMULARIO!H26=\"\",\"\",FORMULARIO!H26))","v":""},{"$f":"+IF(B32=\"\",\"\",IF(FORMULARIO!J26=\"\",\"\",FORMULARIO!J26))","v":""},{"$f":"+IF(B32=\"\",\"\",IF(FORMULARIO!L26=\"\",\"\",FORMULARIO!L26))","v":""},{"$f":"+IF(B32=\"\",\"\",IF(FORMULARIO!N26=\"\",\"\",FORMULARIO!N26))","v":""},{"$f":"+IF(B32=\"\",\"\",IF(FORMULARIO!P26=\"\",\"\",FORMULARIO!P26))","v":""},{"$f":"+IF(B32=\"\",\"\",IF(FORMULARIO!R26=\"\",\"\",IF(B32=$W$22,\"\",IF(B32=$W$23,\"\",IF(B32=$W$24,\"\",IF(B32=$W$25,\"\",IF(B32=$W$26,\"\",IF(B32=$W$27,\"\",IF(B32=$W$28,\"\",IF(B32=$W$29,\"\",IF(B32=$W$30,\"\",IF(B32=$W$31,\"\",IF(B32=$W$32,\"\",IF(B32=$W$33,\"\",IF(B32=$W$34,\"\",FORMULARIO!R26)))))))))))))))","v":""},{"$f":"+IF(B32=\"\",\"\",IF(FORMULARIO!T26=\"\",\"\",IF(B32=$W$22,\"\",IF(B32=$W$23,\"\",IF(B32=$W$24,\"\",IF(B32=$W$25,\"\",IF(B32=$W$26,\"\",IF(B32=$W$27,\"\",IF(B32=$W$28,\"\",IF(B32=$W$29,\"\",IF(B32=$W$30,\"\",IF(B32=$W$31,\"\",IF(B32=$W$32,\"\",IF(B32=$W$33,\"\",IF(B32=$W$34,\"\",FORMULARIO!T26)))))))))))))))","v":""},null,null,0,{"$f":"FORMULARIO!W26","v":0},{"$nulls":7},"ZAMBITO "]
[{"$f":"+FORMULARIO!A27","v":""},{"$f":"+IF(FORMULARIO!B27=\"\",\"\",FORMULARIO!B27)","v":""},{"$f":"+IF(B33=\"\",\"\",IF(FORMULARIO!D27=\"\",\"\",IF(B33=$W$33,\"\",FORMULARIO!D27)))","v":""},{"$f":"+IF(B33=\"\",\"\",IF(FORMULARIO!F27=\"\",\"\",FORMULARIO!F27))","v":""},{"$f":"+IF(B33=\"\",\"\",IF(FORMULARIO!H27=\"\",\"\",FORMULARIO!H27))","v":""},{"$f":"+IF(B33=\"\",\"\",IF(FORMULARIO!J27=\"\",\"\",FORMULARIO!J27))","v":""},{"$f":"+IF(B33=\"\",\"\",IF(FORMULARIO!L27=\"\",\"\",FORMULARIO!L27))","v":""},{"$f":"+IF(B33=\"\",\"\",IF(FORMULARIO!N27=\"\",\"\",FORMULARIO!N27))","v":""},{"$f":"+IF(B33=\"\",\"\",IF(FORMULARIO!P27=\"\",\"\",FORMULARIO!P27))","v":""},{"$f":"+IF(B33=\"\",\"\",IF(FORMULARIO!R27=\"\",\"\",IF(B33=$W$22,\"\",IF(B33=$W$23,\"\",IF(B33=$W$24,\"\",IF(B33=$W$25,\"\",IF(B33=$W$26,\"\",IF(B33=$W$27,\"\",IF(B33=$W$28,\"\",IF(B33=$W$29,\"\",IF(B33=$W$30,\"\",IF(B33=$W$31,\"\",IF(B33=$W$32,\"\",IF(B33=$W$33,\"\",IF(B33=$W$34,\"\",FORMULARIO!R27)))))))))))))))","v":""},{"$f":"+IF(B33=\"\",\"\",IF(FORMULARIO!T27=\"\",\"\",IF(B33=$W$22,\"\",IF(B33=$W$23,\"\",IF(B33=$W$24,\"\",IF(B33=$W$25,\"\",IF(B33=$W$26,\"\",IF(B33=$W$27,\"\",IF(B33=$W$28,\"\",IF(B33=$W$29,\"\",IF(B33=$W$30,\"\",IF(B33=$W$31,\"\",IF(B33=$W$32,\"\",IF(B33=$W$33,\"\",IF(B33=$W$34,\"\",FORMULARIO!T27)))))))))))))))","v":""},null,null,0,{"$f":"FORMULARIO!W27","v":0},{"$nulls":7},"SAN JUAN"]
[{"$f":"+FORMULARIO!A28","v":""},{"$f":"+IF(FORMULARIO!B28=\"\",\"\",FORMULARIO!B28)","v":""},{"$f":"+IF(B34=\"\",\"\",IF(FORMULARIO!D28=\"\",\"\",IF(B34=$W$33,\"\",FORMULARIO!D28)))","v":""},{"$f":"+IF(B34=\"\",\"\",IF(FORMULARIO!F28=\"\",\"\",FORMULARIO!F28))","v":""},{"$f":"+IF(B34=\"\",\"\",IF(FORMULARIO!H28=\"\",\"\",FORMULARIO!H28))","v":""},{"$f":"+IF(B34=\"\",\"\",IF(FORMULARIO!J28=\"\",\"\",FORMULARIO!J28))","v":""},{"$f":"+IF(B34=\"\",\"\",IF(FORMULARIO!L28=\"\",\"\",FORMULARIO!L28))","v":""},{"$f":"+IF(B34=\"\",\"\",IF(FORMULARIO!N28=\"\",\"\",FORMULARIO!N28))","v":""},{"$f":"+IF(B34=\"\",\"\",IF(FORMULARIO!P28=\"\",\"\",FORMULARIO!P28))","v":""},{"$f":"+IF(B34=\"\",\"\",IF(FORMULARIO!R28=\"\",\"\",IF(B34=$W$22,\"\",IF(B34=$W$23,\"\",IF(B34=$W$24,\"\",IF(B34=$W$25,\"\",IF(B34=$W$26,\"\",IF(B34=$W$27,\"\",IF(B34=$W$28,\"\",IF(B34=$W$29,\"\",IF(B34=$W$30,\"\",IF(B34=$W$31,\"\",IF(B34=$W$32,\"\",IF(B34=$W$33,\"\",IF(B34=$W$34,\"\",FORMULARIO!R28)))))))))))))))","v":""},{"$f":"+IF(B34=\"\",\"\",IF(FORMULARIO!T28=\"\",\"\",IF(B34=$W$22,\"\",IF(B34=$W$23,\"\",IF(B34=$W$24,\"\",IF(B34=$W$25,\"\",IF(B34=$W$26,\"\",IF(B34=$W$27,\"\",IF(B34=$W$28,\"\",IF(B34=$W$29,\"\",IF(B34=$W$30,\"\",IF(B34=$W$31,\"\",IF(B34=$W$32,\"\",IF(B34=$W$33,\"\",IF(B34=$W$34,\"\",FORMULARIO!T28)))))))))))))))","v":""},null,null,0,{"$f":"FORMULARIO!W28","v":0},{"$nulls":7},"LOBOGUERRERO"]
[{"$f":"+FORMULARIO!A29","v":""},{"$f":"+IF(FORMULARIO!B29=\"\",\"\",FORMULARIO!B29)","v":""},{"$f":"+IF(B35=\"\",\"\",IF(FORMULARIO!D29=\"\",\"\",IF(B35=$W$33,\"\",FORMULARIO!D29)))","v":""},{"$f":"+IF(B35=\"\",\"\",IF(FORMULARIO!F29=\"\",\"\",FORMULARIO!F29))","v":""},{"$f":"+IF(B35=\"\",\"\",IF(FORMULARIO!H29=\"\",\"\",FORMULARIO!H29))","v":""},{"$f":"+IF(B35=\"\",\"\",IF(FORMULARIO!J29=\"\",\"\",FORMULARIO!J29))","v":""},{"$f":"+IF(B35=\"\",\"\",IF(FORMULARIO!L29=\"\",\"\",FORMULARIO!L29))","v":""},{"$f":"+IF(B35=\"\",\"\",IF(FORMULARIO!N29=\"\",\"\",FORMULARIO!N29))","v":""},{"$f":"+IF(B35=\"\",\"\",IF(FORMULARIO!P29=\"\",\"\",FORMULARIO!P29))","v":""},{"$f":"+IF(B35=\"\",\"\",IF(FORMULARIO!R29=\"\",\"\",IF(B35=$W$22,\"\",IF(B35=$W$23,\"\",IF(B35=$W$24,\"\",IF(B35=$W$25,\"\",IF(B35=$W$26,\"\",IF(B35=$W$27,\"\",IF(B35=$W$28,\"\",IF(B35=$W$29,\"\",IF(B35=$W$30,\"\",IF(B35=$W$31,\"\",IF(B35=$W$32,\"\",IF(B35=$W$33,\"\",IF(B35=$W$34,\"\",FORMULARIO!R29)))))))))))))))","v":""},{"$f":"+IF(B35=\"\",\"\",IF(FORMULARIO!T29=\"\",\"\",IF(B35=$W$22,\"\",IF(B35=$W$23,\"\",IF(B35=$W$24,\"\",IF(B35=$W$25,\"\",IF(B35=$W$26,\"\",IF(B35=$W$27,\"\",IF(B35=$W$28,\"\",IF(B35=$W$29,\"\",IF(B35=$W$30,\"\",IF(B35=$W$31,\"\",IF(B35=$W$32,\"\",IF(B35=$W$33,\"\",IF(B35=$W$34,\"\",FORMULARIO!T29)))))))))))))))","v":""},null,null,0,{"$f":"FORMULARIO!W29","v":0},{"$nulls":7},"LA PARADA"]
[{"$f":"+FORMULARIO!A30","v":""},{"$f":"+IF(FORMULARIO!B30=\"\",\"\",FORMULARIO!B30)","v":""},{"$f":"+IF(B36=\"\",\"\",IF(FORMULARIO!D30=\"\",\"\",IF(B36=$W$33,\"\",FORMULARIO!D30)))","v":""},{"$f":"+IF(B36=\"\",\"\",IF(FORMULARIO!F30=\"\",\"\",FORMULARIO!F30))","v":""},{"$f":"+IF(B36=\"\",\"\",IF(FORMULARIO!H30=\"\",\"\",FORMULARIO!H30))","v":""},{"$f":"+IF(B36=\"\",\"\",IF(FORMULARIO!J30=\"\",\"\",FORMULARIO!J30))","v":""},{"$f":"+IF(B36=\"\",\"\",IF(FORMULARIO!L30=\"\",\"\",FORMULARIO!L30))","v":""},{"$f":"+IF(B36=\"\",\"\",IF(FORMULARIO!N30=\"\",\"\",FORMULARIO!N30))","v":""},{"$f":"+IF(B36=\"\",\"\",IF(FORMULARIO!P30=\"\",\"\",FORMULARIO!P30))","v":""},{"$f":"+IF(B36=\"\",\"\",IF(FORMULARIO!R30=\"\",\"\",IF(B36=$W$22,\"\",IF(B36=$W$23,\"\",IF(B36=$W$24,\"\",IF(B36=$W$25,\"\",IF(B36=$W$26,\"\",IF(B36=$W$27,\"\",IF(B36=$W$28,\"\",IF(B36=$W$29,\"\",IF(B36=$W$30,\"\",IF(B36=$W$31,\"\",IF(B36=$W$32,\"\",IF(B36=$W$33,\"\",IF(B36=$W$34,\"\",FORMULARIO!R30)))))))))))))))","v":""},{"$f":"+IF(B36=\"\",\"\",IF(FORMULARIO!T30=\"\",\"\",IF(B36=$W$22,\"\",IF(B36=$W$23,\"\",IF(B36=$W$24,\"\",IF(B36=$W$25,\"\",IF(B36=$W$26,\"\",IF(B36=$W$27,\"\",IF(B36=$W$28,\"\",IF(B36=$W$29,\"\",IF(B36=$W$30,\"\",IF(B36=$W$31,\"\",IF(B36=$W$32,\"\",IF(B36=$W$33,\"\",IF(B36=$W$34,\"\",FORMULARIO!T30)))))))))))))))","v":""},null,null,0,{"$f":"FORMULARIO!W30","v":0},{"$nulls":7},"EL KORAN"]
[{"$f":"+FORMULARIO!A31","v":""},{"$f":"+IF(FORMULARIO!B31=\"\",\"\",FORMULARIO!B31)","v":""},{"$f":"+IF(B37=\"\",\"\",IF(FORMULARIO!D31=\"\",\"\",IF(B37=$W$33,\"\",FORMULARIO!D31)))","v":""},{"$f":"+IF(B37=\"\",\"\",IF(FORMULARIO!F31=\"\",\"\",FORMULARIO!F31))","v":""},{"$f":"+IF(B37=\"\",\"\",IF(FORMULARIO!H31=\"\",\"\",FORMULARIO!H31))","v":""},{"$f":"+IF(B37=\"\",\"\",IF(FORMULARIO!J31=\"\",\"\",FORMULARIO!J31))","v":""},{"$f":"+IF(B37=\"\",\"\",IF(FORMULARIO!L31=\"\",\"\",FORMULARIO!L31))","v":""},{"$f":"+IF(B37=\"\",\"\",IF(FORMULARIO!N31=\"\",\"\",FORMULARIO!N31))","v":""},{"$f":"+IF(B37=\"\",\"\",IF(FORMULARIO!P31=\"\",\"\",FORMULARIO!P31))","v":""},{"$f":"+IF(B37=\"\",\"\",IF(FORMULARIO!R31=\"\",\"\",IF(B37=$W$22,\"\",IF(B37=$W$23,\"\",IF(B37=$W$24,\"\",IF(B37=$W$25,\"\",IF(B37=$W$26,\"\",IF(B37=$W$27,\"\",IF(B37=$W$28,\"\",IF(B37=$W$29,\"\",IF(B37=$W$30,\"\",IF(B37=$W$31,\"\",IF(B37=$W$32,\"\",IF(B37=$W$33,\"\",IF(B37=$W$34,\"\",FORMULARIO!R31)))))))))))))))","v":""},{"$f":"+IF(B37=\"\",\"\",IF(FORMULARIO!T31=\"\",\"\",IF(B37=$W$22,\"\",IF(B37=$W$23,\"\",IF(B37=$W$24,\"\",IF(B37=$W$25,\"\",IF(B37=$W$26,\"\",IF(B37=$W$27,\"\",IF(B37=$W$28,\"\",IF(B37=$W$29,\"\",IF(B37=$W$30,\"\",IF(B37=$W$31,\"\",IF(B37=$W$32,\"\",IF(B37=$W$33,\"\",IF(B37=$W$34,\"\",FORMULARIO!T31)))))))))))))))","v":""},null,null,0,{"$f":"FORMULARIO!W31","v":0},{"$nulls":8},2023,null,2024]
[{"$f":"+FORMULARIO!A32","v":""},{"$f":"+IF(FORMULARIO!B32=\"\",\"\",FORMULARIO!B32)","v":""},{"$f":"+IF(B38=\"\",\"\",IF(FORMULARIO!D32=\"\",\"\",IF(B38=$W$33,\"\",FORMULARIO!D32)))","v":""},{"$f":"+IF(B38=\"\",\"\",IF(FORMULARIO!F32=\"\",\"\",FORMULARIO!F32))","v":""},{"$f":"+IF(B38=\"\",\"\",IF(FORMULARIO!H32=\"\",\"\",FORMULARIO!H32))","v":""},{"$f":"+IF(B38=\"\",\"\",IF(FORMULARIO!J32=\"\",\"\",FORMULARIO!J32))","v":""},{"$f":"+IF(B38=\"\",\"\",IF(FORMULARIO!L32=\"\",\"\",FORMULARIO!L32))","v":""},{"$f":"+IF(B38=\"\",\"\",IF(FORMULARIO!N32=\"\",\"\",FORMULARIO!N32))","v":""},{"$f":"+IF(B38=\"\",\"\",IF(FORMULARIO!P32=\"\",\"\",FORMULARIO!P32))","v":""},{"$f":"+IF(B38=\"\",\"\",IF(FORMULARIO!R32=\"\",\"\",IF(B38=$W$22,\"\",IF(B38=$W$23,\"\",IF(B38=$W$24,\"\",IF(B38=$W$25,\"\",IF(B38=$W$26,\"\",IF(B38=$W$27,\"\",IF(B38=$W$28,\"\",IF(B38=$W$29,\"\",IF(B38=$W$30,\"\",IF(B38=$W$31,\"\",IF(B38=$W$32,\"\",IF(B38=$W$33,\"\",IF(B38=$W$34,\"\",FORMULARIO!R32)))))))))))))))","v":""},{"$f":"+IF(B38=\"\",\"\",IF(FORMULARIO!T32=\"\",\"\",IF(B38=$W$22,\"\",IF(B38=$W$23,\"\",IF(B38=$W$24,\"\",IF(B38=$W$25,\"\",IF(B38=$W$26,\"\",IF(B38=$W$27,\"\",IF(B38=$W$28,\"\",IF(B38=$W$29,\"\",IF(B38=$W$30,\"\",IF(B38=$W$31,\"\",IF(B38=$W$32,\"\",IF(B38=$W$33,\"\",IF(B38=$W$34,\"\",FORMULARIO!T32)))))))))))))))","v":""},null,null,0,{"$f":"FORMULARIO!W32","v":0},{"$nulls":8},22000,{"v":0.1312,"d":"13.12%"},{"$f":"+ROUND(X38*(1+Y38),-2)","v":{"v":24900,"d":"24,900.00"}}]
[{"$f":"+FORMULARIO!A33","v":""},{"$f":"+IF(FORMULARIO!B33=\"\",\"\",FORMULARIO!B33)","v":""},{"$f":"+IF(B39=\"\",\"\",IF(FORMULARIO!D33=\"\",\"\",IF(B39=$W$33,\"\",FORMULARIO!D33)))","v":""},{"$f":"+IF(B39=\"\",\"\",IF(FORMULARIO!F33=\"\",\"\",FORMULARIO!F33))","v":""},{"$f":"+IF(B39=\"\",\"\",IF(FORMULARIO!H33=\"\",\"\",FORMULARIO!H33))","v":""},{"$f":"+IF(B39=\"\",\"\",IF(FORMULARIO!J33=\"\",\"\",FORMULARIO!J33))","v":""},{"$f":"+IF(B39=\"\",\"\",IF(FORMULARIO!L33=\"\",\"\",FORMULARIO!L33))","v":""},{"$f":"+IF(B39=\"\",\"\",IF(FORMULARIO!N33=\"\",\"\",FORMULARIO!N33))","v":""},{"$f":"+IF(B39=\"\",\"\",IF(FORMULARIO!P33=\"\",\"\",FORMULARIO!P33))","v":""},{"$f":"+IF(B39=\"\",\"\",IF(FORMULARIO!R33=\"\",\"\",IF(B39=$W$22,\"\",IF(B39=$W$23,\"\",IF(B39=$W$24,\"\",IF(B39=$W$25,\"\",IF(B39=$W$26,\"\",IF(B39=$W$27,\"\",IF(B39=$W$28,\"\",IF(B39=$W$29,\"\",IF(B39=$W$30,\"\",IF(B39=$W$31,\"\",IF(B39=$W$32,\"\",IF(B39=$W$33,\"\",IF(B39=$W$34,\"\",FORMULARIO!R33)))))))))))))))","v":""},{"$f":"+IF(B39=\"\",\"\",IF(FORMULARIO!T33=\"\",\"\",IF(B39=$W$22,\"\",IF(B39=$W$23,\"\",IF(B39=$W$24,\"\",IF(B39=$W$25,\"\",IF(B39=$W$26,\"\",IF(B39=$W$27,\"\",IF(B39=$W$28,\"\",IF(B39=$W$29,\"\",IF(B39=$W$30,\"\",IF(B39=$W$31,\"\",IF(B39=$W$32,\"\",IF(B39=$W$33,\"\",IF(B39=$W$34,\"\",FORMULARIO!T33)))))))))))))))","v":""},null,null,0,{"$f":"FORMULARIO!W33","v":0}]
[null,"TOTAL",{"$f":"SUM(C22:C39)","v":0},0,0,0,0,0,0,0,0,null,null,{"$f":"SUM(N22:N39)","v":0},{"$f":"SUM(O22:O39)","v":0}]
[{"$nulls":23},2023,null,2024]
[null,null,"CONSIGNACION",{"$nulls":10},"Valor Total Tiquetes",{"$f":"+FORMULARIO!$W$46","v":0},{"$nulls":6},0,"Consignación Local",0,{"v":0.1312,"d":"13.12%"},{"$f":"+ROUND(X42*(1+Y42),-2)","v":0}]
[{"$nulls":22},"Consignación Nacional",{"v":15000,"d":"$ 15,000"},{"v":0.1312,"d":"13.12%"},{"$f":"+ROUND(X43*(1+Y43),-2)","v":{"v":17000,"d":"17,000.00"}}]
[{"$nulls":13},"Gastos Bancarios",{"$f":"IF(E42=\"\",0,IF(E42=\"Consignación Local\",Z42,IF(E42=\"Consignación Nacional\",Z43)))","v":0}]
[]
[null,"Firma del Cliente",{"$nulls":11},"Gastos de Envio",{"$f":"IF(O42>0,25000,0)","v":0}]
[]
[{"$nulls":13},"Valor Total a Pagar",{"$f":"SUM(O42:O46)","v":0}]
[null,"DATOS PARA CONSIGNACION"]
[]
[null,"Entidad Bancaria","Banco Davivienda",{"$nulls":7}," ","     ","Cuenta de Ahorros No.",null,482800024150]
[]
[null,"Nombre del Titular:","PA FIDUCIARIA CORFICOLOMBIANA SA",{"$nulls":8}," ","NIT.",null,"800.256.769-6"]
[]
["PEGAR CONSIGNACION"]