{"text_format":"3","workbook":"xlsx","n_sheets":5,"sheets":["INICIO","INSTRUCTIVO","TARIFASABR2025","FORMULARIO","LIQUIDACION"],"not_rendered":{"images":2,"macros":1,"defined_names":5},"read":"whole","date_system":"1900"}

{"sheet":"INICIO","index":0,"n_rows":3,"n_cols":2,"rows_kept":3,"merged":[[1,1,1,5],[2,1,2,5]]}
[]
[null,"FORMATO SOLICITUD COMPRA"]
[null,"TIQUETES PREPAGO"]

{"sheet":"INSTRUCTIVO","index":1,"n_rows":11,"n_cols":2,"rows_kept":11,"merged":[[10,1,12,1]]}
[]
[]
[]
[]
[null," IN-GF- 001 INSTRUCTIVO DE COMPRA DE TIQUETES"]
[null,"VERSIÓN 005                                     FECHA VERSIÓN: 01/02/2023"]
[]
[]
[]
[]
[null,"1.\tAl seleccionar el botón “FORMULARIO DE COMPRA”, diligenciar la información correspondiente al solicitante: nombre o razón social, documento de identificación o NIT, dirección de recepción de los tiquetes prepago.\n2.\tSeleccione la (s) estación (es) de peje sobre las cuales realizará la compra.\n3.\tUna vez se despliegue la información de tarifas por categoría (tomar en cuenta que las categorias pueden variar en algunas estaciones), diligenciar las casillas (color gris) con el número de tiquetes prepago por cada estación y cada categoría. \n4.\tEn la última columna del formulario podrá visualizar el valor de los tiquetes por cada estación de peaje.\n5.\tEn el margen inferior derecho el usuario podrá visualizar el valor total de la compra.\n6.\tRealizada la verificación de la información por parte del usuario, pulsar el botón “LIQUIDACIÓN”.\n7.\tEn el formulario de liquidación, el usuario podrá visualizar toda la información diligenciada en el “FORMULARIO DE COMPRA”.\n8.\tAdicionalmente, el formulario liquidará el valor correspondiente a los gastos bancarios y los gastos de envío para totalizar el valor de la compra. El usuario seleccionara la opcion del lugar de la consigancion si es Local (Bogota) o a nivel Nacional.\n9.\tEl usuario debe imprimir el formato de liquidación y firmarlo, puesto que el archivo será el soporte que garantice el pago efectuado para que la Unión Temporal despache los tiquetes adquiridos.\n\n10.\tProceso de pago, validación del pago y entrega de tiquetes prepago:\n\n11.\tUna vez el usuario tenga a su disposición el valor de adquisición de los tiquetes prepago (“FORMULARIO DE COMPRA”), deberá realizar el pago en el BANCOLOMBIA a la siguiente cuenta bancaria:\n\n12.\t-\tNo. Cuenta: \t\t\t031-001021-0\n13.\t-\tTipo de cuenta:\t\tAhorros\n14.\t-\tNombre de la cuenta:\t\tPA Peajes Nacionales Cuenta Recaudo UTPN\n15.\t-\tTitular: \t\t\tPA FIDUCIARIA CORFICOLOMBIANA SA\n16.\t-\tNIT:\t\t\t\t800.256.769-6\n17.\tRealizado el pago, en la casilla “Pegar Consignación” de la Liquidación, el usuario debe proceder a pegar el soporte de consignación y escanear dicho documento completo.\n18.\tPosteriormente debe remitir al correo “prepagos@utpeajesnacionales.com.co” el documento digital (escaneado).\n19.\tUna vez la UT reciba la información del pago, procederá a la verificación del ingreso a la respectiva cuenta.\n20.\tIdentificado el ingreso realizado por el usuario, la Unión Temporal contará con tres (3) días hábiles para el envío si el destino es Bogotá D.C., y seis (6) días hábiles para el envío a destino nacional."]

{"sheet":"TARIFASABR2025","index":2,"n_rows":43,"n_cols":29,"rows_kept":43,"hidden":true,"merged":[[6,0,7,0],[6,1,7,1],[6,2,7,2],[6,3,6,23],[6,24,6,27],[6,28,7,28]]}
[]
[null,null,"TARIFAS 01 ABR 2025 AL 15 ENE 2026"]
[]
[]
[]
[null,1,{"$f":"+B6+1","v":2},{"$f":"+C6+1","v":3},{"$f":"+D6+1","v":4},{"$f":"+E6+1","v":5},{"$f":"+F6+1","v":6},{"$f":"+G6+1","v":7},{"$f":"+H6+1","v":8},{"$f":"+I6+1","v":9},{"$f":"+J6+1","v":10},{"$f":"+K6+1","v":11},{"$f":"+L6+1","v":12},{"$f":"+M6+1","v":13},{"$f":"+N6+1","v":14},{"$f":"+O6+1","v":15},{"$f":"+P6+1","v":16},{"$f":"+Q6+1","v":17},{"$f":"+R6+1","v":18},{"$f":"+S6+1","v":19},{"$f":"+T6+1","v":20},{"$f":"+U6+1","v":21},{"$f":"+V6+1","v":22},{"$f":"+W6+1","v":23},{"$f":"+X6+1","v":24},{"$f":"+Y6+1","v":25},{"$f":"+Z6+1","v":26},{"$f":"+AA6+1","v":27}]
["No.","Estación de Peaje","Departamento","CATEGORÍAS VEHICULARES 2024",{"$nulls":20},"EJES 2024",{"$nulls":3},"FOSEVI 2025"]
[{"$nulls":3},"I","IE","IE2","IEA","IEB","IEQ","II","IIE","IIEE","IIEQ","III","IIIE","IIIP","IIIG","IV","IVE","V","VB","VE","VI","VII","E. GRUA","E. REMOL.","E. ADIC.","E. CAÑERO"]
[1,"ARCABUCO","BOYACA",{"v":12200,"d":"$ 12,200"},0,0,0,0,0,{"v":13000,"d":"$ 13,000"},0,0,0,{"v":27900,"d":"$ 27,900"},0,0,0,{"v":35400,"d":"$ 35,400"},0,{"v":39800,"d":"$ 39,800"},0,0,0,0,{"v":9100,"d":"$ 9,100"},{"v":12100,"d":"$ 12,100"},{"v":12500,"d":"$ 12,500"},0,{"v":526,"d":"$ 526"}]
[2,"BICENTENARIO","CUNDINAMARCA",{"v":13000,"d":"$ 13,000"},{"v":6500,"d":"$ 6,500"},0,0,0,0,{"v":17000,"d":"$ 17,000"},{"v":8100,"d":"$ 8,100"},0,0,{"v":39600,"d":"$ 39,600"},0,0,0,{"v":48000,"d":"$ 48,000"},0,{"v":55700,"d":"$ 55,700"},0,0,0,0,{"v":9100,"d":"$ 9,100"},{"v":12100,"d":"$ 12,100"},{"v":12500,"d":"$ 12,500"},0,{"v":526,"d":"$ 526"}]
[3,"T. LA LINEA TOLIMA","TOLIMA",{"v":12400,"d":"$ 12,400"},{"v":2900,"d":"$ 2,900"},0,0,0,0,{"v":13900,"d":"$ 13,900"},{"v":2900,"d":"$ 2,900"},0,0,{"v":28400,"d":"$ 28,400"},0,0,0,{"v":36100,"d":"$ 36,100"},0,{"v":40800,"d":"$ 40,800"},0,0,0,0,{"v":9100,"d":"$ 9,100"},{"v":12100,"d":"$ 12,100"},{"v":12500,"d":"$ 12,500"},0,{"v":526,"d":"$ 526"}]
[4,"T. LA LINEA QUINDIO","QUINDIO",{"v":12400,"d":"$ 12,400"},{"v":2900,"d":"$ 2,900"},0,0,0,{"v":4300,"d":"$ 4,300"},{"v":13900,"d":"$ 13,900"},{"v":2900,"d":"$ 2,900"},0,{"v":4300,"d":"$ 4,300"},{"v":28400,"d":"$ 28,400"},0,0,0,{"v":36100,"d":"$ 36,100"},0,{"v":40800,"d":"$ 40,800"},0,0,0,0,{"v":9100,"d":"$ 9,100"},{"v":12100,"d":"$ 12,100"},{"v":12500,"d":"$ 12,500"},0,{"v":526,"d":"$ 526"}]
[5,"CANO","NARIÑO",{"v":14800,"d":"$ 14,800"},0,0,0,0,0,{"v":15800,"d":"$ 15,800"},0,0,0,{"v":32300,"d":"$ 32,300"},0,0,0,{"v":42400,"d":"$ 42,400"},0,{"v":48900,"d":"$ 48,900"},0,0,0,0,{"v":9400,"d":"$ 9,400"},{"v":13800,"d":"$ 13,800"},{"v":14100,"d":"$ 14,100"},0,{"v":526,"d":"$ 526"}]
[6,"CARIMAGUA","CORDOBA",{"v":17700,"d":"$ 17,700"},0,0,0,0,0,{"v":25300,"d":"$ 25,300"},0,0,0,{"v":25300,"d":"$ 25,300"},0,0,0,{"v":25300,"d":"$ 25,300"},0,{"v":45900,"d":"$ 45,900"},0,0,{"v":72800,"d":"$ 72,800"},{"v":84100,"d":"$ 84,100"},0,0,0,0,{"v":526,"d":"$ 526"}]
[7,"EL CRUCERO","BOYACA",{"v":12200,"d":"$ 12,200"},{"v":3200,"d":"$ 3,200"},0,0,0,0,{"v":13000,"d":"$ 13,000"},{"v":3500,"d":"$ 3,500"},0,0,{"v":27900,"d":"$ 27,900"},0,0,0,{"v":35400,"d":"$ 35,400"},0,{"v":39800,"d":"$ 39,800"},0,0,0,0,{"v":9100,"d":"$ 9,100"},{"v":12100,"d":"$ 12,100"},{"v":12500,"d":"$ 12,500"},0,{"v":526,"d":"$ 526"}]
[8,"EL BORDO","CAUCA",{"v":12400,"d":"$ 12,400"},0,0,0,0,0,{"v":13900,"d":"$ 13,900"},0,0,0,{"v":28400,"d":"$ 28,400"},0,0,0,{"v":36100,"d":"$ 36,100"},0,{"v":40800,"d":"$ 40,800"},0,0,0,0,{"v":9100,"d":"$ 9,100"},{"v":12100,"d":"$ 12,100"},{"v":12500,"d":"$ 12,500"},0,{"v":526,"d":"$ 526"}]
[9,"LOS LLANOS","ANTIOQUIA",{"v":12400,"d":"$ 12,400"},{"v":6500,"d":"$ 6,500"},0,0,0,0,{"v":13900,"d":"$ 13,900"},{"v":6900,"d":"$ 6,900"},0,0,{"v":28400,"d":"$ 28,400"},0,0,0,{"v":36100,"d":"$ 36,100"},0,{"v":40800,"d":"$ 40,800"},0,0,0,0,{"v":9100,"d":"$ 9,100"},{"v":12100,"d":"$ 12,100"},{"v":12500,"d":"$ 12,500"},0,{"v":526,"d":"$ 526"}]
[10,"RIO BLANCO","SANTANDER",{"v":12400,"d":"$ 12,400"},{"v":500,"d":"$ 500"},0,0,0,0,{"v":13900,"d":"$ 13,900"},{"v":500,"d":"$ 500"},0,0,{"v":28400,"d":"$ 28,400"},0,0,0,{"v":36100,"d":"$ 36,100"},0,{"v":40800,"d":"$ 40,800"},0,0,0,0,{"v":9100,"d":"$ 9,100"},{"v":12100,"d":"$ 12,100"},{"v":12500,"d":"$ 12,500"},0,{"v":526,"d":"$ 526"}]
[11,"RIO FRIO","VALLE DEL CAUCA",{"v":12200,"d":"$ 12,200"},0,0,0,0,0,{"v":13000,"d":"$ 13,000"},0,0,0,{"v":27900,"d":"$ 27,900"},0,0,0,{"v":35400,"d":"$ 35,400"},0,{"v":39800,"d":"$ 39,800"},0,0,0,0,{"v":9100,"d":"$ 9,100"},{"v":12100,"d":"$ 12,100"},{"v":12500,"d":"$ 12,500"},{"v":9800,"d":"$ 9,800"},{"v":526,"d":"$ 526"}]
[12,"SACHICA","BOYACA",{"v":12200,"d":"$ 12,200"},{"v":4100,"d":"$ 4,100"},0,0,0,0,{"v":13000,"d":"$ 13,000"},{"v":4100,"d":"$ 4,100"},0,0,{"v":27900,"d":"$ 27,900"},0,0,0,{"v":35400,"d":"$ 35,400"},0,{"v":39800,"d":"$ 39,800"},0,0,0,0,{"v":9100,"d":"$ 9,100"},{"v":12100,"d":"$ 12,100"},{"v":12500,"d":"$ 12,500"},0,{"v":526,"d":"$ 526"}]
[13,"SAN CLEMENTE","CALDAS",{"v":12200,"d":"$ 12,200"},0,0,0,0,0,{"v":13000,"d":"$ 13,000"},0,0,0,{"v":27900,"d":"$ 27,900"},0,0,0,{"v":35400,"d":"$ 35,400"},0,{"v":39800,"d":"$ 39,800"},0,0,0,0,{"v":9100,"d":"$ 9,100"},{"v":12100,"d":"$ 12,100"},{"v":12500,"d":"$ 12,500"},0,{"v":526,"d":"$ 526"}]
[14,"TORO","VALLE DEL CAUCA",{"v":12200,"d":"$ 12,200"},{"v":3600,"d":"$ 3,600"},0,0,0,0,{"v":13000,"d":"$ 13,000"},{"v":4100,"d":"$ 4,100"},0,0,{"v":27900,"d":"$ 27,900"},0,0,0,{"v":35400,"d":"$ 35,400"},0,{"v":39800,"d":"$ 39,800"},0,0,0,0,{"v":9100,"d":"$ 9,100"},{"v":12100,"d":"$ 12,100"},{"v":12500,"d":"$ 12,500"},{"v":9800,"d":"$ 9,800"},{"v":526,"d":"$ 526"}]
[15,"TARAZA","ANTIOQUIA",{"v":12400,"d":"$ 12,400"},{"v":8200,"d":"$ 8,200"},0,0,0,0,{"v":13900,"d":"$ 13,900"},0,0,0,{"v":28400,"d":"$ 28,400"},0,0,0,{"v":36100,"d":"$ 36,100"},0,{"v":40800,"d":"$ 40,800"},0,0,0,0,{"v":9100,"d":"$ 9,100"},{"v":12100,"d":"$ 12,100"},{"v":12500,"d":"$ 12,500"},0,{"v":526,"d":"$ 526"}]
[16,"CASABLANCA","CUNDINAMARCA",{"v":12100,"d":"$ 12,100"},0,0,0,0,0,{"v":12900,"d":"$ 12,900"},0,0,0,{"v":33500,"d":"$ 33,500"},0,0,0,{"v":41500,"d":"$ 41,500"},0,{"v":48600,"d":"$ 48,600"},0,0,0,0,{"v":9800,"d":"$ 9,800"},{"v":14000,"d":"$ 14,000"},{"v":14300,"d":"$ 14,300"},0,{"v":526,"d":"$ 526"}]
[17,"SABOYÁ","BOYACA",{"v":12100,"d":"$ 12,100"},{"v":3400,"d":"$ 3,400"},0,0,0,0,{"v":12900,"d":"$ 12,900"},{"v":3400,"d":"$ 3,400"},0,0,{"v":33500,"d":"$ 33,500"},0,0,0,{"v":41500,"d":"$ 41,500"},0,{"v":48600,"d":"$ 48,600"},0,0,0,0,{"v":9800,"d":"$ 9,800"},{"v":14000,"d":"$ 14,000"},{"v":14300,"d":"$ 14,300"},0,{"v":526,"d":"$ 526"}]
[18,"OIBA","SANTANDER",{"v":12100,"d":"$ 12,100"},{"v":1300,"d":"$ 1,300"},0,0,0,0,{"v":12900,"d":"$ 12,900"},{"v":1300,"d":"$ 1,300"},0,0,{"v":33500,"d":"$ 33,500"},0,0,0,{"v":41500,"d":"$ 41,500"},0,{"v":48600,"d":"$ 48,600"},0,0,0,0,{"v":9800,"d":"$ 9,800"},{"v":14000,"d":"$ 14,000"},{"v":14300,"d":"$ 14,300"},0,{"v":526,"d":"$ 526"}]
[19,"CURITI","SANTANDER",{"v":12100,"d":"$ 12,100"},{"v":9100,"d":"$ 9,100"},0,0,0,0,{"v":12900,"d":"$ 12,900"},0,0,0,{"v":33500,"d":"$ 33,500"},0,0,0,{"v":41500,"d":"$ 41,500"},0,{"v":48600,"d":"$ 48,600"},0,0,0,0,{"v":9800,"d":"$ 9,800"},{"v":14000,"d":"$ 14,000"},{"v":14300,"d":"$ 14,300"},0,{"v":526,"d":"$ 526"}]
[20,"LOS CUROS","SANTANDER",{"v":12100,"d":"$ 12,100"},0,0,0,0,0,{"v":12900,"d":"$ 12,900"},0,0,0,{"v":33500,"d":"$ 33,500"},0,0,0,{"v":41500,"d":"$ 41,500"},0,{"v":48600,"d":"$ 48,600"},0,0,0,0,{"v":9800,"d":"$ 9,800"},{"v":14000,"d":"$ 14,000"},{"v":14300,"d":"$ 14,300"},0,{"v":526,"d":"$ 526"}]
[21,"PLATANAL","CESAR",{"v":11800,"d":"$ 11,800"},{"v":500,"d":"$ 500"},0,0,0,0,{"v":13000,"d":"$ 13,000"},{"v":500,"d":"$ 500"},{"v":6900,"d":"$ 6,900"},0,{"v":27400,"d":"$ 27,400"},{"v":14200,"d":"$ 14,200"},0,0,{"v":34800,"d":"$ 34,800"},{"v":17900,"d":"$ 17,900"},{"v":39800,"d":"$ 39,800"},0,{"v":20200,"d":"$ 20,200"},0,0,{"v":9100,"d":"$ 9,100"},{"v":12100,"d":"$ 12,100"},{"v":12500,"d":"$ 12,500"},0,{"v":526,"d":"$ 526"}]
[22,"SAN DIEGO","CESAR",{"v":7000,"d":"$ 7,000"},{"v":5000,"d":"$ 5,000"},0,0,0,0,{"v":7600,"d":"$ 7,600"},0,0,0,{"v":8200,"d":"$ 8,200"},0,0,0,{"v":8800,"d":"$ 8,800"},0,{"v":18100,"d":"$ 18,100"},{"v":38900,"d":"$ 38,900"},0,{"v":51900,"d":"$ 51,900"},{"v":58900,"d":"$ 58,900"},0,0,0,0,{"v":526,"d":"$ 526"}]
[23,"RINCÓN HONDO","CESAR",{"v":14000,"d":"$ 14,000"},0,0,0,0,0,{"v":14800,"d":"$ 14,800"},0,0,0,{"v":16000,"d":"$ 16,000"},0,0,0,{"v":16900,"d":"$ 16,900"},0,{"v":18200,"d":"$ 18,200"},{"v":38900,"d":"$ 38,900"},0,{"v":51900,"d":"$ 51,900"},{"v":59500,"d":"$ 59,500"},0,0,0,0,{"v":526,"d":"$ 526"}]
[24,"SAN JUAN","CESAR",0,0,0,{"v":7000,"d":"$ 7,000"},{"v":3200,"d":"$ 3,200"},0,{"v":14000,"d":"$ 14,000"},{"v":3200,"d":"$ 3,200"},0,0,{"v":28500,"d":"$ 28,500"},0,0,0,{"v":36200,"d":"$ 36,200"},0,{"v":40900,"d":"$ 40,900"},0,0,0,0,{"v":7300,"d":"$ 7,300"},{"v":9700,"d":"$ 9,700"},{"v":9900,"d":"$ 9,900"},0,{"v":526,"d":"$ 526"}]
[25,"COCORNA","ANTIOQUIA",{"v":17900,"d":"$ 17,900"},{"v":1700,"d":"$ 1,700"},0,0,0,0,{"v":27900,"d":"$ 27,900"},{"v":1700,"d":"$ 1,700"},0,0,{"v":24400,"d":"$ 24,400"},{"v":1700,"d":"$ 1,700"},0,0,{"v":30300,"d":"$ 30,300"},{"v":1700,"d":"$ 1,700"},{"v":60600,"d":"$ 60,600"},0,0,{"v":86200,"d":"$ 86,200"},{"v":86200,"d":"$ 86,200"},0,0,0,0,{"v":526,"d":"$ 526"}]
[26,"PUERTO TRIUNFO","ANTIOQUIA",{"v":17900,"d":"$ 17,900"},0,0,0,0,0,{"v":27900,"d":"$ 27,900"},0,0,0,{"v":24400,"d":"$ 24,400"},0,0,0,{"v":30300,"d":"$ 30,300"},0,{"v":60600,"d":"$ 60,600"},0,0,{"v":86200,"d":"$ 86,200"},{"v":86200,"d":"$ 86,200"},0,0,0,0,{"v":526,"d":"$ 526"}]
[27,"CERRITOS II","RISARALDA",{"v":17800,"d":"$ 17,800"},{"v":4100,"d":"$ 4,100"},0,0,0,0,{"v":20200,"d":"$ 20,200"},{"v":13100,"d":"$ 13,100"},0,0,{"v":49600,"d":"$ 49,600"},0,0,0,{"v":64800,"d":"$ 64,800"},0,{"v":74200,"d":"$ 74,200"},0,0,0,0,{"v":14900,"d":"$ 14,900"},{"v":21900,"d":"$ 21,900"},{"v":22100,"d":"$ 22,100"},0,{"v":526,"d":"$ 526"}]
[28,"LA PARADA","NORTE DE SANTANDER",{"v":2700,"d":"$ 2,700"},0,0,0,0,0,{"v":2700,"d":"$ 2,700"},0,0,0,{"v":2700,"d":"$ 2,700"},0,0,0,{"v":2700,"d":"$ 2,700"},0,{"v":2700,"d":"$ 2,700"},0,0,0,0,{"v":2700,"d":"$ 2,700"},0,{"v":2700,"d":"$ 2,700"},0,{"v":526,"d":"$ 526"}]
[29,"EL KORAN","CUNDINAMARCA",{"v":18900,"d":"$ 18,900"},{"v":4300,"d":"$ 4,300"},0,0,0,0,{"v":26400,"d":"$ 26,400"},{"v":4300,"d":"$ 4,300"},0,0,0,0,{"v":37100,"d":"$ 37,100"},{"v":37100,"d":"$ 37,100"},{"v":77200,"d":"$ 77,200"},0,{"v":95800,"d":"$ 95,800"},0,0,{"v":113600,"d":"$ 113,600"},0,{"v":9400,"d":"$ 9,400"},{"v":12600,"d":"$ 12,600"},{"v":13100,"d":"$ 13,100"},0,{"v":526,"d":"$ 526"}]
[30,"RIO BOGOTA","CUNDINAMARCA",{"v":11800,"d":"$ 11,800"},{"v":500,"d":"$ 500"},0,0,0,0,{"v":17600,"d":"$ 17,600"},{"v":500,"d":"$ 500"},0,0,{"v":15400,"d":"$ 15,400"},{"v":500,"d":"$ 500"},0,0,{"v":20300,"d":"$ 20,300"},{"v":500,"d":"$ 500"},{"v":34400,"d":"$ 34,400"},0,0,{"v":46400,"d":"$ 46,400"},{"v":50200,"d":"$ 50,200"},0,0,0,0,{"v":526,"d":"$ 526"}]
[31,"CORZO","CUNDINAMARCA",{"v":11800,"d":"$ 11,800"},{"v":500,"d":"$ 500"},0,0,0,0,{"v":17600,"d":"$ 17,600"},{"v":500,"d":"$ 500"},0,0,{"v":15400,"d":"$ 15,400"},{"v":500,"d":"$ 500"},0,0,{"v":20300,"d":"$ 20,300"},{"v":500,"d":"$ 500"},{"v":34400,"d":"$ 34,400"},0,0,{"v":46400,"d":"$ 46,400"},{"v":50200,"d":"$ 50,200"},0,0,0,0,{"v":526,"d":"$ 526"}]
[null,"GARZON I","CORDOBA",{"v":6100,"d":"$ 6,100"},{"v":2400,"d":"$ 2,400"},{"v":6500,"d":"$ 6,500"},0,0,0,{"v":15600,"d":"$ 15,600"},{"v":4600,"d":"$ 4,600"},0,0,{"v":24200,"d":"$ 24,200"},0,0,0,{"v":30600,"d":"$ 30,600"},0,{"v":35000,"d":"$ 35,000"},0,0,0,0,0,0,0,0,{"v":526,"d":"$ 526"}]
[null,"GARZON II","CORDOBA",{"v":6100,"d":"$ 6,100"},{"v":2400,"d":"$ 2,400"},{"v":6500,"d":"$ 6,500"},0,0,0,{"v":15600,"d":"$ 15,600"},{"v":4600,"d":"$ 4,600"},0,0,{"v":24200,"d":"$ 24,200"},0,0,0,{"v":30600,"d":"$ 30,600"},0,{"v":35000,"d":"$ 35,000"},0,0,0,0,0,0,0,0,{"v":526,"d":"$ 526"}]
[null,"LA ESPERANZA","SUCRE",{"v":6100,"d":"$ 6,100"},{"v":2400,"d":"$ 2,400"},{"v":5600,"d":"$ 5,600"},0,0,0,{"v":15600,"d":"$ 15,600"},{"v":4600,"d":"$ 4,600"},0,0,{"v":24200,"d":"$ 24,200"},0,0,0,{"v":30600,"d":"$ 30,600"},0,{"v":35000,"d":"$ 35,000"},0,0,0,0,0,0,0,0,{"v":526,"d":"$ 526"}]
[null,"LAS FLORES","SUCRE",{"v":10900,"d":"$ 10,900"},{"v":3000,"d":"$ 3,000"},{"v":5800,"d":"$ 5,800"},0,0,0,{"v":11800,"d":"$ 11,800"},0,0,0,{"v":25300,"d":"$ 25,300"},0,0,0,{"v":31800,"d":"$ 31,800"},0,{"v":36100,"d":"$ 36,100"},0,0,0,0,{"v":8300,"d":"$ 8,300"},{"v":10900,"d":"$ 10,900"},{"v":11300,"d":"$ 11,300"},0,{"v":526,"d":"$ 526"}]

{"sheet":"FORMULARIO","index":3,"n_rows":2004,"n_cols":29,"rows_kept":2004,"merged":[[4,2,4,3],[6,2,6,4],[8,2,8,10],[8,12,8,14],[8,15,8,17],[8,23,8,24],[10,3,10,10],[10,12,10,14],[10,15,10,20],[10,21,10,22],[10,23,10,24],[11,3,11,10],[12,3,12,10],[12,15,12,20],[45,0,45,1]]}
[]
[null,"F-GF-019","FORMULARIO DE COMPRA",{"$nulls":24},1]
[null,null,"TIQUETES PREPAGO",{"$nulls":24},{"$f":"+AB2+1","v":2}]
[" ","VERSIÓN ","015",{"$nulls":24},{"$f":"+AB3+1","v":3}]
[null,"FECHA VERSIÓN","2025-05-13",{"$nulls":24},4]
[{"$nulls":27},5]
[null,"Fecha",{"$nulls":25},6]
[{"$nulls":27},7]
[null,"Nombre del Cliente",{"$nulls":10},"Documento ID",{"$nulls":9},"No.",{"$nulls":4},8]
[{"$nulls":27},9]
[null,"Direccion de envio Tiquetes",null," ",{"$nulls":8},"Ciudad",{"$nulls":8},"Departamento",{"$nulls":5},10]
[null,"Contacto",null," ",{"$nulls":23},11]
[null,"N° Celular Contacto",{"$nulls":12},"E_MAIL"," ",{"$nulls":11},12]
[{"$nulls":27},13]
["No.","Peaje","DEPARTAMENTO","Cant",{"$f":"+CONCATENATE(\"Tar Cat \",TARIFASABR2025!D8)","v":"Tar Cat I"},"Cant",{"$f":"+CONCATENATE(\"Tar Cat \",TARIFASABR2025!F8)","v":"Tar Cat IE2"},"Cant",{"$f":"+CONCATENATE(\"Tar Cat \",TARIFASABR2025!J8)","v":"Tar Cat II"},"Cant",{"$f":"+CONCATENATE(\"Tar Cat \",TARIFASABR2025!N8)","v":"Tar Cat III"},"Cant",{"$f":"+CONCATENATE(\"Tar Cat \",TARIFASABR2025!P8)","v":"Tar Cat IIIP"},"Cant",{"$f":"+CONCATENATE(\"Tar Cat \",TARIFASABR2025!Q8)","v":"Tar Cat IIIG"},"Cant",{"$f":"+CONCATENATE(\"Tar Cat \",TARIFASABR2025!R8)","v":"Tar Cat IV"},"Cant",{"$f":"+CONCATENATE(\"Tar Cat \",TARIFASABR2025!T8)","v":"Tar Cat V"},"Cant",{"$f":"+CONCATENATE(\"Tar Cat \",TARIFASABR2025!W8)","v":"Tar Cat VI"},"Cant",{"$f":"+CONCATENATE(\"Tar Cat \",TARIFASABR2025!X8)","v":"Tar Cat VII"},"Total Cant","Valor total",null,null,14,{"$f":"+M9","v":"Documento ID"}]
[{"$f":"IF(B16>\"\",1,\"\")","v":""},null,{"$f":"IF(B16=\"\",\"\",VLOOKUP(B16,TARIFASABR2025!$B$7:$C$44,TARIFASABR2025!$C$6,0))","v":""},null,{"$f":"IF(B16=\"\",\"\",VLOOKUP(B16,TARIFASABR2025!$B$9:$X$44,TARIFASABR2025!$D$6,0))","v":""},null,{"$f":"IF(B16=\"\",\"\",VLOOKUP(B16,TARIFASABR2025!$B$9:$X$44,TARIFASABR2025!$F$6,0))","v":""},null,{"$f":"IF(B16=\"\",\"\",VLOOKUP(B16,TARIFASABR2025!$B$9:$X$44,TARIFASABR2025!$J$6,0))","v":""},null,{"$f":"IF(B16=\"\",\"\",VLOOKUP(B16,TARIFASABR2025!$B$9:$X$44,TARIFASABR2025!$N$6,0))","v":""},null,{"$f":"IF(B16=\"\",\"\",VLOOKUP(B16,TARIFASABR2025!$B$9:$X$44,TARIFASABR2025!$P$6,0))","v":""},null,{"$f":"IF(B16=\"\",\"\",VLOOKUP(B16,TARIFASABR2025!$B$9:$X$44,TARIFASABR2025!$Q$6,0))","v":""},null,{"$f":"IF(B16=\"\",\"\",VLOOKUP(B16,TARIFASABR2025!$B$9:$X$44,TARIFASABR2025!$R$6,0))","v":""},null,{"$f":"IF(B16=\"\",\"\",VLOOKUP(B16,TARIFASABR2025!$B$9:$X$44,TARIFASABR2025!$T$6,0))","v":""},null,{"$f":"IF(B16=\"\",\"\",VLOOKUP(B16,TARIFASABR2025!$B$9:$X$44,TARIFASABR2025!$W$6,0))","v":""},null,{"$f":"IF(B16=\"\",\"\",VLOOKUP(B16,TARIFASABR2025!$B$9:$X$44,TARIFASABR2025!$X$6,0))","v":""},{"$f":"+IF(B16=\"\",\"\",IF(B16=$AC$32,D16+F16+H16+J16+L16+N16+P16+R16+T16+V16,IF(B16=$AC$33,D16+H16+J16+L16+N16+P16+R16+T16+V16,IF(B16=$AC$34,D16+F16+H16+J16+P16+R16+T16+V16,IF(B16=$AC$35,D16+F16+H16+J16+P16+R16+T16+V16,IF(B16=$AC$36,D16+F16+H16+J16+L16+N16+P16+R16+T16+V16,SUM(D16,F16,H16,J16,P16,R16)))))))","v":""},{"$f":"+IF(C16=\"\",0,(D16*E16)+(F16*G16)+(H16*I16)+(J16*K16)+(L16*M16)+(N16*O16)+(P16*Q16)+(R16*S16)+(T16*U16)+(V16*W16))","v":0},null,null,15]
[{"$f":"IF(A16<1,\"\",IF(B17=\"\",\"\",IF(A16=\"\",\"\",A16+1)))","v":""},null,{"$f":"IF(B17=\"\",\"\",VLOOKUP(B17,TARIFASABR2025!$B$7:$C$44,TARIFASABR2025!$C$6,0))","v":""},null,{"$f":"IF(B17=\"\",\"\",VLOOKUP(B17,TARIFASABR2025!$B$9:$X$44,TARIFASABR2025!$D$6,0))","v":""},null,{"$f":"IF(B17=\"\",\"\",VLOOKUP(B17,TARIFASABR2025!$B$9:$X$44,TARIFASABR2025!$F$6,0))","v":""},null,{"$f":"IF(B17=\"\",\"\",VLOOKUP(B17,TARIFASABR2025!$B$9:$X$44,TARIFASABR2025!$J$6,0))","v":""},null,{"$f":"IF(B17=\"\",\"\",VLOOKUP(B17,TARIFASABR2025!$B$9:$X$44,TARIFASABR2025!$N$6,0))","v":""},null,{"$f":"IF(B17=\"\",\"\",VLOOKUP(B17,TARIFASABR2025!$B$9:$X$44,TARIFASABR2025!$P$6,0))","v":""},null,{"$f":"IF(B17=\"\",\"\",VLOOKUP(B17,TARIFASABR2025!$B$9:$X$44,TARIFASABR2025!$Q$6,0))","v":""},null,{"$f":"IF(B17=\"\",\"\",VLOOKUP(B17,TARIFASABR2025!$B$9:$X$44,TARIFASABR2025!$R$6,0))","v":""},null,{"$f":"IF(B17=\"\",\"\",VLOOKUP(B17,TARIFASABR2025!$B$9:$X$44,TARIFASABR2025!$T$6,0))","v":""},null,{"$f":"IF(B17=\"\",\"\",VLOOKUP(B17,TARIFASABR2025!$B$9:$X$44,TARIFASABR2025!$W$6,0))","v":""},null,{"$f":"IF(B17=\"\",\"\",VLOOKUP(B17,TARIFASABR2025!$B$9:$X$44,TARIFASABR2025!$X$6,0))","v":""},{"$f":"+IF(B17=\"\",\"\",IF(B17=$AC$32,D17+F17+H17+J17+L17+N17+P17+R17+T17+V17,IF(B17=$AC$33,D17+H17+J17+L17+N17+P17+R17+T17+V17,IF(B17=$AC$34,D17+F17+H17+J17+P17+R17+T17+V17,IF(B17=$AC$35,D17+F17+H17+J17+P17+R17+T17+V17,IF(B17=$AC$36,D17+F17+H17+J17+L17+N17+P17+R17+T17+V17,SUM(D17,F17,H17,J17,P17,R17)))))))","v":""},{"$f":"+IF(C17=\"\",0,(D17*E17)+(F17*G17)+(H17*I17)+(J17*K17)+(L17*M17)+(N17*O17)+(P17*Q17)+(R17*S17)+(T17*U17)+(V17*W17))","v":0},null,null,16,"NIT"]
["",null,{"$f":"IF(B18=\"\",\"\",VLOOKUP(B18,TARIFASABR2025!$B$7:$C$44,TARIFASABR2025!$C$6,0))","v":""},null,{"$f":"IF(B18=\"\",\"\",VLOOKUP(B18,TARIFASABR2025!$B$9:$X$44,TARIFASABR2025!$D$6,0))","v":""},null,{"$f":"IF(B18=\"\",\"\",VLOOKUP(B18,TARIFASABR2025!$B$9:$X$44,TARIFASABR2025!$F$6,0))","v":""},null,{"$f":"IF(B18=\"\",\"\",VLOOKUP(B18,TARIFASABR2025!$B$9:$X$44,TARIFASABR2025!$J$6,0))","v":""},null,{"$f":"IF(B18=\"\",\"\",VLOOKUP(B18,TARIFASABR2025!$B$9:$X$44,TARIFASABR2025!$N$6,0))","v":""},null,{"$f":"IF(B18=\"\",\"\",VLOOKUP(B18,TARIFASABR2025!$B$9:$X$44,TARIFASABR2025!$P$6,0))","v":""},null,{"$f":"IF(B18=\"\",\"\",VLOOKUP(B18,TARIFASABR2025!$B$9:$X$44,TARIFASABR2025!$Q$6,0))","v":""},null,{"$f":"IF(B18=\"\",\"\",VLOOKUP(B18,TARIFASABR2025!$B$9:$X$44,TARIFASABR2025!$R$6,0))","v":""},null,{"$f":"IF(B18=\"\",\"\",VLOOKUP(B18,TARIFASABR2025!$B$9:$X$44,TARIFASABR2025!$T$6,0))","v":""},null,{"$f":"IF(B18=\"\",\"\",VLOOKUP(B18,TARIFASABR2025!$B$9:$X$44,TARIFASABR2025!$W$6,0))","v":""},null,{"$f":"IF(B18=\"\",\"\",VLOOKUP(B18,TARIFASABR2025!$B$9:$X$44,TARIFASABR2025!$X$6,0))","v":""},"",0,null,null,17,"Pasaporte"]
["",null,{"$f":"IF(B19=\"\",\"\",VLOOKUP(B19,TARIFASABR2025!$B$7:$C$44,TARIFASABR2025!$C$6,0))","v":""},null,{"$f":"IF(B19=\"\",\"\",VLOOKUP(B19,TARIFASABR2025!$B$9:$X$44,TARIFASABR2025!$D$6,0))","v":""},null,{"$f":"IF(B19=\"\",\"\",VLOOKUP(B19,TARIFASABR2025!$B$9:$X$44,TARIFASABR2025!$F$6,0))","v":""},null,{"$f":"IF(B19=\"\",\"\",VLOOKUP(B19,TARIFASABR2025!$B$9:$X$44,TARIFASABR2025!$J$6,0))","v":""},null,{"$f":"IF(B19=\"\",\"\",VLOOKUP(B19,TARIFASABR2025!$B$9:$X$44,TARIFASABR2025!$N$6,0))","v":""},null,{"$f":"IF(B19=\"\",\"\",VLOOKUP(B19,TARIFASABR2025!$B$9:$X$44,TARIFASABR2025!$P$6,0))","v":""},null,{"$f":"IF(B19=\"\",\"\",VLOOKUP(B19,TARIFASABR2025!$B$9:$X$44,TARIFASABR2025!$Q$6,0))","v":""},null,{"$f":"IF(B19=\"\",\"\",VLOOKUP(B19,TARIFASABR2025!$B$9:$X$44,TARIFASABR2025!$R$6,0))","v":""},null,{"$f":"IF(B19=\"\",\"\",VLOOKUP(B19,TARIFASABR2025!$B$9:$X$44,TARIFASABR2025!$T$6,0))","v":""},null,{"$f":"IF(B19=\"\",\"\",VLOOKUP(B19,TARIFASABR2025!$B$9:$X$44,TARIFASABR2025!$W$6,0))","v":""},null,{"$f":"IF(B19=\"\",\"\",VLOOKUP(B19,TARIFASABR2025!$B$9:$X$44,TARIFASABR2025!$X$6,0))","v":""},"",0,null,null,18,"Cedula de Ciudadania"]
["",null,{"$f":"IF(B20=\"\",\"\",VLOOKUP(B20,TARIFASABR2025!$B$7:$C$44,TARIFASABR2025!$C$6,0))","v":""},null,{"$f":"IF(B20=\"\",\"\",VLOOKUP(B20,TARIFASABR2025!$B$9:$X$44,TARIFASABR2025!$D$6,0))","v":""},null,{"$f":"IF(B20=\"\",\"\",VLOOKUP(B20,TARIFASABR2025!$B$9:$X$44,TARIFASABR2025!$F$6,0))","v":""},null,{"$f":"IF(B20=\"\",\"\",VLOOKUP(B20,TARIFASABR2025!$B$9:$X$44,TARIFASABR2025!$J$6,0))","v":""},null,{"$f":"IF(B20=\"\",\"\",VLOOKUP(B20,TARIFASABR2025!$B$9:$X$44,TARIFASABR2025!$N$6,0))","v":""},null,{"$f":"IF(B20=\"\",\"\",VLOOKUP(B20,TARIFASABR2025!$B$9:$X$44,TARIFASABR2025!$P$6,0))","v":""},null,{"$f":"IF(B20=\"\",\"\",VLOOKUP(B20,TARIFASABR2025!$B$9:$X$44,TARIFASABR2025!$Q$6,0))","v":""},null,{"$f":"IF(B20=\"\",\"\",VLOOKUP(B20,TARIFASABR2025!$B$9:$X$44,TARIFASABR2025!$R$6,0))","v":""},null,{"$f":"IF(B20=\"\",\"\",VLOOKUP(B20,TARIFASABR2025!$B$9:$X$44,TARIFASABR2025!$T$6,0))","v":""},null,{"$f":"IF(B20=\"\",\"\",VLOOKUP(B20,TARIFASABR2025!$B$9:$X$44,TARIFASABR2025!$W$6,0))","v":""},null,{"$f":"IF(B20=\"\",\"\",VLOOKUP(B20,TARIFASABR2025!$B$9:$X$44,TARIFASABR2025!$X$6,0))","v":""},"",0,null,null,19,"Cedula de Extranjeria"]
["",null,{"$f":"IF(B21=\"\",\"\",VLOOKUP(B21,TARIFASABR2025!$B$7:$C$44,TARIFASABR2025!$C$6,0))","v":""},null,{"$f":"IF(B21=\"\",\"\",VLOOKUP(B21,TARIFASABR2025!$B$9:$X$44,TARIFASABR2025!$D$6,0))","v":""},null,{"$f":"IF(B21=\"\",\"\",VLOOKUP(B21,TARIFASABR2025!$B$9:$X$44,TARIFASABR2025!$F$6,0))","v":""},null,{"$f":"IF(B21=\"\",\"\",VLOOKUP(B21,TARIFASABR2025!$B$9:$X$44,TARIFASABR2025!$J$6,0))","v":""},null,{"$f":"IF(B21=\"\",\"\",VLOOKUP(B21,TARIFASABR2025!$B$9:$X$44,TARIFASABR2025!$N$6,0))","v":""},null,{"$f":"IF(B21=\"\",\"\",VLOOKUP(B21,TARIFASABR2025!$B$9:$X$44,TARIFASABR2025!$P$6,0))","v":""},null,{"$f":"IF(B21=\"\",\"\",VLOOKUP(B21,TARIFASABR2025!$B$9:$X$44,TARIFASABR2025!$Q$6,0))","v":""},null,{"$f":"IF(B21=\"\",\"\",VLOOKUP(B21,TARIFASABR2025!$B$9:$X$44,TARIFASABR2025!$R$6,0))","v":""},null,{"$f":"IF(B21=\"\",\"\",VLOOKUP(B21,TARIFASABR2025!$B$9:$X$44,TARIFASABR2025!$T$6,0))","v":""},null,{"$f":"IF(B21=\"\",\"\",VLOOKUP(B21,TARIFASABR2025!$B$9:$X$44,TARIFASABR2025!$W$6,0))","v":""},null,{"$f":"IF(B21=\"\",\"\",VLOOKUP(B21,TARIFASABR2025!$B$9:$X$44,TARIFASABR2025!$X$6,0))","v":""},"",0,null,null,20,"Otro"]
["",null,{"$f":"IF(B22=\"\",\"\",VLOOKUP(B22,TARIFASABR2025!$B$7:$C$44,TARIFASABR2025!$C$6,0))","v":""},null,{"$f":"IF(B22=\"\",\"\",VLOOKUP(B22,TARIFASABR2025!$B$9:$X$44,TARIFASABR2025!$D$6,0))","v":""},null,{"$f":"IF(B22=\"\",\"\",VLOOKUP(B22,TARIFASABR2025!$B$9:$X$44,TARIFASABR2025!$F$6,0))","v":""},null,{"$f":"IF(B22=\"\",\"\",VLOOKUP(B22,TARIFASABR2025!$B$9:$X$44,TARIFASABR2025!$J$6,0))","v":""},null,{"$f":"IF(B22=\"\",\"\",VLOOKUP(B22,TARIFASABR2025!$B$9:$X$44,TARIFASABR2025!$N$6,0))","v":""},null,{"$f":"IF(B22=\"\",\"\",VLOOKUP(B22,TARIFASABR2025!$B$9:$X$44,TARIFASABR2025!$P$6,0))","v":""},null,{"$f":"IF(B22=\"\",\"\",VLOOKUP(B22,TARIFASABR2025!$B$9:$X$44,TARIFASABR2025!$Q$6,0))","v":""},null,{"$f":"IF(B22=\"\",\"\",VLOOKUP(B22,TARIFASABR2025!$B$9:$X$44,TARIFASABR2025!$R$6,0))","v":""},null,{"$f":"IF(B22=\"\",\"\",VLOOKUP(B22,TARIFASABR2025!$B$9:$X$44,TARIFASABR2025!$T$6,0))","v":""},null,{"$f":"IF(B22=\"\",\"\",VLOOKUP(B22,TARIFASABR2025!$B$9:$X$44,TARIFASABR2025!$W$6,0))","v":""},null,{"$f":"IF(B22=\"\",\"\",VLOOKUP(B22,TARIFASABR2025!$B$9:$X$44,TARIFASABR2025!$X$6,0))","v":""},"",0,null,null,21]
["",null,{"$f":"IF(B23=\"\",\"\",VLOOKUP(B23,TARIFASABR2025!$B$7:$C$44,TARIFASABR2025!$C$6,0))","v":""},null,{"$f":"IF(B23=\"\",\"\",VLOOKUP(B23,TARIFASABR2025!$B$9:$X$44,TARIFASABR2025!$D$6,0))","v":""},null,{"$f":"IF(B23=\"\",\"\",VLOOKUP(B23,TARIFASABR2025!$B$9:$X$44,TARIFASABR2025!$F$6,0))","v":""},null,{"$f":"IF(B23=\"\",\"\",VLOOKUP(B23,TARIFASABR2025!$B$9:$X$44,TARIFASABR2025!$J$6,0))","v":""},null,{"$f":"IF(B23=\"\",\"\",VLOOKUP(B23,TARIFASABR2025!$B$9:$X$44,TARIFASABR2025!$N$6,0))","v":""},null,{"$f":"IF(B23=\"\",\"\",VLOOKUP(B23,TARIFASABR2025!$B$9:$X$44,TARIFASABR2025!$P$6,0))","v":""},null,{"$f":"IF(B23=\"\",\"\",VLOOKUP(B23,TARIFASABR2025!$B$9:$X$44,TARIFASABR2025!$Q$6,0))","v":""},null,{"$f":"IF(B23=\"\",\"\",VLOOKUP(B23,TARIFASABR2025!$B$9:$X$44,TARIFASABR2025!$R$6,0))","v":""},null,{"$f":"IF(B23=\"\",\"\",VLOOKUP(B23,TARIFASABR2025!$B$9:$X$44,TARIFASABR2025!$T$6,0))","v":""},null,{"$f":"IF(B23=\"\",\"\",VLOOKUP(B23,TARIFASABR2025!$B$9:$X$44,TARIFASABR2025!$W$6,0))","v":""},null,{"$f":"IF(B23=\"\",\"\",VLOOKUP(B23,TARIFASABR2025!$B$9:$X$44,TARIFASABR2025!$X$6,0))","v":""},"",0,null,null,22,"ARCABUCO"]
["",null,{"$f":"IF(B24=\"\",\"\",VLOOKUP(B24,TARIFASABR2025!$B$7:$C$44,TARIFASABR2025!$C$6,0))","v":""},null,{"$f":"IF(B24=\"\",\"\",VLOOKUP(B24,TARIFASABR2025!$B$9:$X$44,TARIFASABR2025!$D$6,0))","v":""},null,{"$f":"IF(B24=\"\",\"\",VLOOKUP(B24,TARIFASABR2025!$B$9:$X$44,TARIFASABR2025!$F$6,0))","v":""},null,{"$f":"IF(B24=\"\",\"\",VLOOKUP(B24,TARIFASABR2025!$B$9:$X$44,TARIFASABR2025!$J$6,0))","v":""},null,{"$f":"IF(B24=\"\",\"\",VLOOKUP(B24,TARIFASABR2025!$B$9:$X$44,TARIFASABR2025!$N$6,0))","v":""},null,{"$f":"IF(B24=\"\",\"\",VLOOKUP(B24,TARIFASABR2025!$B$9:$X$44,TARIFASABR2025!$P$6,0))","v":""},null,{"$f":"IF(B24=\"\",\"\",VLOOKUP(B24,TARIFASABR2025!$B$9:$X$44,TARIFASABR2025!$Q$6,0))","v":""},null,{"$f":"IF(B24=\"\",\"\",VLOOKUP(B24,TARIFASABR2025!$B$9:$X$44,TARIFASABR2025!$R$6,0))","v":""},null,{"$f":"IF(B24=\"\",\"\",VLOOKUP(B24,TARIFASABR2025!$B$9:$X$44,TARIFASABR2025!$T$6,0))","v":""},null,{"$f":"IF(B24=\"\",\"\",VLOOKUP(B24,TARIFASABR2025!$B$9:$X$44,TARIFASABR2025!$W$6,0))","v":""},null,{"$f":"IF(B24=\"\",\"\",VLOOKUP(B24,TARIFASABR2025!$B$9:$X$44,TARIFASABR2025!$X$6,0))","v":""},"",0,null,null,23,"BICENTENARIO"]
["",null,{"$f":"IF(B25=\"\",\"\",VLOOKUP(B25,TARIFASABR2025!$B$7:$C$44,TARIFASABR2025!$C$6,0))","v":""},null,{"$f":"IF(B25=\"\",\"\",VLOOKUP(B25,TARIFASABR2025!$B$9:$X$44,TARIFASABR2025!$D$6,0))","v":""},null,{"$f":"IF(B25=\"\",\"\",VLOOKUP(B25,TARIFASABR2025!$B$9:$X$44,TARIFASABR2025!$F$6,0))","v":""},null,{"$f":"IF(B25=\"\",\"\",VLOOKUP(B25,TARIFASABR2025!$B$9:$X$44,TARIFASABR2025!$J$6,0))","v":""},null,{"$f":"IF(B25=\"\",\"\",VLOOKUP(B25,TARIFASABR2025!$B$9:$X$44,TARIFASABR2025!$N$6,0))","v":""},null,{"$f":"IF(B25=\"\",\"\",VLOOKUP(B25,TARIFASABR2025!$B$9:$X$44,TARIFASABR2025!$P$6,0))","v":""},null,{"$f":"IF(B25=\"\",\"\",VLOOKUP(B25,TARIFASABR2025!$B$9:$X$44,TARIFASABR2025!$Q$6,0))","v":""},null,{"$f":"IF(B25=\"\",\"\",VLOOKUP(B25,TARIFASABR2025!$B$9:$X$44,TARIFASABR2025!$R$6,0))","v":""},null,{"$f":"IF(B25=\"\",\"\",VLOOKUP(B25,TARIFASABR2025!$B$9:$X$44,TARIFASABR2025!$T$6,0))","v":""},null,{"$f":"IF(B25=\"\",\"\",VLOOKUP(B25,TARIFASABR2025!$B$9:$X$44,TARIFASABR2025!$W$6,0))","v":""},null,{"$f":"IF(B25=\"\",\"\",VLOOKUP(B25,TARIFASABR2025!$B$9:$X$44,TARIFASABR2025!$X$6,0))","v":""},"",0,null,null,24,"T. LA LINEA TOLIMA"]
["",null,{"$f":"IF(B26=\"\",\"\",VLOOKUP(B26,TARIFASABR2025!$B$7:$C$44,TARIFASABR2025!$C$6,0))","v":""},null,{"$f":"IF(B26=\"\",\"\",VLOOKUP(B26,TARIFASABR2025!$B$9:$X$44,TARIFASABR2025!$D$6,0))","v":""},null,{"$f":"IF(B26=\"\",\"\",VLOOKUP(B26,TARIFASABR2025!$B$9:$X$44,TARIFASABR2025!$F$6,0))","v":""},null,{"$f":"IF(B26=\"\",\"\",VLOOKUP(B26,TARIFASABR2025!$B$9:$X$44,TARIFASABR2025!$J$6,0))","v":""},null,{"$f":"IF(B26=\"\",\"\",VLOOKUP(B26,TARIFASABR2025!$B$9:$X$44,TARIFASABR2025!$N$6,0))","v":""},null,{"$f":"IF(B26=\"\",\"\",VLOOKUP(B26,TARIFASABR2025!$B$9:$X$44,TARIFASABR2025!$P$6,0))","v":""},null,{"$f":"IF(B26=\"\",\"\",VLOOKUP(B26,TARIFASABR2025!$B$9:$X$44,TARIFASABR2025!$Q$6,0))","v":""},null,{"$f":"IF(B26=\"\",\"\",VLOOKUP(B26,TARIFASABR2025!$B$9:$X$44,TARIFASABR2025!$R$6,0))","v":""},null,{"$f":"IF(B26=\"\",\"\",VLOOKUP(B26,TARIFASABR2025!$B$9:$X$44,TARIFASABR2025!$T$6,0))","v":""},null,{"$f":"IF(B26=\"\",\"\",VLOOKUP(B26,TARIFASABR2025!$B$9:$X$44,TARIFASABR2025!$W$6,0))","v":""},null,{"$f":"IF(B26=\"\",\"\",VLOOKUP(B26,TARIFASABR2025!$B$9:$X$44,TARIFASABR2025!$X$6,0))","v":""},"",0,null,null,25,"T. LA LINEA QUINDIO"]
["",null,{"$f":"IF(B27=\"\",\"\",VLOOKUP(B27,TARIFASABR2025!$B$7:$C$44,TARIFASABR2025!$C$6,0))","v":""},null,{"$f":"IF(B27=\"\",\"\",VLOOKUP(B27,TARIFASABR2025!$B$9:$X$44,TARIFASABR2025!$D$6,0))","v":""},null,{"$f":"IF(B27=\"\",\"\",VLOOKUP(B27,TARIFASABR2025!$B$9:$X$44,TARIFASABR2025!$F$6,0))","v":""},null,{"$f":"IF(B27=\"\",\"\",VLOOKUP(B27,TARIFASABR2025!$B$9:$X$44,TARIFASABR2025!$J$6,0))","v":""},null,{"$f":"IF(B27=\"\",\"\",VLOOKUP(B27,TARIFASABR2025!$B$9:$X$44,TARIFASABR2025!$N$6,0))","v":""},null,{"$f":"IF(B27=\"\",\"\",VLOOKUP(B27,TARIFASABR2025!$B$9:$X$44,TARIFASABR2025!$P$6,0))","v":""},null,{"$f":"IF(B27=\"\",\"\",VLOOKUP(B27,TARIFASABR2025!$B$9:$X$44,TARIFASABR2025!$Q$6,0))","v":""},null,{"$f":"IF(B27=\"\",\"\",VLOOKUP(B27,TARIFASABR2025!$B$9:$X$44,TARIFASABR2025!$R$6,0))","v":""},null,{"$f":"IF(B27=\"\",\"\",VLOOKUP(B27,TARIFASABR2025!$B$9:$X$44,TARIFASABR2025!$T$6,0))","v":""},null,{"$f":"IF(B27=\"\",\"\",VLOOKUP(B27,TARIFASABR2025!$B$9:$X$44,TARIFASABR2025!$W$6,0))","v":""},null,{"$f":"IF(B27=\"\",\"\",VLOOKUP(B27,TARIFASABR2025!$B$9:$X$44,TARIFASABR2025!$X$6,0))","v":""},"",0,null,null,26,"CANO"]
["",null,{"$f":"IF(B28=\"\",\"\",VLOOKUP(B28,TARIFASABR2025!$B$7:$C$44,TARIFASABR2025!$C$6,0))","v":""},null,{"$f":"IF(B28=\"\",\"\",VLOOKUP(B28,TARIFASABR2025!$B$9:$X$44,TARIFASABR2025!$D$6,0))","v":""},null,{"$f":"IF(B28=\"\",\"\",VLOOKUP(B28,TARIFASABR2025!$B$9:$X$44,TARIFASABR2025!$F$6,0))","v":""},null,{"$f":"IF(B28=\"\",\"\",VLOOKUP(B28,TARIFASABR2025!$B$9:$X$44,TARIFASABR2025!$J$6,0))","v":""},null,{"$f":"IF(B28=\"\",\"\",VLOOKUP(B28,TARIFASABR2025!$B$9:$X$44,TARIFASABR2025!$N$6,0))","v":""},null,{"$f":"IF(B28=\"\",\"\",VLOOKUP(B28,TARIFASABR2025!$B$9:$X$44,TARIFASABR2025!$P$6,0))","v":""},null,{"$f":"IF(B28=\"\",\"\",VLOOKUP(B28,TARIFASABR2025!$B$9:$X$44,TARIFASABR2025!$Q$6,0))","v":""},null,{"$f":"IF(B28=\"\",\"\",VLOOKUP(B28,TARIFASABR2025!$B$9:$X$44,TARIFASABR2025!$R$6,0))","v":""},null,{"$f":"IF(B28=\"\",\"\",VLOOKUP(B28,TARIFASABR2025!$B$9:$X$44,TARIFASABR2025!$T$6,0))","v":""},null,{"$f":"IF(B28=\"\",\"\",VLOOKUP(B28,TARIFASABR2025!$B$9:$X$44,TARIFASABR2025!$W$6,0))","v":""},null,{"$f":"IF(B28=\"\",\"\",VLOOKUP(B28,TARIFASABR2025!$B$9:$X$44,TARIFASABR2025!$X$6,0))","v":""},"",0,null,null,27,"CARIMAGUA"]
["",null,{"$f":"IF(B29=\"\",\"\",VLOOKUP(B29,TARIFASABR2025!$B$7:$C$44,TARIFASABR2025!$C$6,0))","v":""},null,{"$f":"IF(B29=\"\",\"\",VLOOKUP(B29,TARIFASABR2025!$B$9:$X$44,TARIFASABR2025!$D$6,0))","v":""},null,{"$f":"IF(B29=\"\",\"\",VLOOKUP(B29,TARIFASABR2025!$B$9:$X$44,TARIFASABR2025!$F$6,0))","v":""},null,{"$f":"IF(B29=\"\",\"\",VLOOKUP(B29,TARIFASABR2025!$B$9:$X$44,TARIFASABR2025!$J$6,0))","v":""},null,{"$f":"IF(B29=\"\",\"\",VLOOKUP(B29,TARIFASABR2025!$B$9:$X$44,TARIFASABR2025!$N$6,0))","v":""},null,{"$f":"IF(B29=\"\",\"\",VLOOKUP(B29,TARIFASABR2025!$B$9:$X$44,TARIFASABR2025!$P$6,0))","v":""},null,{"$f":"IF(B29=\"\",\"\",VLOOKUP(B29,TARIFASABR2025!$B$9:$X$44,TARIFASABR2025!$Q$6,0))","v":""},null,{"$f":"IF(B29=\"\",\"\",VLOOKUP(B29,TARIFASABR2025!$B$9:$X$44,TARIFASABR2025!$R$6,0))","v":""},null,{"$f":"IF(B29=\"\",\"\",VLOOKUP(B29,TARIFASABR2025!$B$9:$X$44,TARIFASABR2025!$T$6,0))","v":""},null,{"$f":"IF(B29=\"\",\"\",VLOOKUP(B29,TARIFASABR2025!$B$9:$X$44,TARIFASABR2025!$W$6,0))","v":""},null,{"$f":"IF(B29=\"\",\"\",VLOOKUP(B29,TARIFASABR2025!$B$9:$X$44,TARIFASABR2025!$X$6,0))","v":""},"",0,null,null,28,"EL CRUCERO"]
["",null,{"$f":"IF(B30=\"\",\"\",VLOOKUP(B30,TARIFASABR2025!$B$7:$C$44,TARIFASABR2025!$C$6,0))","v":""},null,{"$f":"IF(B30=\"\",\"\",VLOOKUP(B30,TARIFASABR2025!$B$9:$X$44,TARIFASABR2025!$D$6,0))","v":""},null,{"$f":"IF(B30=\"\",\"\",VLOOKUP(B30,TARIFASABR2025!$B$9:$X$44,TARIFASABR2025!$F$6,0))","v":""},null,{"$f":"IF(B30=\"\",\"\",VLOOKUP(B30,TARIFASABR2025!$B$9:$X$44,TARIFASABR2025!$J$6,0))","v":""},null,{"$f":"IF(B30=\"\",\"\",VLOOKUP(B30,TARIFASABR2025!$B$9:$X$44,TARIFASABR2025!$N$6,0))","v":""},null,{"$f":"IF(B30=\"\",\"\",VLOOKUP(B30,TARIFASABR2025!$B$9:$X$44,TARIFASABR2025!$P$6,0))","v":""},null,{"$f":"IF(B30=\"\",\"\",VLOOKUP(B30,TARIFASABR2025!$B$9:$X$44,TARIFASABR2025!$Q$6,0))","v":""},null,{"$f":"IF(B30=\"\",\"\",VLOOKUP(B30,TARIFASABR2025!$B$9:$X$44,TARIFASABR2025!$R$6,0))","v":""},null,{"$f":"IF(B30=\"\",\"\",VLOOKUP(B30,TARIFASABR2025!$B$9:$X$44,TARIFASABR2025!$T$6,0))","v":""},null,{"$f":"IF(B30=\"\",\"\",VLOOKUP(B30,TARIFASABR2025!$B$9:$X$44,TARIFASABR2025!$W$6,0))","v":""},null,{"$f":"IF(B30=\"\",\"\",VLOOKUP(B30,TARIFASABR2025!$B$9:$X$44,TARIFASABR2025!$X$6,0))","v":""},"",0,null,null,29,"EL BORDO"]
["",null,{"$f":"IF(B31=\"\",\"\",VLOOKUP(B31,TARIFASABR2025!$B$7:$C$44,TARIFASABR2025!$C$6,0))","v":""},null,{"$f":"IF(B31=\"\",\"\",VLOOKUP(B31,TARIFASABR2025!$B$9:$X$44,TARIFASABR2025!$D$6,0))","v":""},null,{"$f":"IF(B31=\"\",\"\",VLOOKUP(B31,TARIFASABR2025!$B$9:$X$44,TARIFASABR2025!$F$6,0))","v":""},null,{"$f":"IF(B31=\"\",\"\",VLOOKUP(B31,TARIFASABR2025!$B$9:$X$44,TARIFASABR2025!$J$6,0))","v":""},null,{"$f":"IF(B31=\"\",\"\",VLOOKUP(B31,TARIFASABR2025!$B$9:$X$44,TARIFASABR2025!$N$6,0))","v":""},null,{"$f":"IF(B31=\"\",\"\",VLOOKUP(B31,TARIFASABR2025!$B$9:$X$44,TARIFASABR2025!$P$6,0))","v":""},null,{"$f":"IF(B31=\"\",\"\",VLOOKUP(B31,TARIFASABR2025!$B$9:$X$44,TARIFASABR2025!$Q$6,0))","v":""},null,{"$f":"IF(B31=\"\",\"\",VLOOKUP(B31,TARIFASABR2025!$B$9:$X$44,TARIFASABR2025!$R$6,0))","v":""},null,{"$f":"IF(B31=\"\",\"\",VLOOKUP(B31,TARIFASABR2025!$B$9:$X$44,TARIFASABR2025!$T$6,0))","v":""},null,{"$f":"IF(B31=\"\",\"\",VLOOKUP(B31,TARIFASABR2025!$B$9:$X$44,TARIFASABR2025!$W$6,0))","v":""},null,{"$f":"IF(B31=\"\",\"\",VLOOKUP(B31,TARIFASABR2025!$B$9:$X$44,TARIFASABR2025!$X$6,0))","v":""},"",0,null,null,30,"LOS LLANOS"]
["",null,{"$f":"IF(B32=\"\",\"\",VLOOKUP(B32,TARIFASABR2025!$B$7:$C$44,TARIFASABR2025!$C$6,0))","v":""},null,{"$f":"IF(B32=\"\",\"\",VLOOKUP(B32,TARIFASABR2025!$B$9:$X$44,TARIFASABR2025!$D$6,0))","v":""},null,{"$f":"IF(B32=\"\",\"\",VLOOKUP(B32,TARIFASABR2025!$B$9:$X$44,TARIFASABR2025!$F$6,0))","v":""},null,{"$f":"IF(B32=\"\",\"\",VLOOKUP(B32,TARIFASABR2025!$B$9:$X$44,TARIFASABR2025!$J$6,0))","v":""},null,{"$f":"IF(B32=\"\",\"\",VLOOKUP(B32,TARIFASABR2025!$B$9:$X$44,TARIFASABR2025!$N$6,0))","v":""},null,{"$f":"IF(B32=\"\",\"\",VLOOKUP(B32,TARIFASABR2025!$B$9:$X$44,TARIFASABR2025!$P$6,0))","v":""},null,{"$f":"IF(B32=\"\",\"\",VLOOKUP(B32,TARIFASABR2025!$B$9:$X$44,TARIFASABR2025!$Q$6,0))","v":""},null,{"$f":"IF(B32=\"\",\"\",VLOOKUP(B32,TARIFASABR2025!$B$9:$X$44,TARIFASABR2025!$R$6,0))","v":""},null,{"$f":"IF(B32=\"\",\"\",VLOOKUP(B32,TARIFASABR2025!$B$9:$X$44,TARIFASABR2025!$T$6,0))","v":""},null,{"$f":"IF(B32=\"\",\"\",VLOOKUP(B32,TARIFASABR2025!$B$9:$X$44,TARIFASABR2025!$W$6,0))","v":""},null,{"$f":"IF(B32=\"\",\"\",VLOOKUP(B32,TARIFASABR2025!$B$9:$X$44,TARIFASABR2025!$X$6,0))","v":""},"",0,null,null,31,"RIO BLANCO"]
["",null,{"$f":"IF(B33=\"\",\"\",VLOOKUP(B33,TARIFASABR2025!$B$7:$C$44,TARIFASABR2025!$C$6,0))","v":""},null,{"$f":"IF(B33=\"\",\"\",VLOOKUP(B33,TARIFASABR2025!$B$9:$X$44,TARIFASABR2025!$D$6,0))","v":""},null,{"$f":"IF(B33=\"\",\"\",VLOOKUP(B33,TARIFASABR2025!$B$9:$X$44,TARIFASABR2025!$F$6,0))","v":""},null,{"$f":"IF(B33=\"\",\"\",VLOOKUP(B33,TARIFASABR2025!$B$9:$X$44,TARIFASABR2025!$J$6,0))","v":""},null,{"$f":"IF(B33=\"\",\"\",VLOOKUP(B33,TARIFASABR2025!$B$9:$X$44,TARIFASABR2025!$N$6,0))","v":""},null,{"$f":"IF(B33=\"\",\"\",VLOOKUP(B33,TARIFASABR2025!$B$9:$X$44,TARIFASABR2025!$P$6,0))","v":""},null,{"$f":"IF(B33=\"\",\"\",VLOOKUP(B33,TARIFASABR2025!$B$9:$X$44,TARIFASABR2025!$Q$6,0))","v":""},null,{"$f":"IF(B33=\"\",\"\",VLOOKUP(B33,TARIFASABR2025!$B$9:$X$44,TARIFASABR2025!$R$6,0))","v":""},null,{"$f":"IF(B33=\"\",\"\",VLOOKUP(B33,TARIFASABR2025!$B$9:$X$44,TARIFASABR2025!$T$6,0))","v":""},null,{"$f":"IF(B33=\"\",\"\",VLOOKUP(B33,TARIFASABR2025!$B$9:$X$44,TARIFASABR2025!$W$6,0))","v":""},null,{"$f":"IF(B33=\"\",\"\",VLOOKUP(B33,TARIFASABR2025!$B$9:$X$44,TARIFASABR2025!$X$6,0))","v":""},"",0,null,null,32,"RIO FRIO"]
["",null,{"$f":"IF(B34=\"\",\"\",VLOOKUP(B34,TARIFASABR2025!$B$7:$C$44,TARIFASABR2025!$C$6,0))","v":""},null,{"$f":"IF(B34=\"\",\"\",VLOOKUP(B34,TARIFASABR2025!$B$9:$X$44,TARIFASABR2025!$D$6,0))","v":""},null,{"$f":"IF(B34=\"\",\"\",VLOOKUP(B34,TARIFASABR2025!$B$9:$X$44,TARIFASABR2025!$F$6,0))","v":""},null,{"$f":"IF(B34=\"\",\"\",VLOOKUP(B34,TARIFASABR2025!$B$9:$X$44,TARIFASABR2025!$J$6,0))","v":""},null,{"$f":"IF(B34=\"\",\"\",VLOOKUP(B34,TARIFASABR2025!$B$9:$X$44,TARIFASABR2025!$N$6,0))","v":""},null,{"$f":"IF(B34=\"\",\"\",VLOOKUP(B34,TARIFASABR2025!$B$9:$X$44,TARIFASABR2025!$P$6,0))","v":""},null,{"$f":"IF(B34=\"\",\"\",VLOOKUP(B34,TARIFASABR2025!$B$9:$X$44,TARIFASABR2025!$Q$6,0))","v":""},null,{"$f":"IF(B34=\"\",\"\",VLOOKUP(B34,TARIFASABR2025!$B$9:$X$44,TARIFASABR2025!$R$6,0))","v":""},null,{"$f":"IF(B34=\"\",\"\",VLOOKUP(B34,TARIFASABR2025!$B$9:$X$44,TARIFASABR2025!$T$6,0))","v":""},null,{"$f":"IF(B34=\"\",\"\",VLOOKUP(B34,TARIFASABR2025!$B$9:$X$44,TARIFASABR2025!$W$6,0))","v":""},null,{"$f":"IF(B34=\"\",\"\",VLOOKUP(B34,TARIFASABR2025!$B$9:$X$44,TARIFASABR2025!$X$6,0))","v":""},"",0,null,null,33,"SACHICA"]
["",null,{"$f":"IF(B35=\"\",\"\",VLOOKUP(B35,TARIFASABR2025!$B$7:$C$44,TARIFASABR2025!$C$6,0))","v":""},null,{"$f":"IF(B35=\"\",\"\",VLOOKUP(B35,TARIFASABR2025!$B$9:$X$44,TARIFASABR2025!$D$6,0))","v":""},null,{"$f":"IF(B35=\"\",\"\",VLOOKUP(B35,TARIFASABR2025!$B$9:$X$44,TARIFASABR2025!$F$6,0))","v":""},null,{"$f":"IF(B35=\"\",\"\",VLOOKUP(B35,TARIFASABR2025!$B$9:$X$44,TARIFASABR2025!$J$6,0))","v":""},null,{"$f":"IF(B35=\"\",\"\",VLOOKUP(B35,TARIFASABR2025!$B$9:$X$44,TARIFASABR2025!$N$6,0))","v":""},null,{"$f":"IF(B35=\"\",\"\",VLOOKUP(B35,TARIFASABR2025!$B$9:$X$44,TARIFASABR2025!$P$6,0))","v":""},null,{"$f":"IF(B35=\"\",\"\",VLOOKUP(B35,TARIFASABR2025!$B$9:$X$44,TARIFASABR2025!$Q$6,0))","v":""},null,{"$f":"IF(B35=\"\",\"\",VLOOKUP(B35,TARIFASABR2025!$B$9:$X$44,TARIFASABR2025!$R$6,0))","v":""},null,{"$f":"IF(B35=\"\",\"\",VLOOKUP(B35,TARIFASABR2025!$B$9:$X$44,TARIFASABR2025!$T$6,0))","v":""},null,{"$f":"IF(B35=\"\",\"\",VLOOKUP(B35,TARIFASABR2025!$B$9:$X$44,TARIFASABR2025!$W$6,0))","v":""},null,{"$f":"IF(B35=\"\",\"\",VLOOKUP(B35,TARIFASABR2025!$B$9:$X$44,TARIFASABR2025!$X$6,0))","v":""},"",0,null,null,34,"SAN CLEMENTE"]
["",null,{"$f":"IF(B36=\"\",\"\",VLOOKUP(B36,TARIFASABR2025!$B$7:$C$44,TARIFASABR2025!$C$6,0))","v":""},null,{"$f":"IF(B36=\"\",\"\",VLOOKUP(B36,TARIFASABR2025!$B$9:$X$44,TARIFASABR2025!$D$6,0))","v":""},null,{"$f":"IF(B36=\"\",\"\",VLOOKUP(B36,TARIFASABR2025!$B$9:$X$44,TARIFASABR2025!$F$6,0))","v":""},null,{"$f":"IF(B36=\"\",\"\",VLOOKUP(B36,TARIFASABR2025!$B$9:$X$44,TARIFASABR2025!$J$6,0))","v":""},null,{"$f":"IF(B36=\"\",\"\",VLOOKUP(B36,TARIFASABR2025!$B$9:$X$44,TARIFASABR2025!$N$6,0))","v":""},null,{"$f":"IF(B36=\"\",\"\",VLOOKUP(B36,TARIFASABR2025!$B$9:$X$44,TARIFASABR2025!$P$6,0))","v":""},null,{"$f":"IF(B36=\"\",\"\",VLOOKUP(B36,TARIFASABR2025!$B$9:$X$44,TARIFASABR2025!$Q$6,0))","v":""},null,{"$f":"IF(B36=\"\",\"\",VLOOKUP(B36,TARIFASABR2025!$B$9:$X$44,TARIFASABR2025!$R$6,0))","v":""},null,{"$f":"IF(B36=\"\",\"\",VLOOKUP(B36,TARIFASABR2025!$B$9:$X$44,TARIFASABR2025!$T$6,0))","v":""},null,{"$f":"IF(B36=\"\",\"\",VLOOKUP(B36,TARIFASABR2025!$B$9:$X$44,TARIFASABR2025!$W$6,0))","v":""},null,{"$f":"IF(B36=\"\",\"\",VLOOKUP(B36,TARIFASABR2025!$B$9:$X$44,TARIFASABR2025!$X$6,0))","v":""},"",0,null,null,35,"TORO"]
["",null,{"$f":"IF(B37=\"\",\"\",VLOOKUP(B37,TARIFASABR2025!$B$7:$C$44,TARIFASABR2025!$C$6,0))","v":""},null,{"$f":"IF(B37=\"\",\"\",VLOOKUP(B37,TARIFASABR2025!$B$9:$X$44,TARIFASABR2025!$D$6,0))","v":""},null,{"$f":"IF(B37=\"\",\"\",VLOOKUP(B37,TARIFASABR2025!$B$9:$X$44,TARIFASABR2025!$F$6,0))","v":""},null,{"$f":"IF(B37=\"\",\"\",VLOOKUP(B37,TARIFASABR2025!$B$9:$X$44,TARIFASABR2025!$J$6,0))","v":""},null,{"$f":"IF(B37=\"\",\"\",VLOOKUP(B37,TARIFASABR2025!$B$9:$X$44,TARIFASABR2025!$N$6,0))","v":""},null,{"$f":"IF(B37=\"\",\"\",VLOOKUP(B37,TARIFASABR2025!$B$9:$X$44,TARIFASABR2025!$P$6,0))","v":""},null,{"$f":"IF(B37=\"\",\"\",VLOOKUP(B37,TARIFASABR2025!$B$9:$X$44,TARIFASABR2025!$Q$6,0))","v":""},null,{"$f":"IF(B37=\"\",\"\",VLOOKUP(B37,TARIFASABR2025!$B$9:$X$44,TARIFASABR2025!$R$6,0))","v":""},null,{"$f":"IF(B37=\"\",\"\",VLOOKUP(B37,TARIFASABR2025!$B$9:$X$44,TARIFASABR2025!$T$6,0))","v":""},null,{"$f":"IF(B37=\"\",\"\",VLOOKUP(B37,TARIFASABR2025!$B$9:$X$44,TARIFASABR2025!$W$6,0))","v":""},null,{"$f":"IF(B37=\"\",\"\",VLOOKUP(B37,TARIFASABR2025!$B$9:$X$44,TARIFASABR2025!$X$6,0))","v":""},"",0,null,null,36,"TARAZA"]
["",null,{"$f":"IF(B38=\"\",\"\",VLOOKUP(B38,TARIFASABR2025!$B$7:$C$44,TARIFASABR2025!$C$6,0))","v":""},null,{"$f":"IF(B38=\"\",\"\",VLOOKUP(B38,TARIFASABR2025!$B$9:$X$44,TARIFASABR2025!$D$6,0))","v":""},null,{"$f":"IF(B38=\"\",\"\",VLOOKUP(B38,TARIFASABR2025!$B$9:$X$44,TARIFASABR2025!$F$6,0))","v":""},null,{"$f":"IF(B38=\"\",\"\",VLOOKUP(B38,TARIFASABR2025!$B$9:$X$44,TARIFASABR2025!$J$6,0))","v":""},null,{"$f":"IF(B38=\"\",\"\",VLOOKUP(B38,TARIFASABR2025!$B$9:$X$44,TARIFASABR2025!$N$6,0))","v":""},null,{"$f":"IF(B38=\"\",\"\",VLOOKUP(B38,TARIFASABR2025!$B$9:$X$44,TARIFASABR2025!$P$6,0))","v":""},null,{"$f":"IF(B38=\"\",\"\",VLOOKUP(B38,TARIFASABR2025!$B$9:$X$44,TARIFASABR2025!$Q$6,0))","v":""},null,{"$f":"IF(B38=\"\",\"\",VLOOKUP(B38,TARIFASABR2025!$B$9:$X$44,TARIFASABR2025!$R$6,0))","v":""},null,{"$f":"IF(B38=\"\",\"\",VLOOKUP(B38,TARIFASABR2025!$B$9:$X$44,TARIFASABR2025!$T$6,0))","v":""},null,{"$f":"IF(B38=\"\",\"\",VLOOKUP(B38,TARIFASABR2025!$B$9:$X$44,TARIFASABR2025!$W$6,0))","v":""},null,{"$f":"IF(B38=\"\",\"\",VLOOKUP(B38,TARIFASABR2025!$B$9:$X$44,TARIFASABR2025!$X$6,0))","v":""},"",0,null,null,37,"CASABLANCA"]
["",null,{"$f":"IF(B39=\"\",\"\",VLOOKUP(B39,TARIFASABR2025!$B$7:$C$44,TARIFASABR2025!$C$6,0))","v":""},null,{"$f":"IF(B39=\"\",\"\",VLOOKUP(B39,TARIFASABR2025!$B$9:$X$44,TARIFASABR2025!$D$6,0))","v":""},null,{"$f":"IF(B39=\"\",\"\",VLOOKUP(B39,TARIFASABR2025!$B$9:$X$44,TARIFASABR2025!$F$6,0))","v":""},null,{"$f":"IF(B39=\"\",\"\",VLOOKUP(B39,TARIFASABR2025!$B$9:$X$44,TARIFASABR2025!$J$6,0))","v":""},null,{"$f":"IF(B39=\"\",\"\",VLOOKUP(B39,TARIFASABR2025!$B$9:$X$44,TARIFASABR2025!$N$6,0))","v":""},null,{"$f":"IF(B39=\"\",\"\",VLOOKUP(B39,TARIFASABR2025!$B$9:$X$44,TARIFASABR2025!$P$6,0))","v":""},null,{"$f":"IF(B39=\"\",\"\",VLOOKUP(B39,TARIFASABR2025!$B$9:$X$44,TARIFASABR2025!$Q$6,0))","v":""},null,{"$f":"IF(B39=\"\",\"\",VLOOKUP(B39,TARIFASABR2025!$B$9:$X$44,TARIFASABR2025!$R$6,0))","v":""},null,{"$f":"IF(B39=\"\",\"\",VLOOKUP(B39,TARIFASABR2025!$B$9:$X$44,TARIFASABR2025!$T$6,0))","v":""},null,{"$f":"IF(B39=\"\",\"\",VLOOKUP(B39,TARIFASABR2025!$B$9:$X$44,TARIFASABR2025!$W$6,0))","v":""},null,{"$f":"IF(B39=\"\",\"\",VLOOKUP(B39,TARIFASABR2025!$B$9:$X$44,TARIFASABR2025!$X$6,0))","v":""},"",0,null,null,38,"SABOYÁ"]
[{"$f":"IF(A39<1,\"\",IF(B40=\"\",\"\",A39+1))","v":""},null,{"$f":"IF(B40=\"\",\"\",VLOOKUP(B40,TARIFASABR2025!$B$7:$C$44,TARIFASABR2025!$C$6,0))","v":""},null,{"$f":"IF(B40=\"\",\"\",VLOOKUP(B40,TARIFASABR2025!$B$9:$X$44,TARIFASABR2025!$D$6,0))","v":""},null,{"$f":"IF(B40=\"\",\"\",VLOOKUP(B40,TARIFASABR2025!$B$9:$X$44,TARIFASABR2025!$F$6,0))","v":""},null,{"$f":"IF(B40=\"\",\"\",VLOOKUP(B40,TARIFASABR2025!$B$9:$X$44,TARIFASABR2025!$J$6,0))","v":""},null,{"$f":"IF(B40=\"\",\"\",VLOOKUP(B40,TARIFASABR2025!$B$9:$X$44,TARIFASABR2025!$N$6,0))","v":""},null,{"$f":"IF(B40=\"\",\"\",VLOOKUP(B40,TARIFASABR2025!$B$9:$X$44,TARIFASABR2025!$P$6,0))","v":""},null,{"$f":"IF(B40=\"\",\"\",VLOOKUP(B40,TARIFASABR2025!$B$9:$X$44,TARIFASABR2025!$Q$6,0))","v":""},null,{"$f":"IF(B40=\"\",\"\",VLOOKUP(B40,TARIFASABR2025!$B$9:$X$44,TARIFASABR2025!$R$6,0))","v":""},null,{"$f":"IF(B40=\"\",\"\",VLOOKUP(B40,TARIFASABR2025!$B$9:$X$44,TARIFASABR2025!$T$6,0))","v":""},null,{"$f":"IF(B40=\"\",\"\",VLOOKUP(B40,TARIFASABR2025!$B$9:$X$44,TARIFASABR2025!$W$6,0))","v":""},null,{"$f":"IF(B40=\"\",\"\",VLOOKUP(B40,TARIFASABR2025!$B$9:$X$44,TARIFASABR2025!$X$6,0))","v":""},"",0,null,null,39,"OIBA"]
["",null,{"$f":"IF(B41=\"\",\"\",VLOOKUP(B41,TARIFASABR2025!$B$7:$C$44,TARIFASABR2025!$C$6,0))","v":""},null,{"$f":"IF(B41=\"\",\"\",VLOOKUP(B41,TARIFASABR2025!$B$9:$X$44,TARIFASABR2025!$D$6,0))","v":""},null,{"$f":"IF(B41=\"\",\"\",VLOOKUP(B41,TARIFASABR2025!$B$9:$X$44,TARIFASABR2025!$F$6,0))","v":""},null,{"$f":"IF(B41=\"\",\"\",VLOOKUP(B41,TARIFASABR2025!$B$9:$X$44,TARIFASABR2025!$J$6,0))","v":""},null,{"$f":"IF(B41=\"\",\"\",VLOOKUP(B41,TARIFASABR2025!$B$9:$X$44,TARIFASABR2025!$N$6,0))","v":""},null,{"$f":"IF(B41=\"\",\"\",VLOOKUP(B41,TARIFASABR2025!$B$9:$X$44,TARIFASABR2025!$P$6,0))","v":""},null,{"$f":"IF(B41=\"\",\"\",VLOOKUP(B41,TARIFASABR2025!$B$9:$X$44,TARIFASABR2025!$Q$6,0))","v":""},null,{"$f":"IF(B41=\"\",\"\",VLOOKUP(B41,TARIFASABR2025!$B$9:$X$44,TARIFASABR2025!$R$6,0))","v":""},null,{"$f":"IF(B41=\"\",\"\",VLOOKUP(B41,TARIFASABR2025!$B$9:$X$44,TARIFASABR2025!$T$6,0))","v":""},null,{"$f":"IF(B41=\"\",\"\",VLOOKUP(B41,TARIFASABR2025!$B$9:$X$44,TARIFASABR2025!$W$6,0))","v":""},null,{"$f":"IF(B41=\"\",\"\",VLOOKUP(B41,TARIFASABR2025!$B$9:$X$44,TARIFASABR2025!$X$6,0))","v":""},"",0,null,null,40,"CURITI"]
["",null,{"$f":"IF(B42=\"\",\"\",VLOOKUP(B42,TARIFASABR2025!$B$7:$C$44,TARIFASABR2025!$C$6,0))","v":""},null,{"$f":"IF(B42=\"\",\"\",VLOOKUP(B42,TARIFASABR2025!$B$9:$X$44,TARIFASABR2025!$D$6,0))","v":""},null,{"$f":"IF(B42=\"\",\"\",VLOOKUP(B42,TARIFASABR2025!$B$9:$X$44,TARIFASABR2025!$F$6,0))","v":""},null,{"$f":"IF(B42=\"\",\"\",VLOOKUP(B42,TARIFASABR2025!$B$9:$X$44,TARIFASABR2025!$J$6,0))","v":""},null,{"$f":"IF(B42=\"\",\"\",VLOOKUP(B42,TARIFASABR2025!$B$9:$X$44,TARIFASABR2025!$N$6,0))","v":""},null,{"$f":"IF(B42=\"\",\"\",VLOOKUP(B42,TARIFASABR2025!$B$9:$X$44,TARIFASABR2025!$P$6,0))","v":""},null,{"$f":"IF(B42=\"\",\"\",VLOOKUP(B42,TARIFASABR2025!$B$9:$X$44,TARIFASABR2025!$Q$6,0))","v":""},null,{"$f":"IF(B42=\"\",\"\",VLOOKUP(B42,TARIFASABR2025!$B$9:$X$44,TARIFASABR2025!$R$6,0))","v":""},null,{"$f":"IF(B42=\"\",\"\",VLOOKUP(B42,TARIFASABR2025!$B$9:$X$44,TARIFASABR2025!$T$6,0))","v":""},null,{"$f":"IF(B42=\"\",\"\",VLOOKUP(B42,TARIFASABR2025!$B$9:$X$44,TARIFASABR2025!$W$6,0))","v":""},null,{"$f":"IF(B42=\"\",\"\",VLOOKUP(B42,TARIFASABR2025!$B$9:$X$44,TARIFASABR2025!$X$6,0))","v":""},"",0,null,null,41,"LOS CUROS"]
["",null,{"$f":"IF(B43=\"\",\"\",VLOOKUP(B43,TARIFASABR2025!$B$7:$C$44,TARIFASABR2025!$C$6,0))","v":""},null,{"$f":"IF(B43=\"\",\"\",VLOOKUP(B43,TARIFASABR2025!$B$9:$X$44,TARIFASABR2025!$D$6,0))","v":""},null,{"$f":"IF(B43=\"\",\"\",VLOOKUP(B43,TARIFASABR2025!$B$9:$X$44,TARIFASABR2025!$F$6,0))","v":""},null,{"$f":"IF(B43=\"\",\"\",VLOOKUP(B43,TARIFASABR2025!$B$9:$X$44,TARIFASABR2025!$J$6,0))","v":""},null,{"$f":"IF(B43=\"\",\"\",VLOOKUP(B43,TARIFASABR2025!$B$9:$X$44,TARIFASABR2025!$N$6,0))","v":""},null,{"$f":"IF(B43=\"\",\"\",VLOOKUP(B43,TARIFASABR2025!$B$9:$X$44,TARIFASABR2025!$P$6,0))","v":""},null,{"$f":"IF(B43=\"\",\"\",VLOOKUP(B43,TARIFASABR2025!$B$9:$X$44,TARIFASABR2025!$Q$6,0))","v":""},null,{"$f":"IF(B43=\"\",\"\",VLOOKUP(B43,TARIFASABR2025!$B$9:$X$44,TARIFASABR2025!$R$6,0))","v":""},null,{"$f":"IF(B43=\"\",\"\",VLOOKUP(B43,TARIFASABR2025!$B$9:$X$44,TARIFASABR2025!$T$6,0))","v":""},null,{"$f":"IF(B43=\"\",\"\",VLOOKUP(B43,TARIFASABR2025!$B$9:$X$44,TARIFASABR2025!$W$6,0))","v":""},null,{"$f":"IF(B43=\"\",\"\",VLOOKUP(B43,TARIFASABR2025!$B$9:$X$44,TARIFASABR2025!$X$6,0))","v":""},"",0,null,null,42,"PLATANAL"]
["",null,{"$f":"IF(B44=\"\",\"\",VLOOKUP(B44,TARIFASABR2025!$B$7:$C$44,TARIFASABR2025!$C$6,0))","v":""},null,{"$f":"IF(B44=\"\",\"\",VLOOKUP(B44,TARIFASABR2025!$B$9:$X$44,TARIFASABR2025!$D$6,0))","v":""},null,{"$f":"IF(B44=\"\",\"\",VLOOKUP(B44,TARIFASABR2025!$B$9:$X$44,TARIFASABR2025!$F$6,0))","v":""},null,{"$f":"IF(B44=\"\",\"\",VLOOKUP(B44,TARIFASABR2025!$B$9:$X$44,TARIFASABR2025!$J$6,0))","v":""},null,{"$f":"IF(B44=\"\",\"\",VLOOKUP(B44,TARIFASABR2025!$B$9:$X$44,TARIFASABR2025!$N$6,0))","v":""},null,{"$f":"IF(B44=\"\",\"\",VLOOKUP(B44,TARIFASABR2025!$B$9:$X$44,TARIFASABR2025!$P$6,0))","v":""},null,{"$f":"IF(B44=\"\",\"\",VLOOKUP(B44,TARIFASABR2025!$B$9:$X$44,TARIFASABR2025!$Q$6,0))","v":""},null,{"$f":"IF(B44=\"\",\"\",VLOOKUP(B44,TARIFASABR2025!$B$9:$X$44,TARIFASABR2025!$R$6,0))","v":""},null,{"$f":"IF(B44=\"\",\"\",VLOOKUP(B44,TARIFASABR2025!$B$9:$X$44,TARIFASABR2025!$T$6,0))","v":""},null,{"$f":"IF(B44=\"\",\"\",VLOOKUP(B44,TARIFASABR2025!$B$9:$X$44,TARIFASABR2025!$W$6,0))","v":""},null,{"$f":"IF(B44=\"\",\"\",VLOOKUP(B44,TARIFASABR2025!$B$9:$X$44,TARIFASABR2025!$X$6,0))","v":""},"",0,null,null,43,"SAN DIEGO"]
["",null,{"$f":"IF(B45=\"\",\"\",VLOOKUP(B45,TARIFASABR2025!$B$7:$C$44,TARIFASABR2025!$C$6,0))","v":""},null,{"$f":"IF(B45=\"\",\"\",VLOOKUP(B45,TARIFASABR2025!$B$9:$X$44,TARIFASABR2025!$D$6,0))","v":""},null,{"$f":"IF(B45=\"\",\"\",VLOOKUP(B45,TARIFASABR2025!$B$9:$X$44,TARIFASABR2025!$F$6,0))","v":""},null,{"$f":"IF(B45=\"\",\"\",VLOOKUP(B45,TARIFASABR2025!$B$9:$X$44,TARIFASABR2025!$J$6,0))","v":""},null,{"$f":"IF(B45=\"\",\"\",VLOOKUP(B45,TARIFASABR2025!$B$9:$X$44,TARIFASABR2025!$N$6,0))","v":""},null,{"$f":"IF(B45=\"\",\"\",VLOOKUP(B45,TARIFASABR2025!$B$9:$X$44,TARIFASABR2025!$P$6,0))","v":""},null,{"$f":"IF(B45=\"\",\"\",VLOOKUP(B45,TARIFASABR2025!$B$9:$X$44,TARIFASABR2025!$Q$6,0))","v":""},null,{"$f":"IF(B45=\"\",\"\",VLOOKUP(B45,TARIFASABR2025!$B$9:$X$44,TARIFASABR2025!$R$6,0))","v":""},null,{"$f":"IF(B45=\"\",\"\",VLOOKUP(B45,TARIFASABR2025!$B$9:$X$44,TARIFASABR2025!$T$6,0))","v":""},null,{"$f":"IF(B45=\"\",\"\",VLOOKUP(B45,TARIFASABR2025!$B$9:$X$44,TARIFASABR2025!$W$6,0))","v":""},null,{"$f":"IF(B45=\"\",\"\",VLOOKUP(B45,TARIFASABR2025!$B$9:$X$44,TARIFASABR2025!$X$6,0))","v":""},"",0,null,null,44,"RINCÓN HONDO"]
[null,null,"TOTAL",{"$f":"SUM(D16:D45)","v":0},null,{"$f":"SUM(F16:F45)","v":0},null,{"$f":"SUM(H16:H45)","v":0},null,{"$f":"SUM(J16:J45)","v":0},null,{"$f":"SUM(L16:L45)","v":0},null,{"$f":"SUM(N16:N45)","v":0},null,{"$f":"SUM(P16:P45)","v":0},null,{"$f":"SUM(R16:R45)","v":0},null,{"$f":"SUM(T16:T45)","v":0},{"$f":"IF(B46=\"\",\"\",VLOOKUP(B46,TARIFASABR2025!$B$9:$X$44,TARIFASABR2025!$W$6,0))","v":""},{"$f":"SUM(V16:V45)","v":0},null,{"$f":"SUM(X16:X45)","v":0},{"$f":"SUM(Y16:Y45)","v":0},null,null,45,"SAN JUAN"]
[{"$nulls":27},46,"COCORNA"]
[{"$nulls":27},47,"PUERTO TRIUNFO"]
[{"$nulls":27},48,"CERRITOS II"]
[{"$nulls":27},49,"LA PARADA"]
[{"$nulls":27},{"$f":"+AB47+1","v":47},"EL KORAN"]
[{"$nulls":27},48,"RIO BOGOTA"]
[{"$nulls":27},49,"CORZO"]
[{"$nulls":27},50,"GARZON I"]
[{"$nulls":27},51,"GARZON II"]
[{"$nulls":27},52,"LA ESPERANZA"]
[{"$nulls":27},53,"LAS FLORES"]
[{"$nulls":27},54]
[{"$nulls":27},55]
[{"$nulls":27},56]
[{"$nulls":27},57]
[{"$nulls":27},58]
[{"$nulls":27},59]
[{"$nulls":27},60]
[{"$nulls":27},61]
[{"$nulls":27},62]
[{"$nulls":27},63]
[{"$nulls":27},64]
[{"$nulls":27},65]
[{"$nulls":27},66]
[{"$nulls":27},{"$f":"+AB70+1","v":67}]
[{"$nulls":27},68]
[{"$nulls":27},69]
[{"$nulls":27},70]
[{"$nulls":27},71]
[{"$nulls":27},72]
[{"$nulls":27},73]
[{"$nulls":27},74]
[{"$nulls":27},75]
[{"$nulls":27},76]
[{"$nulls":27},77]
[{"$nulls":27},78]
[{"$nulls":27},79]
[{"$nulls":27},80]
[{"$nulls":27},81]
[{"$nulls":27},82]
[{"$nulls":27},83]
[{"$nulls":27},84]
[{"$nulls":27},85]
[{"$nulls":27},86]
[{"$nulls":27},87]
[{"$nulls":27},88]
[{"$nulls":27},89]
[{"$nulls":27},90]
[{"$nulls":27},91]
[{"$nulls":27},92]
[{"$nulls":27},93]
[{"$nulls":27},94]
[{"$nulls":27},95]
[{"$nulls":27},96]
[{"$nulls":27},97]
[{"$nulls":27},98]
[{"$nulls":27},99]
[{"$nulls":27},100]
[{"$nulls":27},101]
[{"$nulls":27},102]
[{"$nulls":27},103]
[{"$nulls":27},104]
[{"$nulls":27},105]
[{"$nulls":27},106]
[{"$nulls":27},107]
[{"$nulls":27},108]
[{"$nulls":27},109]
[{"$nulls":27},110]
[{"$nulls":27},111]
[{"$nulls":27},112]
[{"$nulls":27},113]
[{"$nulls":27},114]
[{"$nulls":27},115]
[{"$nulls":27},116]
[{"$nulls":27},117]
[{"$nulls":27},118]
[{"$nulls":27},119]
[{"$nulls":27},120]
[{"$nulls":27},121]
[{"$nulls":27},122]
[{"$nulls":27},123]
[{"$nulls":27},124]
[{"$nulls":27},125]
[{"$nulls":27},126]
[{"$nulls":27},127]
[{"$nulls":27},128]
[{"$nulls":27},129]
[{"$nulls":27},130]
[{"$nulls":27},{"$f":"+AB134+1","v":131}]
[{"$nulls":27},132]
[{"$nulls":27},133]
[{"$nulls":27},134]
[{"$nulls":27},135]
[{"$nulls":27},136]
[{"$nulls":27},137]
[{"$nulls":27},138]
[{"$nulls":27},139]
[{"$nulls":27},140]
[{"$nulls":27},141]
[{"$nulls":27},142]
[{"$nulls":27},143]
[{"$nulls":27},144]
[{"$nulls":27},145]
[{"$nulls":27},146]
[{"$nulls":27},147]
[{"$nulls":27},148]
[{"$nulls":27},149]
[{"$nulls":27},150]
[{"$nulls":27},151]
[{"$nulls":27},152]
[{"$nulls":27},153]
[{"$nulls":27},154]
[{"$nulls":27},155]
[{"$nulls":27},156]
[{"$nulls":27},157]
[{"$nulls":27},158]
[{"$nulls":27},159]
[{"$nulls":27},160]
[{"$nulls":27},161]
[{"$nulls":27},162]
[{"$nulls":27},163]
[{"$nulls":27},164]
[{"$nulls":27},165]
[{"$nulls":27},166]
[{"$nulls":27},167]
[{"$nulls":27},168]
[{"$nulls":27},169]
[{"$nulls":27},170]
[{"$nulls":27},171]
[{"$nulls":27},172]
[{"$nulls":27},173]
[{"$nulls":27},174]
[{"$nulls":27},175]
[{"$nulls":27},176]
[{"$nulls":27},177]
[{"$nulls":27},178]
[{"$nulls":27},179]
[{"$nulls":27},180]
[{"$nulls":27},181]
[{"$nulls":27},182]
[{"$nulls":27},183]
[{"$nulls":27},184]
[{"$nulls":27},185]
[{"$nulls":27},186]
[{"$nulls":27},187]
[{"$nulls":27},188]
[{"$nulls":27},189]
[{"$nulls":27},190]
[{"$nulls":27},191]
[{"$nulls":27},192]
[{"$nulls":27},193]
[{"$nulls":27},194]
[{"$nulls":27},{"$f":"+AB198+1","v":195}]
[{"$nulls":27},196]
[{"$nulls":27},197]
[{"$nulls":27},198]
[{"$nulls":27},199]
[{"$nulls":27},200]
[{"$nulls":27},201]
[{"$nulls":27},202]
[{"$nulls":27},203]
[{"$nulls":27},204]
[{"$nulls":27},205]
[{"$nulls":27},206]
[{"$nulls":27},207]
[{"$nulls":27},208]
[{"$nulls":27},209]
[{"$nulls":27},210]
[{"$nulls":27},211]
[{"$nulls":27},212]
[{"$nulls":27},213]
[{"$nulls":27},214]
[{"$nulls":27},215]
[{"$nulls":27},216]
[{"$nulls":27},217]
[{"$nulls":27},218]
[{"$nulls":27},219]
[{"$nulls":27},220]
[{"$nulls":27},221]
[{"$nulls":27},222]
[{"$nulls":27},223]
[{"$nulls":27},224]
[{"$nulls":27},225]
[{"$nulls":27},226]
[{"$nulls":27},227]
[{"$nulls":27},228]
[{"$nulls":27},229]
[{"$nulls":27},230]
[{"$nulls":27},231]
[{"$nulls":27},232]
[{"$nulls":27},233]
[{"$nulls":27},234]
[{"$nulls":27},235]
[{"$nulls":27},236]
[{"$nulls":27},237]
[{"$nulls":27},238]
[{"$nulls":27},239]
[{"$nulls":27},240]
[{"$nulls":27},241]
[{"$nulls":27},242]
[{"$nulls":27},243]
[{"$nulls":27},244]
[{"$nulls":27},245]
[{"$nulls":27},246]
[{"$nulls":27},247]
[{"$nulls":27},248]
[{"$nulls":27},249]
[{"$nulls":27},250]
[{"$nulls":27},251]
[{"$nulls":27},252]
[{"$nulls":27},253]
[{"$nulls":27},254]
[{"$nulls":27},255]
[{"$nulls":27},256]
[{"$nulls":27},257]
[{"$nulls":27},258]
[{"$nulls":27},{"$f":"+AB262+1","v":259}]
[{"$nulls":27},260]
[{"$nulls":27},261]
[{"$nulls":27},262]
[{"$nulls":27},263]
[{"$nulls":27},264]
[{"$nulls":27},265]
[{"$nulls":27},266]
[{"$nulls":27},267]
[{"$nulls":27},268]
[{"$nulls":27},269]
[{"$nulls":27},270]
[{"$nulls":27},271]
[{"$nulls":27},272]
[{"$nulls":27},273]
[{"$nulls":27},274]
[{"$nulls":27},275]
[{"$nulls":27},276]
[{"$nulls":27},277]
[{"$nulls":27},278]
[{"$nulls":27},279]
[{"$nulls":27},280]
[{"$nulls":27},281]
[{"$nulls":27},282]
[{"$nulls":27},283]
[{"$nulls":27},284]
[{"$nulls":27},285]
[{"$nulls":27},286]
[{"$nulls":27},287]
[{"$nulls":27},288]
[{"$nulls":27},289]
[{"$nulls":27},290]
[{"$nulls":27},291]
[{"$nulls":27},292]
[{"$nulls":27},293]
[{"$nulls":27},294]
[{"$nulls":27},295]
[{"$nulls":27},296]
[{"$nulls":27},297]
[{"$nulls":27},298]
[{"$nulls":27},299]
[{"$nulls":27},300]
[{"$nulls":27},301]
[{"$nulls":27},302]
[{"$nulls":27},303]
[{"$nulls":27},304]
[{"$nulls":27},305]
[{"$nulls":27},306]
[{"$nulls":27},307]
[{"$nulls":27},308]
[{"$nulls":27},309]
[{"$nulls":27},310]
[{"$nulls":27},311]
[{"$nulls":27},312]
[{"$nulls":27},313]
[{"$nulls":27},314]
[{"$nulls":27},315]
[{"$nulls":27},316]
[{"$nulls":27},317]
[{"$nulls":27},318]
[{"$nulls":27},319]
[{"$nulls":27},320]
[{"$nulls":27},321]
[{"$nulls":27},322]
[{"$nulls":27},{"$f":"+AB326+1","v":323}]
[{"$nulls":27},324]
[{"$nulls":27},325]
[{"$nulls":27},326]
[{"$nulls":27},327]
[{"$nulls":27},328]
[{"$nulls":27},329]
[{"$nulls":27},330]
[{"$nulls":27},331]
[{"$nulls":27},332]
[{"$nulls":27},333]
[{"$nulls":27},334]
[{"$nulls":27},335]
[{"$nulls":27},336]
[{"$nulls":27},337]
[{"$nulls":27},338]
[{"$nulls":27},339]
[{"$nulls":27},340]
[{"$nulls":27},341]
[{"$nulls":27},342]
[{"$nulls":27},343]
[{"$nulls":27},344]
[{"$nulls":27},345]
[{"$nulls":27},346]
[{"$nulls":27},347]
[{"$nulls":27},348]
[{"$nulls":27},349]
[{"$nulls":27},350]
[{"$nulls":27},351]
[{"$nulls":27},352]
[{"$nulls":27},353]
[{"$nulls":27},354]
[{"$nulls":27},355]
[{"$nulls":27},356]
[{"$nulls":27},357]
[{"$nulls":27},358]
[{"$nulls":27},359]
[{"$nulls":27},360]
[{"$nulls":27},361]
[{"$nulls":27},362]
[{"$nulls":27},363]
[{"$nulls":27},364]
[{"$nulls":27},365]
[{"$nulls":27},366]
[{"$nulls":27},367]
[{"$nulls":27},368]
[{"$nulls":27},369]
[{"$nulls":27},370]
[{"$nulls":27},371]
[{"$nulls":27},372]
[{"$nulls":27},373]
[{"$nulls":27},374]
[{"$nulls":27},375]
[{"$nulls":27},376]
[{"$nulls":27},377]
[{"$nulls":27},378]
[{"$nulls":27},379]
[{"$nulls":27},380]
[{"$nulls":27},381]
[{"$nulls":27},382]
[{"$nulls":27},383]
[{"$nulls":27},384]
[{"$nulls":27},385]
[{"$nulls":27},386]
[{"$nulls":27},{"$f":"+AB390+1","v":387}]
[{"$nulls":27},388]
[{"$nulls":27},389]
[{"$nulls":27},390]
[{"$nulls":27},391]
[{"$nulls":27},392]
[{"$nulls":27},393]
[{"$nulls":27},394]
[{"$nulls":27},395]
[{"$nulls":27},396]
[{"$nulls":27},397]
[{"$nulls":27},398]
[{"$nulls":27},399]
[{"$nulls":27},400]
[{"$nulls":27},401]
[{"$nulls":27},402]
[{"$nulls":27},403]
[{"$nulls":27},404]
[{"$nulls":27},405]
[{"$nulls":27},406]
[{"$nulls":27},407]
[{"$nulls":27},408]
[{"$nulls":27},409]
[{"$nulls":27},410]
[{"$nulls":27},411]
[{"$nulls":27},412]
[{"$nulls":27},413]
[{"$nulls":27},414]
[{"$nulls":27},415]
[{"$nulls":27},416]
[{"$nulls":27},417]
[{"$nulls":27},418]
[{"$nulls":27},419]
[{"$nulls":27},420]
[{"$nulls":27},421]
[{"$nulls":27},422]
[{"$nulls":27},423]
[{"$nulls":27},424]
[{"$nulls":27},425]
[{"$nulls":27},426]
[{"$nulls":27},427]
[{"$nulls":27},428]
[{"$nulls":27},429]
[{"$nulls":27},430]
[{"$nulls":27},431]
[{"$nulls":27},432]
[{"$nulls":27},433]
[{"$nulls":27},434]
[{"$nulls":27},435]
[{"$nulls":27},436]
[{"$nulls":27},437]
[{"$nulls":27},438]
[{"$nulls":27},439]
[{"$nulls":27},440]
[{"$nulls":27},441]
[{"$nulls":27},442]
[{"$nulls":27},443]
[{"$nulls":27},444]
[{"$nulls":27},445]
[{"$nulls":27},446]
[{"$nulls":27},447]
[{"$nulls":27},448]
[{"$nulls":27},449]
[{"$nulls":27},450]
[{"$nulls":27},{"$f":"+AB454+1","v":451}]
[{"$nulls":27},452]
[{"$nulls":27},453]
[{"$nulls":27},454]
[{"$nulls":27},455]
[{"$nulls":27},456]
[{"$nulls":27},457]
[{"$nulls":27},458]
[{"$nulls":27},459]
[{"$nulls":27},460]
[{"$nulls":27},461]
[{"$nulls":27},462]
[{"$nulls":27},463]
[{"$nulls":27},464]
[{"$nulls":27},465]
[{"$nulls":27},466]
[{"$nulls":27},467]
[{"$nulls":27},468]
[{"$nulls":27},469]
[{"$nulls":27},470]
[{"$nulls":27},471]
[{"$nulls":27},472]
[{"$nulls":27},473]
[{"$nulls":27},474]
[{"$nulls":27},475]
[{"$nulls":27},476]
[{"$nulls":27},477]
[{"$nulls":27},478]
[{"$nulls":27},479]
[{"$nulls":27},480]
[{"$nulls":27},481]
[{"$nulls":27},482]
[{"$nulls":27},483]
[{"$nulls":27},484]
[{"$nulls":27},485]
[{"$nulls":27},486]
[{"$nulls":27},487]
[{"$nulls":27},488]
[{"$nulls":27},489]
[{"$nulls":27},490]
[{"$nulls":27},491]
[{"$nulls":27},492]
[{"$nulls":27},493]
[{"$nulls":27},494]
[{"$nulls":27},495]
[{"$nulls":27},496]
[{"$nulls":27},497]
[{"$nulls":27},498]
[{"$nulls":27},499]
[{"$nulls":27},500]
[{"$nulls":27},501]
[{"$nulls":27},502]
[{"$nulls":27},503]
[{"$nulls":27},504]
[{"$nulls":27},505]
[{"$nulls":27},506]
[{"$nulls":27},507]
[{"$nulls":27},508]
[{"$nulls":27},509]
[{"$nulls":27},510]
[{"$nulls":27},511]
[{"$nulls":27},512]
[{"$nulls":27},513]
[{"$nulls":27},514]
[{"$nulls":27},{"$f":"+AB518+1","v":515}]
[{"$nulls":27},516]
[{"$nulls":27},517]
[{"$nulls":27},518]
[{"$nulls":27},519]
[{"$nulls":27},520]
[{"$nulls":27},521]
[{"$nulls":27},522]
[{"$nulls":27},523]
[{"$nulls":27},524]
[{"$nulls":27},525]
[{"$nulls":27},526]
[{"$nulls":27},527]
[{"$nulls":27},528]
[{"$nulls":27},529]
[{"$nulls":27},530]
[{"$nulls":27},531]
[{"$nulls":27},532]
[{"$nulls":27},533]
[{"$nulls":27},534]
[{"$nulls":27},535]
[{"$nulls":27},536]
[{"$nulls":27},537]
[{"$nulls":27},538]
[{"$nulls":27},539]
[{"$nulls":27},540]
[{"$nulls":27},541]
[{"$nulls":27},542]
[{"$nulls":27},543]
[{"$nulls":27},544]
[{"$nulls":27},545]
[{"$nulls":27},546]
[{"$nulls":27},547]
[{"$nulls":27},548]
[{"$nulls":27},549]
[{"$nulls":27},550]
[{"$nulls":27},551]
[{"$nulls":27},552]
[{"$nulls":27},553]
[{"$nulls":27},554]
[{"$nulls":27},555]
[{"$nulls":27},556]
[{"$nulls":27},557]
[{"$nulls":27},558]
[{"$nulls":27},559]
[{"$nulls":27},560]
[{"$nulls":27},561]
[{"$nulls":27},562]
[{"$nulls":27},563]
[{"$nulls":27},564]
[{"$nulls":27},565]
[{"$nulls":27},566]
[{"$nulls":27},567]
[{"$nulls":27},568]
[{"$nulls":27},569]
[{"$nulls":27},570]
[{"$nulls":27},571]
[{"$nulls":27},572]
[{"$nulls":27},573]
[{"$nulls":27},574]
[{"$nulls":27},575]
[{"$nulls":27},576]
[{"$nulls":27},577]
[{"$nulls":27},578]
[{"$nulls":27},{"$f":"+AB582+1","v":579}]
[{"$nulls":27},580]
[{"$nulls":27},581]
[{"$nulls":27},582]
[{"$nulls":27},583]
[{"$nulls":27},584]
[{"$nulls":27},585]
[{"$nulls":27},586]
[{"$nulls":27},587]
[{"$nulls":27},588]
[{"$nulls":27},589]
[{"$nulls":27},590]
[{"$nulls":27},591]
[{"$nulls":27},592]
[{"$nulls":27},593]
[{"$nulls":27},594]
[{"$nulls":27},595]
[{"$nulls":27},596]
[{"$nulls":27},597]
[{"$nulls":27},598]
[{"$nulls":27},599]
[{"$nulls":27},600]
[{"$nulls":27},601]
[{"$nulls":27},602]
[{"$nulls":27},603]
[{"$nulls":27},604]
[{"$nulls":27},605]
[{"$nulls":27},606]
[{"$nulls":27},607]
[{"$nulls":27},608]
[{"$nulls":27},609]
[{"$nulls":27},610]
[{"$nulls":27},611]
[{"$nulls":27},612]
[{"$nulls":27},613]
[{"$nulls":27},614]
[{"$nulls":27},615]
[{"$nulls":27},616]
[{"$nulls":27},617]
[{"$nulls":27},618]
[{"$nulls":27},619]
[{"$nulls":27},620]
[{"$nulls":27},621]
[{"$nulls":27},622]
[{"$nulls":27},623]
[{"$nulls":27},624]
[{"$nulls":27},625]
[{"$nulls":27},626]
[{"$nulls":27},627]
[{"$nulls":27},628]
[{"$nulls":27},629]
[{"$nulls":27},630]
[{"$nulls":27},631]
[{"$nulls":27},632]
[{"$nulls":27},633]
[{"$nulls":27},634]
[{"$nulls":27},635]
[{"$nulls":27},636]
[{"$nulls":27},637]
[{"$nulls":27},638]
[{"$nulls":27},639]
[{"$nulls":27},640]
[{"$nulls":27},641]
[{"$nulls":27},642]
[{"$nulls":27},{"$f":"+AB646+1","v":643}]
[{"$nulls":27},644]
[{"$nulls":27},645]
[{"$nulls":27},646]
[{"$nulls":27},647]
[{"$nulls":27},648]
[{"$nulls":27},649]
[{"$nulls":27},650]
[{"$nulls":27},651]
[{"$nulls":27},652]
[{"$nulls":27},653]
[{"$nulls":27},654]
[{"$nulls":27},655]
[{"$nulls":27},656]
[{"$nulls":27},657]
[{"$nulls":27},658]
[{"$nulls":27},659]
[{"$nulls":27},660]
[{"$nulls":27},661]
[{"$nulls":27},662]
[{"$nulls":27},663]
[{"$nulls":27},664]
[{"$nulls":27},665]
[{"$nulls":27},666]
[{"$nulls":27},667]
[{"$nulls":27},668]
[{"$nulls":27},669]
[{"$nulls":27},670]
[{"$nulls":27},671]
[{"$nulls":27},672]
[{"$nulls":27},673]
[{"$nulls":27},674]
[{"$nulls":27},675]
[{"$nulls":27},676]
[{"$nulls":27},677]
[{"$nulls":27},678]
[{"$nulls":27},679]
[{"$nulls":27},680]
[{"$nulls":27},681]
[{"$nulls":27},682]
[{"$nulls":27},683]
[{"$nulls":27},684]
[{"$nulls":27},685]
[{"$nulls":27},686]
[{"$nulls":27},687]
[{"$nulls":27},688]
[{"$nulls":27},689]
[{"$nulls":27},690]
[{"$nulls":27},691]
[{"$nulls":27},692]
[{"$nulls":27},693]
[{"$nulls":27},694]
[{"$nulls":27},695]
[{"$nulls":27},696]
[{"$nulls":27},697]
[{"$nulls":27},698]
[{"$nulls":27},699]
[{"$nulls":27},700]
[{"$nulls":27},701]
[{"$nulls":27},702]
[{"$nulls":27},703]
[{"$nulls":27},704]
[{"$nulls":27},705]
[{"$nulls":27},706]
[{"$nulls":27},{"$f":"+AB710+1","v":707}]
[{"$nulls":27},708]
[{"$nulls":27},709]
[{"$nulls":27},710]
[{"$nulls":27},711]
[{"$nulls":27},712]
[{"$nulls":27},713]
[{"$nulls":27},714]
[{"$nulls":27},715]
[{"$nulls":27},716]
[{"$nulls":27},717]
[{"$nulls":27},718]
[{"$nulls":27},719]
[{"$nulls":27},720]
[{"$nulls":27},721]
[{"$nulls":27},722]
[{"$nulls":27},723]
[{"$nulls":27},724]
[{"$nulls":27},725]
[{"$nulls":27},726]
[{"$nulls":27},727]
[{"$nulls":27},728]
[{"$nulls":27},729]
[{"$nulls":27},730]
[{"$nulls":27},731]
[{"$nulls":27},732]
[{"$nulls":27},733]
[{"$nulls":27},734]
[{"$nulls":27},735]
[{"$nulls":27},736]
[{"$nulls":27},737]
[{"$nulls":27},738]
[{"$nulls":27},739]
[{"$nulls":27},740]
[{"$nulls":27},741]
[{"$nulls":27},742]
[{"$nulls":27},743]
[{"$nulls":27},744]
[{"$nulls":27},745]
[{"$nulls":27},746]
[{"$nulls":27},747]
[{"$nulls":27},748]
[{"$nulls":27},749]
[{"$nulls":27},750]
[{"$nulls":27},751]
[{"$nulls":27},752]
[{"$nulls":27},753]
[{"$nulls":27},754]
[{"$nulls":27},755]
[{"$nulls":27},756]
[{"$nulls":27},757]
[{"$nulls":27},758]
[{"$nulls":27},759]
[{"$nulls":27},760]
[{"$nulls":27},761]
[{"$nulls":27},762]
[{"$nulls":27},763]
[{"$nulls":27},764]
[{"$nulls":27},765]
[{"$nulls":27},766]
[{"$nulls":27},767]
[{"$nulls":27},768]
[{"$nulls":27},769]
[{"$nulls":27},770]
[{"$nulls":27},{"$f":"+AB774+1","v":771}]
[{"$nulls":27},772]
[{"$nulls":27},773]
[{"$nulls":27},774]
[{"$nulls":27},775]
[{"$nulls":27},776]
[{"$nulls":27},777]
[{"$nulls":27},778]
[{"$nulls":27},779]
[{"$nulls":27},780]
[{"$nulls":27},781]
[{"$nulls":27},782]
[{"$nulls":27},783]
[{"$nulls":27},784]
[{"$nulls":27},785]
[{"$nulls":27},786]
[{"$nulls":27},787]
[{"$nulls":27},788]
[{"$nulls":27},789]
[{"$nulls":27},790]
[{"$nulls":27},791]
[{"$nulls":27},792]
[{"$nulls":27},793]
[{"$nulls":27},794]
[{"$nulls":27},795]
[{"$nulls":27},796]
[{"$nulls":27},797]
[{"$nulls":27},798]
[{"$nulls":27},799]
[{"$nulls":27},800]
[{"$nulls":27},801]
[{"$nulls":27},802]
[{"$nulls":27},803]
[{"$nulls":27},804]
[{"$nulls":27},805]
[{"$nulls":27},806]
[{"$nulls":27},807]
[{"$nulls":27},808]
[{"$nulls":27},809]
[{"$nulls":27},810]
[{"$nulls":27},811]
[{"$nulls":27},812]
[{"$nulls":27},813]
[{"$nulls":27},814]
[{"$nulls":27},815]
[{"$nulls":27},816]
[{"$nulls":27},817]
[{"$nulls":27},818]
[{"$nulls":27},819]
[{"$nulls":27},820]
[{"$nulls":27},821]
[{"$nulls":27},822]
[{"$nulls":27},823]
[{"$nulls":27},824]
[{"$nulls":27},825]
[{"$nulls":27},826]
[{"$nulls":27},827]
[{"$nulls":27},828]
[{"$nulls":27},829]
[{"$nulls":27},830]
[{"$nulls":27},831]
[{"$nulls":27},832]
[{"$nulls":27},833]
[{"$nulls":27},834]
[{"$nulls":27},{"$f":"+AB838+1","v":835}]
[{"$nulls":27},836]
[{"$nulls":27},837]
[{"$nulls":27},838]
[{"$nulls":27},839]
[{"$nulls":27},840]
[{"$nulls":27},841]
[{"$nulls":27},842]
[{"$nulls":27},843]
[{"$nulls":27},844]
[{"$nulls":27},845]
[{"$nulls":27},846]
[{"$nulls":27},847]
[{"$nulls":27},848]
[{"$nulls":27},849]
[{"$nulls":27},850]
[{"$nulls":27},851]
[{"$nulls":27},852]
[{"$nulls":27},853]
[{"$nulls":27},854]
[{"$nulls":27},855]
[{"$nulls":27},856]
[{"$nulls":27},857]
[{"$nulls":27},858]
[{"$nulls":27},859]
[{"$nulls":27},860]
[{"$nulls":27},861]
[{"$nulls":27},862]
[{"$nulls":27},863]
[{"$nulls":27},864]
[{"$nulls":27},865]
[{"$nulls":27},866]
[{"$nulls":27},867]
[{"$nulls":27},868]
[{"$nulls":27},869]
[{"$nulls":27},870]
[{"$nulls":27},871]
[{"$nulls":27},872]
[{"$nulls":27},873]
[{"$nulls":27},874]
[{"$nulls":27},875]
[{"$nulls":27},876]
[{"$nulls":27},877]
[{"$nulls":27},878]
[{"$nulls":27},879]
[{"$nulls":27},880]
[{"$nulls":27},881]
[{"$nulls":27},882]
[{"$nulls":27},883]
[{"$nulls":27},884]
[{"$nulls":27},885]
[{"$nulls":27},886]
[{"$nulls":27},887]
[{"$nulls":27},888]
[{"$nulls":27},889]
[{"$nulls":27},890]
[{"$nulls":27},891]
[{"$nulls":27},892]
[{"$nulls":27},893]
[{"$nulls":27},894]
[{"$nulls":27},895]
[{"$nulls":27},896]
[{"$nulls":27},897]
[{"$nulls":27},898]
[{"$nulls":27},{"$f":"+AB902+1","v":899}]
[{"$nulls":27},900]
[{"$nulls":27},901]
[{"$nulls":27},902]
[{"$nulls":27},903]
[{"$nulls":27},904]
[{"$nulls":27},905]
[{"$nulls":27},906]
[{"$nulls":27},907]
[{"$nulls":27},908]
[{"$nulls":27},909]
[{"$nulls":27},910]
[{"$nulls":27},911]
[{"$nulls":27},912]
[{"$nulls":27},913]
[{"$nulls":27},914]
[{"$nulls":27},915]
[{"$nulls":27},916]
[{"$nulls":27},917]
[{"$nulls":27},918]
[{"$nulls":27},919]
[{"$nulls":27},920]
[{"$nulls":27},921]
[{"$nulls":27},922]
[{"$nulls":27},923]
[{"$nulls":27},924]
[{"$nulls":27},925]
[{"$nulls":27},926]
[{"$nulls":27},927]
[{"$nulls":27},928]
[{"$nulls":27},929]
[{"$nulls":27},930]
[{"$nulls":27},931]
[{"$nulls":27},932]
[{"$nulls":27},933]
[{"$nulls":27},934]
[{"$nulls":27},935]
[{"$nulls":27},936]
[{"$nulls":27},937]
[{"$nulls":27},938]
[{"$nulls":27},939]
[{"$nulls":27},940]
[{"$nulls":27},941]
[{"$nulls":27},942]
[{"$nulls":27},943]
[{"$nulls":27},944]
[{"$nulls":27},945]
[{"$nulls":27},946]
[{"$nulls":27},947]
[{"$nulls":27},948]
[{"$nulls":27},949]
[{"$nulls":27},950]
[{"$nulls":27},951]
[{"$nulls":27},952]
[{"$nulls":27},953]
[{"$nulls":27},954]
[{"$nulls":27},955]
[{"$nulls":27},956]
[{"$nulls":27},957]
[{"$nulls":27},958]
[{"$nulls":27},959]
[{"$nulls":27},960]
[{"$nulls":27},961]
[{"$nulls":27},962]
[{"$nulls":27},{"$f":"+AB966+1","v":963}]
[{"$nulls":27},964]
[{"$nulls":27},965]
[{"$nulls":27},966]
[{"$nulls":27},967]
[{"$nulls":27},968]
[{"$nulls":27},969]
[{"$nulls":27},970]
[{"$nulls":27},971]
[{"$nulls":27},972]
[{"$nulls":27},973]
[{"$nulls":27},974]
[{"$nulls":27},975]
[{"$nulls":27},976]
[{"$nulls":27},977]
[{"$nulls":27},978]
[{"$nulls":27},979]
[{"$nulls":27},980]
[{"$nulls":27},981]
[{"$nulls":27},982]
[{"$nulls":27},983]
[{"$nulls":27},984]
[{"$nulls":27},985]
[{"$nulls":27},986]
[{"$nulls":27},987]
[{"$nulls":27},988]
[{"$nulls":27},989]
[{"$nulls":27},990]
[{"$nulls":27},991]
[{"$nulls":27},992]
[{"$nulls":27},993]
[{"$nulls":27},994]
[{"$nulls":27},995]
[{"$nulls":27},996]
[{"$nulls":27},997]
[{"$nulls":27},998]
[{"$nulls":27},999]
[{"$nulls":27},{"v":1000,"d":"1,000"}]
[{"$nulls":27},{"v":1001,"d":"1,001"}]
[{"$nulls":27},{"v":1002,"d":"1,002"}]
[{"$nulls":27},{"v":1003,"d":"1,003"}]
[{"$nulls":27},{"v":1004,"d":"1,004"}]
[{"$nulls":27},{"v":1005,"d":"1,005"}]
[{"$nulls":27},{"v":1006,"d":"1,006"}]
[{"$nulls":27},{"v":1007,"d":"1,007"}]
[{"$nulls":27},{"v":1008,"d":"1,008"}]
[{"$nulls":27},{"v":1009,"d":"1,009"}]
[{"$nulls":27},{"v":1010,"d":"1,010"}]
[{"$nulls":27},{"v":1011,"d":"1,011"}]
[{"$nulls":27},{"v":1012,"d":"1,012"}]
[{"$nulls":27},{"v":1013,"d":"1,013"}]
[{"$nulls":27},{"v":1014,"d":"1,014"}]
[{"$nulls":27},{"v":1015,"d":"1,015"}]
[{"$nulls":27},{"v":1016,"d":"1,016"}]
[{"$nulls":27},{"v":1017,"d":"1,017"}]
[{"$nulls":27},{"v":1018,"d":"1,018"}]
[{"$nulls":27},{"v":1019,"d":"1,019"}]
[{"$nulls":27},{"v":1020,"d":"1,020"}]
[{"$nulls":27},{"v":1021,"d":"1,021"}]
[{"$nulls":27},{"v":1022,"d":"1,022"}]
[{"$nulls":27},{"v":1023,"d":"1,023"}]
[{"$nulls":27},{"v":1024,"d":"1,024"}]
[{"$nulls":27},{"v":1025,"d":"1,025"}]
[{"$nulls":27},{"v":1026,"d":"1,026"}]
[{"$nulls":27},{"$f":"+AB1030+1","v":{"v":1027,"d":"1,027"}}]
[{"$nulls":27},{"v":1028,"d":"1,028"}]
[{"$nulls":27},{"v":1029,"d":"1,029"}]
[{"$nulls":27},{"v":1030,"d":"1,030"}]
[{"$nulls":27},{"v":1031,"d":"1,031"}]
[{"$nulls":27},{"v":1032,"d":"1,032"}]
[{"$nulls":27},{"v":1033,"d":"1,033"}]
[{"$nulls":27},{"v":1034,"d":"1,034"}]
[{"$nulls":27},{"v":1035,"d":"1,035"}]
[{"$nulls":27},{"v":1036,"d":"1,036"}]
[{"$nulls":27},{"v":1037,"d":"1,037"}]
[{"$nulls":27},{"v":1038,"d":"1,038"}]
[{"$nulls":27},{"v":1039,"d":"1,039"}]
[{"$nulls":27},{"v":1040,"d":"1,040"}]
[{"$nulls":27},{"v":1041,"d":"1,041"}]
[{"$nulls":27},{"v":1042,"d":"1,042"}]
[{"$nulls":27},{"v":1043,"d":"1,043"}]
[{"$nulls":27},{"v":1044,"d":"1,044"}]
[{"$nulls":27},{"v":1045,"d":"1,045"}]
[{"$nulls":27},{"v":1046,"d":"1,046"}]
[{"$nulls":27},{"v":1047,"d":"1,047"}]
[{"$nulls":27},{"v":1048,"d":"1,048"}]
[{"$nulls":27},{"v":1049,"d":"1,049"}]
[{"$nulls":27},{"v":1050,"d":"1,050"}]
[{"$nulls":27},{"v":1051,"d":"1,051"}]
[{"$nulls":27},{"v":1052,"d":"1,052"}]
[{"$nulls":27},{"v":1053,"d":"1,053"}]
[{"$nulls":27},{"v":1054,"d":"1,054"}]
[{"$nulls":27},{"v":1055,"d":"1,055"}]
[{"$nulls":27},{"v":1056,"d":"1,056"}]
[{"$nulls":27},{"v":1057,"d":"1,057"}]
[{"$nulls":27},{"v":1058,"d":"1,058"}]
[{"$nulls":27},{"v":1059,"d":"1,059"}]
[{"$nulls":27},{"v":1060,"d":"1,060"}]
[{"$nulls":27},{"v":1061,"d":"1,061"}]
[{"$nulls":27},{"v":1062,"d":"1,062"}]
[{"$nulls":27},{"v":1063,"d":"1,063"}]
[{"$nulls":27},{"v":1064,"d":"1,064"}]
[{"$nulls":27},{"v":1065,"d":"1,065"}]
[{"$nulls":27},{"v":1066,"d":"1,066"}]
[{"$nulls":27},{"v":1067,"d":"1,067"}]
[{"$nulls":27},{"v":1068,"d":"1,068"}]
[{"$nulls":27},{"v":1069,"d":"1,069"}]
[{"$nulls":27},{"v":1070,"d":"1,070"}]
[{"$nulls":27},{"v":1071,"d":"1,071"}]
[{"$nulls":27},{"v":1072,"d":"1,072"}]
[{"$nulls":27},{"v":1073,"d":"1,073"}]
[{"$nulls":27},{"v":1074,"d":"1,074"}]
[{"$nulls":27},{"v":1075,"d":"1,075"}]
[{"$nulls":27},{"v":1076,"d":"1,076"}]
[{"$nulls":27},{"v":1077,"d":"1,077"}]
[{"$nulls":27},{"v":1078,"d":"1,078"}]
[{"$nulls":27},{"v":1079,"d":"1,079"}]
[{"$nulls":27},{"v":1080,"d":"1,080"}]
[{"$nulls":27},{"v":1081,"d":"1,081"}]
[{"$nulls":27},{"v":1082,"d":"1,082"}]
[{"$nulls":27},{"v":1083,"d":"1,083"}]
[{"$nulls":27},{"v":1084,"d":"1,084"}]
[{"$nulls":27},{"v":1085,"d":"1,085"}]
[{"$nulls":27},{"v":1086,"d":"1,086"}]
[{"$nulls":27},{"v":1087,"d":"1,087"}]
[{"$nulls":27},{"v":1088,"d":"1,088"}]
[{"$nulls":27},{"v":1089,"d":"1,089"}]
[{"$nulls":27},{"v":1090,"d":"1,090"}]
[{"$nulls":27},{"$f":"+AB1094+1","v":{"v":1091,"d":"1,091"}}]
[{"$nulls":27},{"v":1092,"d":"1,092"}]
[{"$nulls":27},{"v":1093,"d":"1,093"}]
[{"$nulls":27},{"v":1094,"d":"1,094"}]
[{"$nulls":27},{"v":1095,"d":"1,095"}]
[{"$nulls":27},{"v":1096,"d":"1,096"}]
[{"$nulls":27},{"v":1097,"d":"1,097"}]
[{"$nulls":27},{"v":1098,"d":"1,098"}]
[{"$nulls":27},{"v":1099,"d":"1,099"}]
[{"$nulls":27},{"v":1100,"d":"1,100"}]
[{"$nulls":27},{"v":1101,"d":"1,101"}]
[{"$nulls":27},{"v":1102,"d":"1,102"}]
[{"$nulls":27},{"v":1103,"d":"1,103"}]
[{"$nulls":27},{"v":1104,"d":"1,104"}]
[{"$nulls":27},{"v":1105,"d":"1,105"}]
[{"$nulls":27},{"v":1106,"d":"1,106"}]
[{"$nulls":27},{"v":1107,"d":"1,107"}]
[{"$nulls":27},{"v":1108,"d":"1,108"}]
[{"$nulls":27},{"v":1109,"d":"1,109"}]
[{"$nulls":27},{"v":1110,"d":"1,110"}]
[{"$nulls":27},{"v":1111,"d":"1,111"}]
[{"$nulls":27},{"v":1112,"d":"1,112"}]
[{"$nulls":27},{"v":1113,"d":"1,113"}]
[{"$nulls":27},{"v":1114,"d":"1,114"}]
[{"$nulls":27},{"v":1115,"d":"1,115"}]
[{"$nulls":27},{"v":1116,"d":"1,116"}]
[{"$nulls":27},{"v":1117,"d":"1,117"}]
[{"$nulls":27},{"v":1118,"d":"1,118"}]
[{"$nulls":27},{"v":1119,"d":"1,119"}]
[{"$nulls":27},{"v":1120,"d":"1,120"}]
[{"$nulls":27},{"v":1121,"d":"1,121"}]
[{"$nulls":27},{"v":1122,"d":"1,122"}]
[{"$nulls":27},{"v":1123,"d":"1,123"}]
[{"$nulls":27},{"v":1124,"d":"1,124"}]
[{"$nulls":27},{"v":1125,"d":"1,125"}]
[{"$nulls":27},{"v":1126,"d":"1,126"}]
[{"$nulls":27},{"v":1127,"d":"1,127"}]
[{"$nulls":27},{"v":1128,"d":"1,128"}]
[{"$nulls":27},{"v":1129,"d":"1,129"}]
[{"$nulls":27},{"v":1130,"d":"1,130"}]
[{"$nulls":27},{"v":1131,"d":"1,131"}]
[{"$nulls":27},{"v":1132,"d":"1,132"}]
[{"$nulls":27},{"v":1133,"d":"1,133"}]
[{"$nulls":27},{"v":1134,"d":"1,134"}]
[{"$nulls":27},{"v":1135,"d":"1,135"}]
[{"$nulls":27},{"v":1136,"d":"1,136"}]
[{"$nulls":27},{"v":1137,"d":"1,137"}]
[{"$nulls":27},{"v":1138,"d":"1,138"}]
[{"$nulls":27},{"v":1139,"d":"1,139"}]
[{"$nulls":27},{"v":1140,"d":"1,140"}]
[{"$nulls":27},{"v":1141,"d":"1,141"}]
[{"$nulls":27},{"v":1142,"d":"1,142"}]
[{"$nulls":27},{"v":1143,"d":"1,143"}]
[{"$nulls":27},{"v":1144,"d":"1,144"}]
[{"$nulls":27},{"v":1145,"d":"1,145"}]
[{"$nulls":27},{"v":1146,"d":"1,146"}]
[{"$nulls":27},{"v":1147,"d":"1,147"}]
[{"$nulls":27},{"v":1148,"d":"1,148"}]
[{"$nulls":27},{"v":1149,"d":"1,149"}]
[{"$nulls":27},{"v":1150,"d":"1,150"}]
[{"$nulls":27},{"v":1151,"d":"1,151"}]
[{"$nulls":27},{"v":1152,"d":"1,152"}]
[{"$nulls":27},{"v":1153,"d":"1,153"}]
[{"$nulls":27},{"v":1154,"d":"1,154"}]
[{"$nulls":27},{"$f":"+AB1158+1","v":{"v":1155,"d":"1,155"}}]
[{"$nulls":27},{"v":1156,"d":"1,156"}]
[{"$nulls":27},{"v":1157,"d":"1,157"}]
[{"$nulls":27},{"v":1158,"d":"1,158"}]
[{"$nulls":27},{"v":1159,"d":"1,159"}]
[{"$nulls":27},{"v":1160,"d":"1,160"}]
[{"$nulls":27},{"v":1161,"d":"1,161"}]
[{"$nulls":27},{"v":1162,"d":"1,162"}]
[{"$nulls":27},{"v":1163,"d":"1,163"}]
[{"$nulls":27},{"v":1164,"d":"1,164"}]
[{"$nulls":27},{"v":1165,"d":"1,165"}]
[{"$nulls":27},{"v":1166,"d":"1,166"}]
[{"$nulls":27},{"v":1167,"d":"1,167"}]
[{"$nulls":27},{"v":1168,"d":"1,168"}]
[{"$nulls":27},{"v":1169,"d":"1,169"}]
[{"$nulls":27},{"v":1170,"d":"1,170"}]
[{"$nulls":27},{"v":1171,"d":"1,171"}]
[{"$nulls":27},{"v":1172,"d":"1,172"}]
[{"$nulls":27},{"v":1173,"d":"1,173"}]
[{"$nulls":27},{"v":1174,"d":"1,174"}]
[{"$nulls":27},{"v":1175,"d":"1,175"}]
[{"$nulls":27},{"v":1176,"d":"1,176"}]
[{"$nulls":27},{"v":1177,"d":"1,177"}]
[{"$nulls":27},{"v":1178,"d":"1,178"}]
[{"$nulls":27},{"v":1179,"d":"1,179"}]
[{"$nulls":27},{"v":1180,"d":"1,180"}]
[{"$nulls":27},{"v":1181,"d":"1,181"}]
[{"$nulls":27},{"v":1182,"d":"1,182"}]
[{"$nulls":27},{"v":1183,"d":"1,183"}]
[{"$nulls":27},{"v":1184,"d":"1,184"}]
[{"$nulls":27},{"v":1185,"d":"1,185"}]
[{"$nulls":27},{"v":1186,"d":"1,186"}]
[{"$nulls":27},{"v":1187,"d":"1,187"}]
[{"$nulls":27},{"v":1188,"d":"1,188"}]
[{"$nulls":27},{"v":1189,"d":"1,189"}]
[{"$nulls":27},{"v":1190,"d":"1,190"}]
[{"$nulls":27},{"v":1191,"d":"1,191"}]
[{"$nulls":27},{"v":1192,"d":"1,192"}]
[{"$nulls":27},{"v":1193,"d":"1,193"}]
[{"$nulls":27},{"v":1194,"d":"1,194"}]
[{"$nulls":27},{"v":1195,"d":"1,195"}]
[{"$nulls":27},{"v":1196,"d":"1,196"}]
[{"$nulls":27},{"v":1197,"d":"1,197"}]
[{"$nulls":27},{"v":1198,"d":"1,198"}]
[{"$nulls":27},{"v":1199,"d":"1,199"}]
[{"$nulls":27},{"v":1200,"d":"1,200"}]
[{"$nulls":27},{"v":1201,"d":"1,201"}]
[{"$nulls":27},{"v":1202,"d":"1,202"}]
[{"$nulls":27},{"v":1203,"d":"1,203"}]
[{"$nulls":27},{"v":1204,"d":"1,204"}]
[{"$nulls":27},{"v":1205,"d":"1,205"}]
[{"$nulls":27},{"v":1206,"d":"1,206"}]
[{"$nulls":27},{"v":1207,"d":"1,207"}]
[{"$nulls":27},{"v":1208,"d":"1,208"}]
[{"$nulls":27},{"v":1209,"d":"1,209"}]
[{"$nulls":27},{"v":1210,"d":"1,210"}]
[{"$nulls":27},{"v":1211,"d":"1,211"}]
[{"$nulls":27},{"v":1212,"d":"1,212"}]
[{"$nulls":27},{"v":1213,"d":"1,213"}]
[{"$nulls":27},{"v":1214,"d":"1,214"}]
[{"$nulls":27},{"v":1215,"d":"1,215"}]
[{"$nulls":27},{"v":1216,"d":"1,216"}]
[{"$nulls":27},{"v":1217,"d":"1,217"}]
[{"$nulls":27},{"v":1218,"d":"1,218"}]
[{"$nulls":27},{"$f":"+AB1222+1","v":{"v":1219,"d":"1,219"}}]
[{"$nulls":27},{"v":1220,"d":"1,220"}]
[{"$nulls":27},{"v":1221,"d":"1,221"}]
[{"$nulls":27},{"v":1222,"d":"1,222"}]
[{"$nulls":27},{"v":1223,"d":"1,223"}]
[{"$nulls":27},{"v":1224,"d":"1,224"}]
[{"$nulls":27},{"v":1225,"d":"1,225"}]
[{"$nulls":27},{"v":1226,"d":"1,226"}]
[{"$nulls":27},{"v":1227,"d":"1,227"}]
[{"$nulls":27},{"v":1228,"d":"1,228"}]
[{"$nulls":27},{"v":1229,"d":"1,229"}]
[{"$nulls":27},{"v":1230,"d":"1,230"}]
[{"$nulls":27},{"v":1231,"d":"1,231"}]
[{"$nulls":27},{"v":1232,"d":"1,232"}]
[{"$nulls":27},{"v":1233,"d":"1,233"}]
[{"$nulls":27},{"v":1234,"d":"1,234"}]
[{"$nulls":27},{"v":1235,"d":"1,235"}]
[{"$nulls":27},{"v":1236,"d":"1,236"}]
[{"$nulls":27},{"v":1237,"d":"1,237"}]
[{"$nulls":27},{"v":1238,"d":"1,238"}]
[{"$nulls":27},{"v":1239,"d":"1,239"}]
[{"$nulls":27},{"v":1240,"d":"1,240"}]
[{"$nulls":27},{"v":1241,"d":"1,241"}]
[{"$nulls":27},{"v":1242,"d":"1,242"}]
[{"$nulls":27},{"v":1243,"d":"1,243"}]
[{"$nulls":27},{"v":1244,"d":"1,244"}]
[{"$nulls":27},{"v":1245,"d":"1,245"}]
[{"$nulls":27},{"v":1246,"d":"1,246"}]
[{"$nulls":27},{"v":1247,"d":"1,247"}]
[{"$nulls":27},{"v":1248,"d":"1,248"}]
[{"$nulls":27},{"v":1249,"d":"1,249"}]
[{"$nulls":27},{"v":1250,"d":"1,250"}]
[{"$nulls":27},{"v":1251,"d":"1,251"}]
[{"$nulls":27},{"v":1252,"d":"1,252"}]
[{"$nulls":27},{"v":1253,"d":"1,253"}]
[{"$nulls":27},{"v":1254,"d":"1,254"}]
[{"$nulls":27},{"v":1255,"d":"1,255"}]
[{"$nulls":27},{"v":1256,"d":"1,256"}]
[{"$nulls":27},{"v":1257,"d":"1,257"}]
[{"$nulls":27},{"v":1258,"d":"1,258"}]
[{"$nulls":27},{"v":1259,"d":"1,259"}]
[{"$nulls":27},{"v":1260,"d":"1,260"}]
[{"$nulls":27},{"v":1261,"d":"1,261"}]
[{"$nulls":27},{"v":1262,"d":"1,262"}]
[{"$nulls":27},{"v":1263,"d":"1,263"}]
[{"$nulls":27},{"v":1264,"d":"1,264"}]
[{"$nulls":27},{"v":1265,"d":"1,265"}]
[{"$nulls":27},{"v":1266,"d":"1,266"}]
[{"$nulls":27},{"v":1267,"d":"1,267"}]
[{"$nulls":27},{"v":1268,"d":"1,268"}]
[{"$nulls":27},{"v":1269,"d":"1,269"}]
[{"$nulls":27},{"v":1270,"d":"1,270"}]
[{"$nulls":27},{"v":1271,"d":"1,271"}]
[{"$nulls":27},{"v":1272,"d":"1,272"}]
[{"$nulls":27},{"v":1273,"d":"1,273"}]
[{"$nulls":27},{"v":1274,"d":"1,274"}]
[{"$nulls":27},{"v":1275,"d":"1,275"}]
[{"$nulls":27},{"v":1276,"d":"1,276"}]
[{"$nulls":27},{"v":1277,"d":"1,277"}]
[{"$nulls":27},{"v":1278,"d":"1,278"}]
[{"$nulls":27},{"v":1279,"d":"1,279"}]
[{"$nulls":27},{"v":1280,"d":"1,280"}]
[{"$nulls":27},{"v":1281,"d":"1,281"}]
[{"$nulls":27},{"v":1282,"d":"1,282"}]
[{"$nulls":27},{"$f":"+AB1286+1","v":{"v":1283,"d":"1,283"}}]
[{"$nulls":27},{"v":1284,"d":"1,284"}]
[{"$nulls":27},{"v":1285,"d":"1,285"}]
[{"$nulls":27},{"v":1286,"d":"1,286"}]
[{"$nulls":27},{"v":1287,"d":"1,287"}]
[{"$nulls":27},{"v":1288,"d":"1,288"}]
[{"$nulls":27},{"v":1289,"d":"1,289"}]
[{"$nulls":27},{"v":1290,"d":"1,290"}]
[{"$nulls":27},{"v":1291,"d":"1,291"}]
[{"$nulls":27},{"v":1292,"d":"1,292"}]
[{"$nulls":27},{"v":1293,"d":"1,293"}]
[{"$nulls":27},{"v":1294,"d":"1,294"}]
[{"$nulls":27},{"v":1295,"d":"1,295"}]
[{"$nulls":27},{"v":1296,"d":"1,296"}]
[{"$nulls":27},{"v":1297,"d":"1,297"}]
[{"$nulls":27},{"v":1298,"d":"1,298"}]
[{"$nulls":27},{"v":1299,"d":"1,299"}]
[{"$nulls":27},{"v":1300,"d":"1,300"}]
[{"$nulls":27},{"v":1301,"d":"1,301"}]
[{"$nulls":27},{"v":1302,"d":"1,302"}]
[{"$nulls":27},{"v":1303,"d":"1,303"}]
[{"$nulls":27},{"v":1304,"d":"1,304"}]
[{"$nulls":27},{"v":1305,"d":"1,305"}]
[{"$nulls":27},{"v":1306,"d":"1,306"}]
[{"$nulls":27},{"v":1307,"d":"1,307"}]
[{"$nulls":27},{"v":1308,"d":"1,308"}]
[{"$nulls":27},{"v":1309,"d":"1,309"}]
[{"$nulls":27},{"v":1310,"d":"1,310"}]
[{"$nulls":27},{"v":1311,"d":"1,311"}]
[{"$nulls":27},{"v":1312,"d":"1,312"}]
[{"$nulls":27},{"v":1313,"d":"1,313"}]
[{"$nulls":27},{"v":1314,"d":"1,314"}]
[{"$nulls":27},{"v":1315,"d":"1,315"}]
[{"$nulls":27},{"v":1316,"d":"1,316"}]
[{"$nulls":27},{"v":1317,"d":"1,317"}]
[{"$nulls":27},{"v":1318,"d":"1,318"}]
[{"$nulls":27},{"v":1319,"d":"1,319"}]
[{"$nulls":27},{"v":1320,"d":"1,320"}]
[{"$nulls":27},{"v":1321,"d":"1,321"}]
[{"$nulls":27},{"v":1322,"d":"1,322"}]
[{"$nulls":27},{"v":1323,"d":"1,323"}]
[{"$nulls":27},{"v":1324,"d":"1,324"}]
[{"$nulls":27},{"v":1325,"d":"1,325"}]
[{"$nulls":27},{"v":1326,"d":"1,326"}]
[{"$nulls":27},{"v":1327,"d":"1,327"}]
[{"$nulls":27},{"v":1328,"d":"1,328"}]
[{"$nulls":27},{"v":1329,"d":"1,329"}]
[{"$nulls":27},{"v":1330,"d":"1,330"}]
[{"$nulls":27},{"v":1331,"d":"1,331"}]
[{"$nulls":27},{"v":1332,"d":"1,332"}]
[{"$nulls":27},{"v":1333,"d":"1,333"}]
[{"$nulls":27},{"v":1334,"d":"1,334"}]
[{"$nulls":27},{"v":1335,"d":"1,335"}]
[{"$nulls":27},{"v":1336,"d":"1,336"}]
[{"$nulls":27},{"v":1337,"d":"1,337"}]
[{"$nulls":27},{"v":1338,"d":"1,338"}]
[{"$nulls":27},{"v":1339,"d":"1,339"}]
[{"$nulls":27},{"v":1340,"d":"1,340"}]
[{"$nulls":27},{"v":1341,"d":"1,341"}]
[{"$nulls":27},{"v":1342,"d":"1,342"}]
[{"$nulls":27},{"v":1343,"d":"1,343"}]
[{"$nulls":27},{"v":1344,"d":"1,344"}]
[{"$nulls":27},{"v":1345,"d":"1,345"}]
[{"$nulls":27},{"v":1346,"d":"1,346"}]
[{"$nulls":27},{"$f":"+AB1350+1","v":{"v":1347,"d":"1,347"}}]
[{"$nulls":27},{"v":1348,"d":"1,348"}]
[{"$nulls":27},{"v":1349,"d":"1,349"}]
[{"$nulls":27},{"v":1350,"d":"1,350"}]
[{"$nulls":27},{"v":1351,"d":"1,351"}]
[{"$nulls":27},{"v":1352,"d":"1,352"}]
[{"$nulls":27},{"v":1353,"d":"1,353"}]
[{"$nulls":27},{"v":1354,"d":"1,354"}]
[{"$nulls":27},{"v":1355,"d":"1,355"}]
[{"$nulls":27},{"v":1356,"d":"1,356"}]
[{"$nulls":27},{"v":1357,"d":"1,357"}]
[{"$nulls":27},{"v":1358,"d":"1,358"}]
[{"$nulls":27},{"v":1359,"d":"1,359"}]
[{"$nulls":27},{"v":1360,"d":"1,360"}]
[{"$nulls":27},{"v":1361,"d":"1,361"}]
[{"$nulls":27},{"v":1362,"d":"1,362"}]
[{"$nulls":27},{"v":1363,"d":"1,363"}]
[{"$nulls":27},{"v":1364,"d":"1,364"}]
[{"$nulls":27},{"v":1365,"d":"1,365"}]
[{"$nulls":27},{"v":1366,"d":"1,366"}]
[{"$nulls":27},{"v":1367,"d":"1,367"}]
[{"$nulls":27},{"v":1368,"d":"1,368"}]
[{"$nulls":27},{"v":1369,"d":"1,369"}]
[{"$nulls":27},{"v":1370,"d":"1,370"}]
[{"$nulls":27},{"v":1371,"d":"1,371"}]
[{"$nulls":27},{"v":1372,"d":"1,372"}]
[{"$nulls":27},{"v":1373,"d":"1,373"}]
[{"$nulls":27},{"v":1374,"d":"1,374"}]
[{"$nulls":27},{"v":1375,"d":"1,375"}]
[{"$nulls":27},{"v":1376,"d":"1,376"}]
[{"$nulls":27},{"v":1377,"d":"1,377"}]
[{"$nulls":27},{"v":1378,"d":"1,378"}]
[{"$nulls":27},{"v":1379,"d":"1,379"}]
[{"$nulls":27},{"v":1380,"d":"1,380"}]
[{"$nulls":27},{"v":1381,"d":"1,381"}]
[{"$nulls":27},{"v":1382,"d":"1,382"}]
[{"$nulls":27},{"v":1383,"d":"1,383"}]
[{"$nulls":27},{"v":1384,"d":"1,384"}]
[{"$nulls":27},{"v":1385,"d":"1,385"}]
[{"$nulls":27},{"v":1386,"d":"1,386"}]
[{"$nulls":27},{"v":1387,"d":"1,387"}]
[{"$nulls":27},{"v":1388,"d":"1,388"}]
[{"$nulls":27},{"v":1389,"d":"1,389"}]
[{"$nulls":27},{"v":1390,"d":"1,390"}]
[{"$nulls":27},{"v":1391,"d":"1,391"}]
[{"$nulls":27},{"v":1392,"d":"1,392"}]
[{"$nulls":27},{"v":1393,"d":"1,393"}]
[{"$nulls":27},{"v":1394,"d":"1,394"}]
[{"$nulls":27},{"v":1395,"d":"1,395"}]
[{"$nulls":27},{"v":1396,"d":"1,396"}]
[{"$nulls":27},{"v":1397,"d":"1,397"}]
[{"$nulls":27},{"v":1398,"d":"1,398"}]
[{"$nulls":27},{"v":1399,"d":"1,399"}]
[{"$nulls":27},{"v":1400,"d":"1,400"}]
[{"$nulls":27},{"v":1401,"d":"1,401"}]
[{"$nulls":27},{"v":1402,"d":"1,402"}]
[{"$nulls":27},{"v":1403,"d":"1,403"}]
[{"$nulls":27},{"v":1404,"d":"1,404"}]
[{"$nulls":27},{"v":1405,"d":"1,405"}]
[{"$nulls":27},{"v":1406,"d":"1,406"}]
[{"$nulls":27},{"v":1407,"d":"1,407"}]
[{"$nulls":27},{"v":1408,"d":"1,408"}]
[{"$nulls":27},{"v":1409,"d":"1,409"}]
[{"$nulls":27},{"v":1410,"d":"1,410"}]
[{"$nulls":27},{"$f":"+AB1414+1","v":{"v":1411,"d":"1,411"}}]
[{"$nulls":27},{"v":1412,"d":"1,412"}]
[{"$nulls":27},{"v":1413,"d":"1,413"}]
[{"$nulls":27},{"v":1414,"d":"1,414"}]
[{"$nulls":27},{"v":1415,"d":"1,415"}]
[{"$nulls":27},{"v":1416,"d":"1,416"}]
[{"$nulls":27},{"v":1417,"d":"1,417"}]
[{"$nulls":27},{"v":1418,"d":"1,418"}]
[{"$nulls":27},{"v":1419,"d":"1,419"}]
[{"$nulls":27},{"v":1420,"d":"1,420"}]
[{"$nulls":27},{"v":1421,"d":"1,421"}]
[{"$nulls":27},{"v":1422,"d":"1,422"}]
[{"$nulls":27},{"v":1423,"d":"1,423"}]
[{"$nulls":27},{"v":1424,"d":"1,424"}]
[{"$nulls":27},{"v":1425,"d":"1,425"}]
[{"$nulls":27},{"v":1426,"d":"1,426"}]
[{"$nulls":27},{"v":1427,"d":"1,427"}]
[{"$nulls":27},{"v":1428,"d":"1,428"}]
[{"$nulls":27},{"v":1429,"d":"1,429"}]
[{"$nulls":27},{"v":1430,"d":"1,430"}]
[{"$nulls":27},{"v":1431,"d":"1,431"}]
[{"$nulls":27},{"v":1432,"d":"1,432"}]
[{"$nulls":27},{"v":1433,"d":"1,433"}]
[{"$nulls":27},{"v":1434,"d":"1,434"}]
[{"$nulls":27},{"v":1435,"d":"1,435"}]
[{"$nulls":27},{"v":1436,"d":"1,436"}]
[{"$nulls":27},{"v":1437,"d":"1,437"}]
[{"$nulls":27},{"v":1438,"d":"1,438"}]
[{"$nulls":27},{"v":1439,"d":"1,439"}]
[{"$nulls":27},{"v":1440,"d":"1,440"}]
[{"$nulls":27},{"v":1441,"d":"1,441"}]
[{"$nulls":27},{"v":1442,"d":"1,442"}]
[{"$nulls":27},{"v":1443,"d":"1,443"}]
[{"$nulls":27},{"v":1444,"d":"1,444"}]
[{"$nulls":27},{"v":1445,"d":"1,445"}]
[{"$nulls":27},{"v":1446,"d":"1,446"}]
[{"$nulls":27},{"v":1447,"d":"1,447"}]
[{"$nulls":27},{"v":1448,"d":"1,448"}]
[{"$nulls":27},{"v":1449,"d":"1,449"}]
[{"$nulls":27},{"v":1450,"d":"1,450"}]
[{"$nulls":27},{"v":1451,"d":"1,451"}]
[{"$nulls":27},{"v":1452,"d":"1,452"}]
[{"$nulls":27},{"v":1453,"d":"1,453"}]
[{"$nulls":27},{"v":1454,"d":"1,454"}]
[{"$nulls":27},{"v":1455,"d":"1,455"}]
[{"$nulls":27},{"v":1456,"d":"1,456"}]
[{"$nulls":27},{"v":1457,"d":"1,457"}]
[{"$nulls":27},{"v":1458,"d":"1,458"}]
[{"$nulls":27},{"v":1459,"d":"1,459"}]
[{"$nulls":27},{"v":1460,"d":"1,460"}]
[{"$nulls":27},{"v":1461,"d":"1,461"}]
[{"$nulls":27},{"v":1462,"d":"1,462"}]
[{"$nulls":27},{"v":1463,"d":"1,463"}]
[{"$nulls":27},{"v":1464,"d":"1,464"}]
[{"$nulls":27},{"v":1465,"d":"1,465"}]
[{"$nulls":27},{"v":1466,"d":"1,466"}]
[{"$nulls":27},{"v":1467,"d":"1,467"}]
[{"$nulls":27},{"v":1468,"d":"1,468"}]
[{"$nulls":27},{"v":1469,"d":"1,469"}]
[{"$nulls":27},{"v":1470,"d":"1,470"}]
[{"$nulls":27},{"v":1471,"d":"1,471"}]
[{"$nulls":27},{"v":1472,"d":"1,472"}]
[{"$nulls":27},{"v":1473,"d":"1,473"}]
[{"$nulls":27},{"v":1474,"d":"1,474"}]
[{"$nulls":27},{"$f":"+AB1478+1","v":{"v":1475,"d":"1,475"}}]
[{"$nulls":27},{"v":1476,"d":"1,476"}]
[{"$nulls":27},{"v":1477,"d":"1,477"}]
[{"$nulls":27},{"v":1478,"d":"1,478"}]
[{"$nulls":27},{"v":1479,"d":"1,479"}]
[{"$nulls":27},{"v":1480,"d":"1,480"}]
[{"$nulls":27},{"v":1481,"d":"1,481"}]
[{"$nulls":27},{"v":1482,"d":"1,482"}]
[{"$nulls":27},{"v":1483,"d":"1,483"}]
[{"$nulls":27},{"v":1484,"d":"1,484"}]
[{"$nulls":27},{"v":1485,"d":"1,485"}]
[{"$nulls":27},{"v":1486,"d":"1,486"}]
[{"$nulls":27},{"v":1487,"d":"1,487"}]
[{"$nulls":27},{"v":1488,"d":"1,488"}]
[{"$nulls":27},{"v":1489,"d":"1,489"}]
[{"$nulls":27},{"v":1490,"d":"1,490"}]
[{"$nulls":27},{"v":1491,"d":"1,491"}]
[{"$nulls":27},{"v":1492,"d":"1,492"}]
[{"$nulls":27},{"v":1493,"d":"1,493"}]
[{"$nulls":27},{"v":1494,"d":"1,494"}]
[{"$nulls":27},{"v":1495,"d":"1,495"}]
[{"$nulls":27},{"v":1496,"d":"1,496"}]
[{"$nulls":27},{"v":1497,"d":"1,497"}]
[{"$nulls":27},{"v":1498,"d":"1,498"}]
[{"$nulls":27},{"v":1499,"d":"1,499"}]
[{"$nulls":27},{"v":1500,"d":"1,500"}]
[{"$nulls":27},{"v":1501,"d":"1,501"}]
[{"$nulls":27},{"v":1502,"d":"1,502"}]
[{"$nulls":27},{"v":1503,"d":"1,503"}]
[{"$nulls":27},{"v":1504,"d":"1,504"}]
[{"$nulls":27},{"v":1505,"d":"1,505"}]
[{"$nulls":27},{"v":1506,"d":"1,506"}]
[{"$nulls":27},{"v":1507,"d":"1,507"}]
[{"$nulls":27},{"v":1508,"d":"1,508"}]
[{"$nulls":27},{"v":1509,"d":"1,509"}]
[{"$nulls":27},{"v":1510,"d":"1,510"}]
[{"$nulls":27},{"v":1511,"d":"1,511"}]
[{"$nulls":27},{"v":1512,"d":"1,512"}]
[{"$nulls":27},{"v":1513,"d":"1,513"}]
[{"$nulls":27},{"v":1514,"d":"1,514"}]
[{"$nulls":27},{"v":1515,"d":"1,515"}]
[{"$nulls":27},{"v":1516,"d":"1,516"}]
[{"$nulls":27},{"v":1517,"d":"1,517"}]
[{"$nulls":27},{"v":1518,"d":"1,518"}]
[{"$nulls":27},{"v":1519,"d":"1,519"}]
[{"$nulls":27},{"v":1520,"d":"1,520"}]
[{"$nulls":27},{"v":1521,"d":"1,521"}]
[{"$nulls":27},{"v":1522,"d":"1,522"}]
[{"$nulls":27},{"v":1523,"d":"1,523"}]
[{"$nulls":27},{"v":1524,"d":"1,524"}]
[{"$nulls":27},{"v":1525,"d":"1,525"}]
[{"$nulls":27},{"v":1526,"d":"1,526"}]
[{"$nulls":27},{"v":1527,"d":"1,527"}]
[{"$nulls":27},{"v":1528,"d":"1,528"}]
[{"$nulls":27},{"v":1529,"d":"1,529"}]
[{"$nulls":27},{"v":1530,"d":"1,530"}]
[{"$nulls":27},{"v":1531,"d":"1,531"}]
[{"$nulls":27},{"v":1532,"d":"1,532"}]
[{"$nulls":27},{"v":1533,"d":"1,533"}]
[{"$nulls":27},{"v":1534,"d":"1,534"}]
[{"$nulls":27},{"v":1535,"d":"1,535"}]
[{"$nulls":27},{"v":1536,"d":"1,536"}]
[{"$nulls":27},{"v":1537,"d":"1,537"}]
[{"$nulls":27},{"v":1538,"d":"1,538"}]
[{"$nulls":27},{"$f":"+AB1542+1","v":{"v":1539,"d":"1,539"}}]
[{"$nulls":27},{"v":1540,"d":"1,540"}]
[{"$nulls":27},{"v":1541,"d":"1,541"}]
[{"$nulls":27},{"v":1542,"d":"1,542"}]
[{"$nulls":27},{"v":1543,"d":"1,543"}]
[{"$nulls":27},{"v":1544,"d":"1,544"}]
[{"$nulls":27},{"v":1545,"d":"1,545"}]
[{"$nulls":27},{"v":1546,"d":"1,546"}]
[{"$nulls":27},{"v":1547,"d":"1,547"}]
[{"$nulls":27},{"v":1548,"d":"1,548"}]
[{"$nulls":27},{"v":1549,"d":"1,549"}]
[{"$nulls":27},{"v":1550,"d":"1,550"}]
[{"$nulls":27},{"v":1551,"d":"1,551"}]
[{"$nulls":27},{"v":1552,"d":"1,552"}]
[{"$nulls":27},{"v":1553,"d":"1,553"}]
[{"$nulls":27},{"v":1554,"d":"1,554"}]
[{"$nulls":27},{"v":1555,"d":"1,555"}]
[{"$nulls":27},{"v":1556,"d":"1,556"}]
[{"$nulls":27},{"v":1557,"d":"1,557"}]
[{"$nulls":27},{"v":1558,"d":"1,558"}]
[{"$nulls":27},{"v":1559,"d":"1,559"}]
[{"$nulls":27},{"v":1560,"d":"1,560"}]
[{"$nulls":27},{"v":1561,"d":"1,561"}]
[{"$nulls":27},{"v":1562,"d":"1,562"}]
[{"$nulls":27},{"v":1563,"d":"1,563"}]
[{"$nulls":27},{"v":1564,"d":"1,564"}]
[{"$nulls":27},{"v":1565,"d":"1,565"}]
[{"$nulls":27},{"v":1566,"d":"1,566"}]
[{"$nulls":27},{"v":1567,"d":"1,567"}]
[{"$nulls":27},{"v":1568,"d":"1,568"}]
[{"$nulls":27},{"v":1569,"d":"1,569"}]
[{"$nulls":27},{"v":1570,"d":"1,570"}]
[{"$nulls":27},{"v":1571,"d":"1,571"}]
[{"$nulls":27},{"v":1572,"d":"1,572"}]
[{"$nulls":27},{"v":1573,"d":"1,573"}]
[{"$nulls":27},{"v":1574,"d":"1,574"}]
[{"$nulls":27},{"v":1575,"d":"1,575"}]
[{"$nulls":27},{"v":1576,"d":"1,576"}]
[{"$nulls":27},{"v":1577,"d":"1,577"}]
[{"$nulls":27},{"v":1578,"d":"1,578"}]
[{"$nulls":27},{"v":1579,"d":"1,579"}]
[{"$nulls":27},{"v":1580,"d":"1,580"}]
[{"$nulls":27},{"v":1581,"d":"1,581"}]
[{"$nulls":27},{"v":1582,"d":"1,582"}]
[{"$nulls":27},{"v":1583,"d":"1,583"}]
[{"$nulls":27},{"v":1584,"d":"1,584"}]
[{"$nulls":27},{"v":1585,"d":"1,585"}]
[{"$nulls":27},{"v":1586,"d":"1,586"}]
[{"$nulls":27},{"v":1587,"d":"1,587"}]
[{"$nulls":27},{"v":1588,"d":"1,588"}]
[{"$nulls":27},{"v":1589,"d":"1,589"}]
[{"$nulls":27},{"v":1590,"d":"1,590"}]
[{"$nulls":27},{"v":1591,"d":"1,591"}]
[{"$nulls":27},{"v":1592,"d":"1,592"}]
[{"$nulls":27},{"v":1593,"d":"1,593"}]
[{"$nulls":27},{"v":1594,"d":"1,594"}]
[{"$nulls":27},{"v":1595,"d":"1,595"}]
[{"$nulls":27},{"v":1596,"d":"1,596"}]
[{"$nulls":27},{"v":1597,"d":"1,597"}]
[{"$nulls":27},{"v":1598,"d":"1,598"}]
[{"$nulls":27},{"v":1599,"d":"1,599"}]
[{"$nulls":27},{"v":1600,"d":"1,600"}]
[{"$nulls":27},{"v":1601,"d":"1,601"}]
[{"$nulls":27},{"v":1602,"d":"1,602"}]
[{"$nulls":27},{"$f":"+AB1606+1","v":{"v":1603,"d":"1,603"}}]
[{"$nulls":27},{"v":1604,"d":"1,604"}]
[{"$nulls":27},{"v":1605,"d":"1,605"}]
[{"$nulls":27},{"v":1606,"d":"1,606"}]
[{"$nulls":27},{"v":1607,"d":"1,607"}]
[{"$nulls":27},{"v":1608,"d":"1,608"}]
[{"$nulls":27},{"v":1609,"d":"1,609"}]
[{"$nulls":27},{"v":1610,"d":"1,610"}]
[{"$nulls":27},{"v":1611,"d":"1,611"}]
[{"$nulls":27},{"v":1612,"d":"1,612"}]
[{"$nulls":27},{"v":1613,"d":"1,613"}]
[{"$nulls":27},{"v":1614,"d":"1,614"}]
[{"$nulls":27},{"v":1615,"d":"1,615"}]
[{"$nulls":27},{"v":1616,"d":"1,616"}]
[{"$nulls":27},{"v":1617,"d":"1,617"}]
[{"$nulls":27},{"v":1618,"d":"1,618"}]
[{"$nulls":27},{"v":1619,"d":"1,619"}]
[{"$nulls":27},{"v":1620,"d":"1,620"}]
[{"$nulls":27},{"v":1621,"d":"1,621"}]
[{"$nulls":27},{"v":1622,"d":"1,622"}]
[{"$nulls":27},{"v":1623,"d":"1,623"}]
[{"$nulls":27},{"v":1624,"d":"1,624"}]
[{"$nulls":27},{"v":1625,"d":"1,625"}]
[{"$nulls":27},{"v":1626,"d":"1,626"}]
[{"$nulls":27},{"v":1627,"d":"1,627"}]
[{"$nulls":27},{"v":1628,"d":"1,628"}]
[{"$nulls":27},{"v":1629,"d":"1,629"}]
[{"$nulls":27},{"v":1630,"d":"1,630"}]
[{"$nulls":27},{"v":1631,"d":"1,631"}]
[{"$nulls":27},{"v":1632,"d":"1,632"}]
[{"$nulls":27},{"v":1633,"d":"1,633"}]
[{"$nulls":27},{"v":1634,"d":"1,634"}]
[{"$nulls":27},{"v":1635,"d":"1,635"}]
[{"$nulls":27},{"v":1636,"d":"1,636"}]
[{"$nulls":27},{"v":1637,"d":"1,637"}]
[{"$nulls":27},{"v":1638,"d":"1,638"}]
[{"$nulls":27},{"v":1639,"d":"1,639"}]
[{"$nulls":27},{"v":1640,"d":"1,640"}]
[{"$nulls":27},{"v":1641,"d":"1,641"}]
[{"$nulls":27},{"v":1642,"d":"1,642"}]
[{"$nulls":27},{"v":1643,"d":"1,643"}]
[{"$nulls":27},{"v":1644,"d":"1,644"}]
[{"$nulls":27},{"v":1645,"d":"1,645"}]
[{"$nulls":27},{"v":1646,"d":"1,646"}]
[{"$nulls":27},{"v":1647,"d":"1,647"}]
[{"$nulls":27},{"v":1648,"d":"1,648"}]
[{"$nulls":27},{"v":1649,"d":"1,649"}]
[{"$nulls":27},{"v":1650,"d":"1,650"}]
[{"$nulls":27},{"v":1651,"d":"1,651"}]
[{"$nulls":27},{"v":1652,"d":"1,652"}]
[{"$nulls":27},{"v":1653,"d":"1,653"}]
[{"$nulls":27},{"v":1654,"d":"1,654"}]
[{"$nulls":27},{"v":1655,"d":"1,655"}]
[{"$nulls":27},{"v":1656,"d":"1,656"}]
[{"$nulls":27},{"v":1657,"d":"1,657"}]
[{"$nulls":27},{"v":1658,"d":"1,658"}]
[{"$nulls":27},{"v":1659,"d":"1,659"}]
[{"$nulls":27},{"v":1660,"d":"1,660"}]
[{"$nulls":27},{"v":1661,"d":"1,661"}]
[{"$nulls":27},{"v":1662,"d":"1,662"}]
[{"$nulls":27},{"v":1663,"d":"1,663"}]
[{"$nulls":27},{"v":1664,"d":"1,664"}]
[{"$nulls":27},{"v":1665,"d":"1,665"}]
[{"$nulls":27},{"v":1666,"d":"1,666"}]
[{"$nulls":27},{"$f":"+AB1670+1","v":{"v":1667,"d":"1,667"}}]
[{"$nulls":27},{"v":1668,"d":"1,668"}]
[{"$nulls":27},{"v":1669,"d":"1,669"}]
[{"$nulls":27},{"v":1670,"d":"1,670"}]
[{"$nulls":27},{"v":1671,"d":"1,671"}]
[{"$nulls":27},{"v":1672,"d":"1,672"}]
[{"$nulls":27},{"v":1673,"d":"1,673"}]
[{"$nulls":27},{"v":1674,"d":"1,674"}]
[{"$nulls":27},{"v":1675,"d":"1,675"}]
[{"$nulls":27},{"v":1676,"d":"1,676"}]
[{"$nulls":27},{"v":1677,"d":"1,677"}]
[{"$nulls":27},{"v":1678,"d":"1,678"}]
[{"$nulls":27},{"v":1679,"d":"1,679"}]
[{"$nulls":27},{"v":1680,"d":"1,680"}]
[{"$nulls":27},{"v":1681,"d":"1,681"}]
[{"$nulls":27},{"v":1682,"d":"1,682"}]
[{"$nulls":27},{"v":1683,"d":"1,683"}]
[{"$nulls":27},{"v":1684,"d":"1,684"}]
[{"$nulls":27},{"v":1685,"d":"1,685"}]
[{"$nulls":27},{"v":1686,"d":"1,686"}]
[{"$nulls":27},{"v":1687,"d":"1,687"}]
[{"$nulls":27},{"v":1688,"d":"1,688"}]
[{"$nulls":27},{"v":1689,"d":"1,689"}]
[{"$nulls":27},{"v":1690,"d":"1,690"}]
[{"$nulls":27},{"v":1691,"d":"1,691"}]
[{"$nulls":27},{"v":1692,"d":"1,692"}]
[{"$nulls":27},{"v":1693,"d":"1,693"}]
[{"$nulls":27},{"v":1694,"d":"1,694"}]
[{"$nulls":27},{"v":1695,"d":"1,695"}]
[{"$nulls":27},{"v":1696,"d":"1,696"}]
[{"$nulls":27},{"v":1697,"d":"1,697"}]
[{"$nulls":27},{"v":1698,"d":"1,698"}]
[{"$nulls":27},{"v":1699,"d":"1,699"}]
[{"$nulls":27},{"v":1700,"d":"1,700"}]
[{"$nulls":27},{"v":1701,"d":"1,701"}]
[{"$nulls":27},{"v":1702,"d":"1,702"}]
[{"$nulls":27},{"v":1703,"d":"1,703"}]
[{"$nulls":27},{"v":1704,"d":"1,704"}]
[{"$nulls":27},{"v":1705,"d":"1,705"}]
[{"$nulls":27},{"v":1706,"d":"1,706"}]
[{"$nulls":27},{"v":1707,"d":"1,707"}]
[{"$nulls":27},{"v":1708,"d":"1,708"}]
[{"$nulls":27},{"v":1709,"d":"1,709"}]
[{"$nulls":27},{"v":1710,"d":"1,710"}]
[{"$nulls":27},{"v":1711,"d":"1,711"}]
[{"$nulls":27},{"v":1712,"d":"1,712"}]
[{"$nulls":27},{"v":1713,"d":"1,713"}]
[{"$nulls":27},{"v":1714,"d":"1,714"}]
[{"$nulls":27},{"v":1715,"d":"1,715"}]
[{"$nulls":27},{"v":1716,"d":"1,716"}]
[{"$nulls":27},{"v":1717,"d":"1,717"}]
[{"$nulls":27},{"v":1718,"d":"1,718"}]
[{"$nulls":27},{"v":1719,"d":"1,719"}]
[{"$nulls":27},{"v":1720,"d":"1,720"}]
[{"$nulls":27},{"v":1721,"d":"1,721"}]
[{"$nulls":27},{"v":1722,"d":"1,722"}]
[{"$nulls":27},{"v":1723,"d":"1,723"}]
[{"$nulls":27},{"v":1724,"d":"1,724"}]
[{"$nulls":27},{"v":1725,"d":"1,725"}]
[{"$nulls":27},{"v":1726,"d":"1,726"}]
[{"$nulls":27},{"v":1727,"d":"1,727"}]
[{"$nulls":27},{"v":1728,"d":"1,728"}]
[{"$nulls":27},{"v":1729,"d":"1,729"}]
[{"$nulls":27},{"v":1730,"d":"1,730"}]
[{"$nulls":27},{"$f":"+AB1734+1","v":{"v":1731,"d":"1,731"}}]
[{"$nulls":27},{"v":1732,"d":"1,732"}]
[{"$nulls":27},{"v":1733,"d":"1,733"}]
[{"$nulls":27},{"v":1734,"d":"1,734"}]
[{"$nulls":27},{"v":1735,"d":"1,735"}]
[{"$nulls":27},{"v":1736,"d":"1,736"}]
[{"$nulls":27},{"v":1737,"d":"1,737"}]
[{"$nulls":27},{"v":1738,"d":"1,738"}]
[{"$nulls":27},{"v":1739,"d":"1,739"}]
[{"$nulls":27},{"v":1740,"d":"1,740"}]
[{"$nulls":27},{"v":1741,"d":"1,741"}]
[{"$nulls":27},{"v":1742,"d":"1,742"}]
[{"$nulls":27},{"v":1743,"d":"1,743"}]
[{"$nulls":27},{"v":1744,"d":"1,744"}]
[{"$nulls":27},{"v":1745,"d":"1,745"}]
[{"$nulls":27},{"v":1746,"d":"1,746"}]
[{"$nulls":27},{"v":1747,"d":"1,747"}]
[{"$nulls":27},{"v":1748,"d":"1,748"}]
[{"$nulls":27},{"v":1749,"d":"1,749"}]
[{"$nulls":27},{"v":1750,"d":"1,750"}]
[{"$nulls":27},{"v":1751,"d":"1,751"}]
[{"$nulls":27},{"v":1752,"d":"1,752"}]
[{"$nulls":27},{"v":1753,"d":"1,753"}]
[{"$nulls":27},{"v":1754,"d":"1,754"}]
[{"$nulls":27},{"v":1755,"d":"1,755"}]
[{"$nulls":27},{"v":1756,"d":"1,756"}]
[{"$nulls":27},{"v":1757,"d":"1,757"}]
[{"$nulls":27},{"v":1758,"d":"1,758"}]
[{"$nulls":27},{"v":1759,"d":"1,759"}]
[{"$nulls":27},{"v":1760,"d":"1,760"}]
[{"$nulls":27},{"v":1761,"d":"1,761"}]
[{"$nulls":27},{"v":1762,"d":"1,762"}]
[{"$nulls":27},{"v":1763,"d":"1,763"}]
[{"$nulls":27},{"v":1764,"d":"1,764"}]
[{"$nulls":27},{"v":1765,"d":"1,765"}]
[{"$nulls":27},{"v":1766,"d":"1,766"}]
[{"$nulls":27},{"v":1767,"d":"1,767"}]
[{"$nulls":27},{"v":1768,"d":"1,768"}]
[{"$nulls":27},{"v":1769,"d":"1,769"}]
[{"$nulls":27},{"v":1770,"d":"1,770"}]
[{"$nulls":27},{"v":1771,"d":"1,771"}]
[{"$nulls":27},{"v":1772,"d":"1,772"}]
[{"$nulls":27},{"v":1773,"d":"1,773"}]
[{"$nulls":27},{"v":1774,"d":"1,774"}]
[{"$nulls":27},{"v":1775,"d":"1,775"}]
[{"$nulls":27},{"v":1776,"d":"1,776"}]
[{"$nulls":27},{"v":1777,"d":"1,777"}]
[{"$nulls":27},{"v":1778,"d":"1,778"}]
[{"$nulls":27},{"v":1779,"d":"1,779"}]
[{"$nulls":27},{"v":1780,"d":"1,780"}]
[{"$nulls":27},{"v":1781,"d":"1,781"}]
[{"$nulls":27},{"v":1782,"d":"1,782"}]
[{"$nulls":27},{"v":1783,"d":"1,783"}]
[{"$nulls":27},{"v":1784,"d":"1,784"}]
[{"$nulls":27},{"v":1785,"d":"1,785"}]
[{"$nulls":27},{"v":1786,"d":"1,786"}]
[{"$nulls":27},{"v":1787,"d":"1,787"}]
[{"$nulls":27},{"v":1788,"d":"1,788"}]
[{"$nulls":27},{"v":1789,"d":"1,789"}]
[{"$nulls":27},{"v":1790,"d":"1,790"}]
[{"$nulls":27},{"v":1791,"d":"1,791"}]
[{"$nulls":27},{"v":1792,"d":"1,792"}]
[{"$nulls":27},{"v":1793,"d":"1,793"}]
[{"$nulls":27},{"v":1794,"d":"1,794"}]
[{"$nulls":27},{"$f":"+AB1798+1","v":{"v":1795,"d":"1,795"}}]
[{"$nulls":27},{"v":1796,"d":"1,796"}]
[{"$nulls":27},{"v":1797,"d":"1,797"}]
[{"$nulls":27},{"v":1798,"d":"1,798"}]
[{"$nulls":27},{"v":1799,"d":"1,799"}]
[{"$nulls":27},{"v":1800,"d":"1,800"}]
[{"$nulls":27},{"v":1801,"d":"1,801"}]
[{"$nulls":27},{"v":1802,"d":"1,802"}]
[{"$nulls":27},{"v":1803,"d":"1,803"}]
[{"$nulls":27},{"v":1804,"d":"1,804"}]
[{"$nulls":27},{"v":1805,"d":"1,805"}]
[{"$nulls":27},{"v":1806,"d":"1,806"}]
[{"$nulls":27},{"v":1807,"d":"1,807"}]
[{"$nulls":27},{"v":1808,"d":"1,808"}]
[{"$nulls":27},{"v":1809,"d":"1,809"}]
[{"$nulls":27},{"v":1810,"d":"1,810"}]
[{"$nulls":27},{"v":1811,"d":"1,811"}]
[{"$nulls":27},{"v":1812,"d":"1,812"}]
[{"$nulls":27},{"v":1813,"d":"1,813"}]
[{"$nulls":27},{"v":1814,"d":"1,814"}]
[{"$nulls":27},{"v":1815,"d":"1,815"}]
[{"$nulls":27},{"v":1816,"d":"1,816"}]
[{"$nulls":27},{"v":1817,"d":"1,817"}]
[{"$nulls":27},{"v":1818,"d":"1,818"}]
[{"$nulls":27},{"v":1819,"d":"1,819"}]
[{"$nulls":27},{"v":1820,"d":"1,820"}]
[{"$nulls":27},{"v":1821,"d":"1,821"}]
[{"$nulls":27},{"v":1822,"d":"1,822"}]
[{"$nulls":27},{"v":1823,"d":"1,823"}]
[{"$nulls":27},{"v":1824,"d":"1,824"}]
[{"$nulls":27},{"v":1825,"d":"1,825"}]
[{"$nulls":27},{"v":1826,"d":"1,826"}]
[{"$nulls":27},{"v":1827,"d":"1,827"}]
[{"$nulls":27},{"v":1828,"d":"1,828"}]
[{"$nulls":27},{"v":1829,"d":"1,829"}]
[{"$nulls":27},{"v":1830,"d":"1,830"}]
[{"$nulls":27},{"v":1831,"d":"1,831"}]
[{"$nulls":27},{"v":1832,"d":"1,832"}]
[{"$nulls":27},{"v":1833,"d":"1,833"}]
[{"$nulls":27},{"v":1834,"d":"1,834"}]
[{"$nulls":27},{"v":1835,"d":"1,835"}]
[{"$nulls":27},{"v":1836,"d":"1,836"}]
[{"$nulls":27},{"v":1837,"d":"1,837"}]
[{"$nulls":27},{"v":1838,"d":"1,838"}]
[{"$nulls":27},{"v":1839,"d":"1,839"}]
[{"$nulls":27},{"v":1840,"d":"1,840"}]
[{"$nulls":27},{"v":1841,"d":"1,841"}]
[{"$nulls":27},{"v":1842,"d":"1,842"}]
[{"$nulls":27},{"v":1843,"d":"1,843"}]
[{"$nulls":27},{"v":1844,"d":"1,844"}]
[{"$nulls":27},{"v":1845,"d":"1,845"}]
[{"$nulls":27},{"v":1846,"d":"1,846"}]
[{"$nulls":27},{"v":1847,"d":"1,847"}]
[{"$nulls":27},{"v":1848,"d":"1,848"}]
[{"$nulls":27},{"v":1849,"d":"1,849"}]
[{"$nulls":27},{"v":1850,"d":"1,850"}]
[{"$nulls":27},{"v":1851,"d":"1,851"}]
[{"$nulls":27},{"v":1852,"d":"1,852"}]
[{"$nulls":27},{"v":1853,"d":"1,853"}]
[{"$nulls":27},{"v":1854,"d":"1,854"}]
[{"$nulls":27},{"v":1855,"d":"1,855"}]
[{"$nulls":27},{"v":1856,"d":"1,856"}]
[{"$nulls":27},{"v":1857,"d":"1,857"}]
[{"$nulls":27},{"v":1858,"d":"1,858"}]
[{"$nulls":27},{"$f":"+AB1862+1","v":{"v":1859,"d":"1,859"}}]
[{"$nulls":27},{"v":1860,"d":"1,860"}]
[{"$nulls":27},{"v":1861,"d":"1,861"}]
[{"$nulls":27},{"v":1862,"d":"1,862"}]
[{"$nulls":27},{"v":1863,"d":"1,863"}]
[{"$nulls":27},{"v":1864,"d":"1,864"}]
[{"$nulls":27},{"v":1865,"d":"1,865"}]
[{"$nulls":27},{"v":1866,"d":"1,866"}]
[{"$nulls":27},{"v":1867,"d":"1,867"}]
[{"$nulls":27},{"v":1868,"d":"1,868"}]
[{"$nulls":27},{"v":1869,"d":"1,869"}]
[{"$nulls":27},{"v":1870,"d":"1,870"}]
[{"$nulls":27},{"v":1871,"d":"1,871"}]
[{"$nulls":27},{"v":1872,"d":"1,872"}]
[{"$nulls":27},{"v":1873,"d":"1,873"}]
[{"$nulls":27},{"v":1874,"d":"1,874"}]
[{"$nulls":27},{"v":1875,"d":"1,875"}]
[{"$nulls":27},{"v":1876,"d":"1,876"}]
[{"$nulls":27},{"v":1877,"d":"1,877"}]
[{"$nulls":27},{"v":1878,"d":"1,878"}]
[{"$nulls":27},{"v":1879,"d":"1,879"}]
[{"$nulls":27},{"v":1880,"d":"1,880"}]
[{"$nulls":27},{"v":1881,"d":"1,881"}]
[{"$nulls":27},{"v":1882,"d":"1,882"}]
[{"$nulls":27},{"v":1883,"d":"1,883"}]
[{"$nulls":27},{"v":1884,"d":"1,884"}]
[{"$nulls":27},{"v":1885,"d":"1,885"}]
[{"$nulls":27},{"v":1886,"d":"1,886"}]
[{"$nulls":27},{"v":1887,"d":"1,887"}]
[{"$nulls":27},{"v":1888,"d":"1,888"}]
[{"$nulls":27},{"v":1889,"d":"1,889"}]
[{"$nulls":27},{"v":1890,"d":"1,890"}]
[{"$nulls":27},{"v":1891,"d":"1,891"}]
[{"$nulls":27},{"v":1892,"d":"1,892"}]
[{"$nulls":27},{"v":1893,"d":"1,893"}]
[{"$nulls":27},{"v":1894,"d":"1,894"}]
[{"$nulls":27},{"v":1895,"d":"1,895"}]
[{"$nulls":27},{"v":1896,"d":"1,896"}]
[{"$nulls":27},{"v":1897,"d":"1,897"}]
[{"$nulls":27},{"v":1898,"d":"1,898"}]
[{"$nulls":27},{"v":1899,"d":"1,899"}]
[{"$nulls":27},{"v":1900,"d":"1,900"}]
[{"$nulls":27},{"v":1901,"d":"1,901"}]
[{"$nulls":27},{"v":1902,"d":"1,902"}]
[{"$nulls":27},{"v":1903,"d":"1,903"}]
[{"$nulls":27},{"v":1904,"d":"1,904"}]
[{"$nulls":27},{"v":1905,"d":"1,905"}]
[{"$nulls":27},{"v":1906,"d":"1,906"}]
[{"$nulls":27},{"v":1907,"d":"1,907"}]
[{"$nulls":27},{"v":1908,"d":"1,908"}]
[{"$nulls":27},{"v":1909,"d":"1,909"}]
[{"$nulls":27},{"v":1910,"d":"1,910"}]
[{"$nulls":27},{"v":1911,"d":"1,911"}]
[{"$nulls":27},{"v":1912,"d":"1,912"}]
[{"$nulls":27},{"v":1913,"d":"1,913"}]
[{"$nulls":27},{"v":1914,"d":"1,914"}]
[{"$nulls":27},{"v":1915,"d":"1,915"}]
[{"$nulls":27},{"v":1916,"d":"1,916"}]
[{"$nulls":27},{"v":1917,"d":"1,917"}]
[{"$nulls":27},{"v":1918,"d":"1,918"}]
[{"$nulls":27},{"v":1919,"d":"1,919"}]
[{"$nulls":27},{"v":1920,"d":"1,920"}]
[{"$nulls":27},{"v":1921,"d":"1,921"}]
[{"$nulls":27},{"v":1922,"d":"1,922"}]
[{"$nulls":27},{"$f":"+AB1926+1","v":{"v":1923,"d":"1,923"}}]
[{"$nulls":27},{"v":1924,"d":"1,924"}]
[{"$nulls":27},{"v":1925,"d":"1,925"}]
[{"$nulls":27},{"v":1926,"d":"1,926"}]
[{"$nulls":27},{"v":1927,"d":"1,927"}]
[{"$nulls":27},{"v":1928,"d":"1,928"}]
[{"$nulls":27},{"v":1929,"d":"1,929"}]
[{"$nulls":27},{"v":1930,"d":"1,930"}]
[{"$nulls":27},{"v":1931,"d":"1,931"}]
[{"$nulls":27},{"v":1932,"d":"1,932"}]
[{"$nulls":27},{"v":1933,"d":"1,933"}]
[{"$nulls":27},{"v":1934,"d":"1,934"}]
[{"$nulls":27},{"v":1935,"d":"1,935"}]
[{"$nulls":27},{"v":1936,"d":"1,936"}]
[{"$nulls":27},{"v":1937,"d":"1,937"}]
[{"$nulls":27},{"v":1938,"d":"1,938"}]
[{"$nulls":27},{"v":1939,"d":"1,939"}]
[{"$nulls":27},{"v":1940,"d":"1,940"}]
[{"$nulls":27},{"v":1941,"d":"1,941"}]
[{"$nulls":27},{"v":1942,"d":"1,942"}]
[{"$nulls":27},{"v":1943,"d":"1,943"}]
[{"$nulls":27},{"v":1944,"d":"1,944"}]
[{"$nulls":27},{"v":1945,"d":"1,945"}]
[{"$nulls":27},{"v":1946,"d":"1,946"}]
[{"$nulls":27},{"v":1947,"d":"1,947"}]
[{"$nulls":27},{"v":1948,"d":"1,948"}]
[{"$nulls":27},{"v":1949,"d":"1,949"}]
[{"$nulls":27},{"v":1950,"d":"1,950"}]
[{"$nulls":27},{"v":1951,"d":"1,951"}]
[{"$nulls":27},{"v":1952,"d":"1,952"}]
[{"$nulls":27},{"v":1953,"d":"1,953"}]
[{"$nulls":27},{"v":1954,"d":"1,954"}]
[{"$nulls":27},{"v":1955,"d":"1,955"}]
[{"$nulls":27},{"v":1956,"d":"1,956"}]
[{"$nulls":27},{"v":1957,"d":"1,957"}]
[{"$nulls":27},{"v":1958,"d":"1,958"}]
[{"$nulls":27},{"v":1959,"d":"1,959"}]
[{"$nulls":27},{"v":1960,"d":"1,960"}]
[{"$nulls":27},{"v":1961,"d":"1,961"}]
[{"$nulls":27},{"v":1962,"d":"1,962"}]
[{"$nulls":27},{"v":1963,"d":"1,963"}]
[{"$nulls":27},{"v":1964,"d":"1,964"}]
[{"$nulls":27},{"v":1965,"d":"1,965"}]
[{"$nulls":27},{"v":1966,"d":"1,966"}]
[{"$nulls":27},{"v":1967,"d":"1,967"}]
[{"$nulls":27},{"v":1968,"d":"1,968"}]
[{"$nulls":27},{"v":1969,"d":"1,969"}]
[{"$nulls":27},{"v":1970,"d":"1,970"}]
[{"$nulls":27},{"v":1971,"d":"1,971"}]
[{"$nulls":27},{"v":1972,"d":"1,972"}]
[{"$nulls":27},{"v":1973,"d":"1,973"}]
[{"$nulls":27},{"v":1974,"d":"1,974"}]
[{"$nulls":27},{"v":1975,"d":"1,975"}]
[{"$nulls":27},{"v":1976,"d":"1,976"}]
[{"$nulls":27},{"v":1977,"d":"1,977"}]
[{"$nulls":27},{"v":1978,"d":"1,978"}]
[{"$nulls":27},{"v":1979,"d":"1,979"}]
[{"$nulls":27},{"v":1980,"d":"1,980"}]
[{"$nulls":27},{"v":1981,"d":"1,981"}]
[{"$nulls":27},{"v":1982,"d":"1,982"}]
[{"$nulls":27},{"v":1983,"d":"1,983"}]
[{"$nulls":27},{"v":1984,"d":"1,984"}]
[{"$nulls":27},{"v":1985,"d":"1,985"}]
[{"$nulls":27},{"v":1986,"d":"1,986"}]
[{"$nulls":27},{"$f":"+AB1990+1","v":{"v":1987,"d":"1,987"}}]
[{"$nulls":27},{"v":1988,"d":"1,988"}]
[{"$nulls":27},{"v":1989,"d":"1,989"}]
[{"$nulls":27},{"v":1990,"d":"1,990"}]
[{"$nulls":27},{"v":1991,"d":"1,991"}]
[{"$nulls":27},{"v":1992,"d":"1,992"}]
[{"$nulls":27},{"v":1993,"d":"1,993"}]
[{"$nulls":27},{"v":1994,"d":"1,994"}]
[{"$nulls":27},{"v":1995,"d":"1,995"}]
[{"$nulls":27},{"v":1996,"d":"1,996"}]
[{"$nulls":27},{"v":1997,"d":"1,997"}]
[{"$nulls":27},{"v":1998,"d":"1,998"}]
[{"$nulls":27},{"v":1999,"d":"1,999"}]
[{"$nulls":27},{"v":2000,"d":"2,000"}]

{"sheet":"LIQUIDACION","index":4,"n_rows":55,"n_cols":27,"rows_kept":55,"merged":[[1,1,1,5],[6,2,6,8],[8,2,8,15],[10,2,10,10],[10,12,10,15],[12,2,12,15],[14,2,14,10],[14,11,14,13],[14,14,14,15],[15,2,15,10],[16,2,16,10],[17,2,17,10],[19,0,20,0],[19,1,20,1],[19,2,19,11],[19,15,20,15],[41,2,41,4],[41,5,41,9],[42,5,42,8],[44,2,46,11],[50,2,50,9],[52,2,52,11],[54,0,66,16]]}
[]
[null,"F-GF-020 FORMATO LIQUIDACIÓN COMPRA"]
[null,"TIQUETES PREPAGO"]
[null,"VERSIÓN 005"]
[null,"FECHA : 01/04/2025"]
[]
[null,"Fecha:",{"$f":"+IF(FORMULARIO!C7=\"\",\"\",FORMULARIO!C7)","v":""}]
[]
[null,"Nombre del Cliente",{"$f":"+IF(FORMULARIO!C9=\"\",\"\",FORMULARIO!C9)","v":""}]
[]
[null,"Documento de identidad",{"$f":"+IF(FORMULARIO!P9=\"\",\"\",FORMULARIO!P9)","v":""},{"$nulls":8},"No.",{"$f":"+IF(FORMULARIO!X9=\"\",\"\",FORMULARIO!X9)","v":""}]
[]
[null,"Direccion de envio Tiquetes",{"$f":"+IF(FORMULARIO!D11=\"\",\"\",FORMULARIO!D11)","v":" "}]
[]
[null,"Ciudad",{"$f":"+IF(FORMULARIO!P11=\"\",\"\",FORMULARIO!P11)","v":""},{"$nulls":8},"Departamento",null,null,{"$f":"+IF(FORMULARIO!X11=\"\",\"\",FORMULARIO!X11)","v":""}]
[null,"Contacto",{"$f":"+IF(FORMULARIO!D12=\"\",\"\",FORMULARIO!D12)","v":" "}]
[null,"N° Celular contacto",{"$f":"+IF(FORMULARIO!D13=\"\",\"\",FORMULARIO!D13)","v":""}]
[null,"E_MAIL",{"$f":"+IF(FORMULARIO!P13=\"\",\"\",FORMULARIO!P13)","v":" "}]
[]
["No.","PEAJE","CATEGORÍAS VEHICULARES",{"$nulls":11},"CANTIDAD","VALOR"]
[null,null,"I","IE2","II","III","IIIP","IIIG","IV","V","VI","VII",null,null,"TIQUETES"]
[{"$f":"+FORMULARIO!A16","v":""},{"$f":"+IF(FORMULARIO!B16=\"\",\"\",FORMULARIO!B16)","v":""},{"$f":"+IF(B22=\"\",\"\",IF(FORMULARIO!D16=\"\",\"\",IF(B22=$X$33,\"\",FORMULARIO!D16)))","v":""},{"$f":"+IF(B22=\"\",\"\",IF(FORMULARIO!F16=\"\",\"\",FORMULARIO!F16))","v":""},{"$f":"+IF(B22=\"\",\"\",IF(FORMULARIO!H16=\"\",\"\",FORMULARIO!H16))","v":""},{"$f":"+IF(B22=\"\",\"\",IF(FORMULARIO!J16=\"\",\"\",FORMULARIO!J16))","v":""},{"$f":"+IF(B22=\"\",\"\",IF(FORMULARIO!L16=\"\",\"\",FORMULARIO!L16))","v":""},{"$f":"+IF(B22=\"\",\"\",IF(FORMULARIO!N16=\"\",\"\",FORMULARIO!N16))","v":""},{"$f":"+IF(B22=\"\",\"\",IF(FORMULARIO!P16=\"\",\"\",FORMULARIO!P16))","v":""},{"$f":"+IF(B22=\"\",\"\",IF(FORMULARIO!R16=\"\",\"\",FORMULARIO!R16))","v":""},{"$f":"+IF(B22=\"\",\"\",IF(FORMULARIO!T16=\"\",\"\",IF(B22=$X$22,\"\",IF(B22=$X$23,\"\",IF(B22=$X$24,\"\",IF(B22=$X$25,\"\",IF(B22=$X$26,\"\",IF(B22=$X$27,\"\",IF(B22=$X$28,\"\",IF(B22=$X$29,\"\",IF(B22=$X$30,\"\",IF(B22=$X$31,\"\",IF(B22=$X$32,\"\",IF(B22=$X$33,\"\",IF(B22=$X$34,\"\",FORMULARIO!T16)))))))))))))))","v":""},{"$f":"+IF(B22=\"\",\"\",IF(FORMULARIO!V16=\"\",\"\",IF(B22=$X$22,\"\",IF(B22=$X$23,\"\",IF(B22=$X$24,\"\",IF(B22=$X$25,\"\",IF(B22=$X$26,\"\",IF(B22=$X$27,\"\",IF(B22=$X$28,\"\",IF(B22=$X$29,\"\",IF(B22=$X$30,\"\",IF(B22=$X$31,\"\",IF(B22=$X$32,\"\",IF(B22=$X$33,\"\",IF(B22=$X$34,\"\",FORMULARIO!V16)))))))))))))))","v":""},null,null,{"$f":"SUM(C22:L22)","v":0},{"$f":"FORMULARIO!Y16","v":0},{"$nulls":7},"CASABLANCA"]
[{"$f":"+FORMULARIO!A17","v":""},{"$f":"+IF(FORMULARIO!B17=\"\",\"\",FORMULARIO!B17)","v":""},{"$f":"+IF(B23=\"\",\"\",IF(FORMULARIO!D17=\"\",\"\",IF(B23=$X$33,\"\",FORMULARIO!D17)))","v":""},{"$f":"+IF(B23=\"\",\"\",IF(FORMULARIO!F17=\"\",\"\",FORMULARIO!F17))","v":""},{"$f":"+IF(B23=\"\",\"\",IF(FORMULARIO!H17=\"\",\"\",FORMULARIO!H17))","v":""},{"$f":"+IF(B23=\"\",\"\",IF(FORMULARIO!J17=\"\",\"\",FORMULARIO!J17))","v":""},{"$f":"+IF(B23=\"\",\"\",IF(FORMULARIO!L17=\"\",\"\",FORMULARIO!L17))","v":""},{"$f":"+IF(B23=\"\",\"\",IF(FORMULARIO!N17=\"\",\"\",FORMULARIO!N17))","v":""},{"$f":"+IF(B23=\"\",\"\",IF(FORMULARIO!P17=\"\",\"\",FORMULARIO!P17))","v":""},{"$f":"+IF(B23=\"\",\"\",IF(FORMULARIO!R17=\"\",\"\",FORMULARIO!R17))","v":""},{"$f":"+IF(B23=\"\",\"\",IF(FORMULARIO!T17=\"\",\"\",IF(B23=$X$22,\"\",IF(B23=$X$23,\"\",IF(B23=$X$24,\"\",IF(B23=$X$25,\"\",IF(B23=$X$26,\"\",IF(B23=$X$27,\"\",IF(B23=$X$28,\"\",IF(B23=$X$29,\"\",IF(B23=$X$30,\"\",IF(B23=$X$31,\"\",IF(B23=$X$32,\"\",IF(B23=$X$33,\"\",IF(B23=$X$34,\"\",FORMULARIO!T17)))))))))))))))","v":""},{"$f":"+IF(B23=\"\",\"\",IF(FORMULARIO!V17=\"\",\"\",IF(B23=$X$22,\"\",IF(B23=$X$23,\"\",IF(B23=$X$24,\"\",IF(B23=$X$25,\"\",IF(B23=$X$26,\"\",IF(B23=$X$27,\"\",IF(B23=$X$28,\"\",IF(B23=$X$29,\"\",IF(B23=$X$30,\"\",IF(B23=$X$31,\"\",IF(B23=$X$32,\"\",IF(B23=$X$33,\"\",IF(B23=$X$34,\"\",FORMULARIO!V17)))))))))))))))","v":""},null,null,{"$f":"SUM(C23:L23)","v":0},{"$f":"FORMULARIO!Y17","v":0},{"$nulls":7},"SABOYÁ"]
[{"$f":"+FORMULARIO!A18","v":""},{"$f":"+IF(FORMULARIO!B18=\"\",\"\",FORMULARIO!B18)","v":""},{"$f":"+IF(B24=\"\",\"\",IF(FORMULARIO!D18=\"\",\"\",IF(B24=$X$33,\"\",FORMULARIO!D18)))","v":""},{"$f":"+IF(B24=\"\",\"\",IF(FORMULARIO!F18=\"\",\"\",FORMULARIO!F18))","v":""},{"$f":"+IF(B24=\"\",\"\",IF(FORMULARIO!H18=\"\",\"\",FORMULARIO!H18))","v":""},{"$f":"+IF(B24=\"\",\"\",IF(FORMULARIO!J18=\"\",\"\",FORMULARIO!J18))","v":""},{"$f":"+IF(B24=\"\",\"\",IF(FORMULARIO!L18=\"\",\"\",FORMULARIO!L18))","v":""},{"$f":"+IF(B24=\"\",\"\",IF(FORMULARIO!N18=\"\",\"\",FORMULARIO!N18))","v":""},{"$f":"+IF(B24=\"\",\"\",IF(FORMULARIO!P18=\"\",\"\",FORMULARIO!P18))","v":""},{"$f":"+IF(B24=\"\",\"\",IF(FORMULARIO!R18=\"\",\"\",FORMULARIO!R18))","v":""},{"$f":"+IF(B24=\"\",\"\",IF(FORMULARIO!T18=\"\",\"\",IF(B24=$X$22,\"\",IF(B24=$X$23,\"\",IF(B24=$X$24,\"\",IF(B24=$X$25,\"\",IF(B24=$X$26,\"\",IF(B24=$X$27,\"\",IF(B24=$X$28,\"\",IF(B24=$X$29,\"\",IF(B24=$X$30,\"\",IF(B24=$X$31,\"\",IF(B24=$X$32,\"\",IF(B24=$X$33,\"\",IF(B24=$X$34,\"\",FORMULARIO!T18)))))))))))))))","v":""},{"$f":"+IF(B24=\"\",\"\",IF(FORMULARIO!V18=\"\",\"\",IF(B24=$X$22,\"\",IF(B24=$X$23,\"\",IF(B24=$X$24,\"\",IF(B24=$X$25,\"\",IF(B24=$X$26,\"\",IF(B24=$X$27,\"\",IF(B24=$X$28,\"\",IF(B24=$X$29,\"\",IF(B24=$X$30,\"\",IF(B24=$X$31,\"\",IF(B24=$X$32,\"\",IF(B24=$X$33,\"\",IF(B24=$X$34,\"\",FORMULARIO!V18)))))))))))))))","v":""},null,null,0,{"$f":"FORMULARIO!Y18","v":0},{"$nulls":7},"OIBA"]
[{"$f":"+FORMULARIO!A19","v":""},{"$f":"+IF(FORMULARIO!B19=\"\",\"\",FORMULARIO!B19)","v":""},{"$f":"+IF(B25=\"\",\"\",IF(FORMULARIO!D19=\"\",\"\",IF(B25=$X$33,\"\",FORMULARIO!D19)))","v":""},{"$f":"+IF(B25=\"\",\"\",IF(FORMULARIO!F19=\"\",\"\",FORMULARIO!F19))","v":""},{"$f":"+IF(B25=\"\",\"\",IF(FORMULARIO!H19=\"\",\"\",FORMULARIO!H19))","v":""},{"$f":"+IF(B25=\"\",\"\",IF(FORMULARIO!J19=\"\",\"\",FORMULARIO!J19))","v":""},{"$f":"+IF(B25=\"\",\"\",IF(FORMULARIO!L19=\"\",\"\",FORMULARIO!L19))","v":""},{"$f":"+IF(B25=\"\",\"\",IF(FORMULARIO!N19=\"\",\"\",FORMULARIO!N19))","v":""},{"$f":"+IF(B25=\"\",\"\",IF(FORMULARIO!P19=\"\",\"\",FORMULARIO!P19))","v":""},{"$f":"+IF(B25=\"\",\"\",IF(FORMULARIO!R19=\"\",\"\",FORMULARIO!R19))","v":""},{"$f":"+IF(B25=\"\",\"\",IF(FORMULARIO!T19=\"\",\"\",IF(B25=$X$22,\"\",IF(B25=$X$23,\"\",IF(B25=$X$24,\"\",IF(B25=$X$25,\"\",IF(B25=$X$26,\"\",IF(B25=$X$27,\"\",IF(B25=$X$28,\"\",IF(B25=$X$29,\"\",IF(B25=$X$30,\"\",IF(B25=$X$31,\"\",IF(B25=$X$32,\"\",IF(B25=$X$33,\"\",IF(B25=$X$34,\"\",FORMULARIO!T19)))))))))))))))","v":""},{"$f":"+IF(B25=\"\",\"\",IF(FORMULARIO!V19=\"\",\"\",IF(B25=$X$22,\"\",IF(B25=$X$23,\"\",IF(B25=$X$24,\"\",IF(B25=$X$25,\"\",IF(B25=$X$26,\"\",IF(B25=$X$27,\"\",IF(B25=$X$28,\"\",IF(B25=$X$29,\"\",IF(B25=$X$30,\"\",IF(B25=$X$31,\"\",IF(B25=$X$32,\"\",IF(B25=$X$33,\"\",IF(B25=$X$34,\"\",FORMULARIO!V19)))))))))))))))","v":""},null,null,0,{"$f":"FORMULARIO!Y19","v":0},{"$nulls":7},"CURITI"]
[{"$f":"+FORMULARIO!A20","v":""},{"$f":"+IF(FORMULARIO!B20=\"\",\"\",FORMULARIO!B20)","v":""},{"$f":"+IF(B26=\"\",\"\",IF(FORMULARIO!D20=\"\",\"\",IF(B26=$X$33,\"\",FORMULARIO!D20)))","v":""},{"$f":"+IF(B26=\"\",\"\",IF(FORMULARIO!F20=\"\",\"\",FORMULARIO!F20))","v":""},{"$f":"+IF(B26=\"\",\"\",IF(FORMULARIO!H20=\"\",\"\",FORMULARIO!H20))","v":""},{"$f":"+IF(B26=\"\",\"\",IF(FORMULARIO!J20=\"\",\"\",FORMULARIO!J20))","v":""},{"$f":"+IF(B26=\"\",\"\",IF(FORMULARIO!L20=\"\",\"\",FORMULARIO!L20))","v":""},{"$f":"+IF(B26=\"\",\"\",IF(FORMULARIO!N20=\"\",\"\",FORMULARIO!N20))","v":""},{"$f":"+IF(B26=\"\",\"\",IF(FORMULARIO!P20=\"\",\"\",FORMULARIO!P20))","v":""},{"$f":"+IF(B26=\"\",\"\",IF(FORMULARIO!R20=\"\",\"\",FORMULARIO!R20))","v":""},{"$f":"+IF(B26=\"\",\"\",IF(FORMULARIO!T20=\"\",\"\",IF(B26=$X$22,\"\",IF(B26=$X$23,\"\",IF(B26=$X$24,\"\",IF(B26=$X$25,\"\",IF(B26=$X$26,\"\",IF(B26=$X$27,\"\",IF(B26=$X$28,\"\",IF(B26=$X$29,\"\",IF(B26=$X$30,\"\",IF(B26=$X$31,\"\",IF(B26=$X$32,\"\",IF(B26=$X$33,\"\",IF(B26=$X$34,\"\",FORMULARIO!T20)))))))))))))))","v":""},{"$f":"+IF(B26=\"\",\"\",IF(FORMULARIO!V20=\"\",\"\",IF(B26=$X$22,\"\",IF(B26=$X$23,\"\",IF(B26=$X$24,\"\",IF(B26=$X$25,\"\",IF(B26=$X$26,\"\",IF(B26=$X$27,\"\",IF(B26=$X$28,\"\",IF(B26=$X$29,\"\",IF(B26=$X$30,\"\",IF(B26=$X$31,\"\",IF(B26=$X$32,\"\",IF(B26=$X$33,\"\",IF(B26=$X$34,\"\",FORMULARIO!V20)))))))))))))))","v":""},null,null,0,{"$f":"FORMULARIO!Y20","v":0},{"$nulls":7},"LOS CUROS"]
[{"$f":"+FORMULARIO!A21","v":""},{"$f":"+IF(FORMULARIO!B21=\"\",\"\",FORMULARIO!B21)","v":""},{"$f":"+IF(B27=\"\",\"\",IF(FORMULARIO!D21=\"\",\"\",IF(B27=$X$33,\"\",FORMULARIO!D21)))","v":""},{"$f":"+IF(B27=\"\",\"\",IF(FORMULARIO!F21=\"\",\"\",FORMULARIO!F21))","v":""},{"$f":"+IF(B27=\"\",\"\",IF(FORMULARIO!H21=\"\",\"\",FORMULARIO!H21))","v":""},{"$f":"+IF(B27=\"\",\"\",IF(FORMULARIO!J21=\"\",\"\",FORMULARIO!J21))","v":""},{"$f":"+IF(B27=\"\",\"\",IF(FORMULARIO!L21=\"\",\"\",FORMULARIO!L21))","v":""},{"$f":"+IF(B27=\"\",\"\",IF(FORMULARIO!N21=\"\",\"\",FORMULARIO!N21))","v":""},{"$f":"+IF(B27=\"\",\"\",IF(FORMULARIO!P21=\"\",\"\",FORMULARIO!P21))","v":""},{"$f":"+IF(B27=\"\",\"\",IF(FORMULARIO!R21=\"\",\"\",FORMULARIO!R21))","v":""},{"$f":"+IF(B27=\"\",\"\",IF(FORMULARIO!T21=\"\",\"\",IF(B27=$X$22,\"\",IF(B27=$X$23,\"\",IF(B27=$X$24,\"\",IF(B27=$X$25,\"\",IF(B27=$X$26,\"\",IF(B27=$X$27,\"\",IF(B27=$X$28,\"\",IF(B27=$X$29,\"\",IF(B27=$X$30,\"\",IF(B27=$X$31,\"\",IF(B27=$X$32,\"\",IF(B27=$X$33,\"\",IF(B27=$X$34,\"\",FORMULARIO!T21)))))))))))))))","v":""},{"$f":"+IF(B27=\"\",\"\",IF(FORMULARIO!V21=\"\",\"\",IF(B27=$X$22,\"\",IF(B27=$X$23,\"\",IF(B27=$X$24,\"\",IF(B27=$X$25,\"\",IF(B27=$X$26,\"\",IF(B27=$X$27,\"\",IF(B27=$X$28,\"\",IF(B27=$X$29,\"\",IF(B27=$X$30,\"\",IF(B27=$X$31,\"\",IF(B27=$X$32,\"\",IF(B27=$X$33,\"\",IF(B27=$X$34,\"\",FORMULARIO!V21)))))))))))))))","v":""},null,null,0,{"$f":"FORMULARIO!Y21","v":0},{"$nulls":7},"AGUAS NEGRAS "]
[{"$f":"+FORMULARIO!A22","v":""},{"$f":"+IF(FORMULARIO!B22=\"\",\"\",FORMULARIO!B22)","v":""},{"$f":"+IF(B28=\"\",\"\",IF(FORMULARIO!D22=\"\",\"\",IF(B28=$X$33,\"\",FORMULARIO!D22)))","v":""},{"$f":"+IF(B28=\"\",\"\",IF(FORMULARIO!F22=\"\",\"\",FORMULARIO!F22))","v":""},{"$f":"+IF(B28=\"\",\"\",IF(FORMULARIO!H22=\"\",\"\",FORMULARIO!H22))","v":""},{"$f":"+IF(B28=\"\",\"\",IF(FORMULARIO!J22=\"\",\"\",FORMULARIO!J22))","v":""},{"$f":"+IF(B28=\"\",\"\",IF(FORMULARIO!L22=\"\",\"\",FORMULARIO!L22))","v":""},{"$f":"+IF(B28=\"\",\"\",IF(FORMULARIO!N22=\"\",\"\",FORMULARIO!N22))","v":""},{"$f":"+IF(B28=\"\",\"\",IF(FORMULARIO!P22=\"\",\"\",FORMULARIO!P22))","v":""},{"$f":"+IF(B28=\"\",\"\",IF(FORMULARIO!R22=\"\",\"\",FORMULARIO!R22))","v":""},{"$f":"+IF(B28=\"\",\"\",IF(FORMULARIO!T22=\"\",\"\",IF(B28=$X$22,\"\",IF(B28=$X$23,\"\",IF(B28=$X$24,\"\",IF(B28=$X$25,\"\",IF(B28=$X$26,\"\",IF(B28=$X$27,\"\",IF(B28=$X$28,\"\",IF(B28=$X$29,\"\",IF(B28=$X$30,\"\",IF(B28=$X$31,\"\",IF(B28=$X$32,\"\",IF(B28=$X$33,\"\",IF(B28=$X$34,\"\",FORMULARIO!T22)))))))))))))))","v":""},{"$f":"+IF(B28=\"\",\"\",IF(FORMULARIO!V22=\"\",\"\",IF(B28=$X$22,\"\",IF(B28=$X$23,\"\",IF(B28=$X$24,\"\",IF(B28=$X$25,\"\",IF(B28=$X$26,\"\",IF(B28=$X$27,\"\",IF(B28=$X$28,\"\",IF(B28=$X$29,\"\",IF(B28=$X$30,\"\",IF(B28=$X$31,\"\",IF(B28=$X$32,\"\",IF(B28=$X$33,\"\",IF(B28=$X$34,\"\",FORMULARIO!V22)))))))))))))))","v":""},null,null,0,{"$f":"FORMULARIO!Y22","v":0},{"$nulls":7},"LA GOMEZ"]
[{"$f":"+FORMULARIO!A23","v":""},{"$f":"+IF(FORMULARIO!B23=\"\",\"\",FORMULARIO!B23)","v":""},{"$f":"+IF(B29=\"\",\"\",IF(FORMULARIO!D23=\"\",\"\",IF(B29=$X$33,\"\",FORMULARIO!D23)))","v":""},{"$f":"+IF(B29=\"\",\"\",IF(FORMULARIO!F23=\"\",\"\",FORMULARIO!F23))","v":""},{"$f":"+IF(B29=\"\",\"\",IF(FORMULARIO!H23=\"\",\"\",FORMULARIO!H23))","v":""},{"$f":"+IF(B29=\"\",\"\",IF(FORMULARIO!J23=\"\",\"\",FORMULARIO!J23))","v":""},{"$f":"+IF(B29=\"\",\"\",IF(FORMULARIO!L23=\"\",\"\",FORMULARIO!L23))","v":""},{"$f":"+IF(B29=\"\",\"\",IF(FORMULARIO!N23=\"\",\"\",FORMULARIO!N23))","v":""},{"$f":"+IF(B29=\"\",\"\",IF(FORMULARIO!P23=\"\",\"\",FORMULARIO!P23))","v":""},{"$f":"+IF(B29=\"\",\"\",IF(FORMULARIO!R23=\"\",\"\",FORMULARIO!R23))","v":""},{"$f":"+IF(B29=\"\",\"\",IF(FORMULARIO!T23=\"\",\"\",IF(B29=$X$22,\"\",IF(B29=$X$23,\"\",IF(B29=$X$24,\"\",IF(B29=$X$25,\"\",IF(B29=$X$26,\"\",IF(B29=$X$27,\"\",IF(B29=$X$28,\"\",IF(B29=$X$29,\"\",IF(B29=$X$30,\"\",IF(B29=$X$31,\"\",IF(B29=$X$32,\"\",IF(B29=$X$33,\"\",IF(B29=$X$34,\"\",FORMULARIO!T23)))))))))))))))","v":""},{"$f":"+IF(B29=\"\",\"\",IF(FORMULARIO!V23=\"\",\"\",IF(B29=$X$22,\"\",IF(B29=$X$23,\"\",IF(B29=$X$24,\"\",IF(B29=$X$25,\"\",IF(B29=$X$26,\"\",IF(B29=$X$27,\"\",IF(B29=$X$28,\"\",IF(B29=$X$29,\"\",IF(B29=$X$30,\"\",IF(B29=$X$31,\"\",IF(B29=$X$32,\"\",IF(B29=$X$33,\"\",IF(B29=$X$34,\"\",FORMULARIO!V23)))))))))))))))","v":""},null,null,0,{"$f":"FORMULARIO!Y23","v":0},{"$nulls":7},"MORRISON "]
[{"$f":"+FORMULARIO!A24","v":""},{"$f":"+IF(FORMULARIO!B24=\"\",\"\",FORMULARIO!B24)","v":""},{"$f":"+IF(B30=\"\",\"\",IF(FORMULARIO!D24=\"\",\"\",IF(B30=$X$33,\"\",FORMULARIO!D24)))","v":""},{"$f":"+IF(B30=\"\",\"\",IF(FORMULARIO!F24=\"\",\"\",FORMULARIO!F24))","v":""},{"$f":"+IF(B30=\"\",\"\",IF(FORMULARIO!H24=\"\",\"\",FORMULARIO!H24))","v":""},{"$f":"+IF(B30=\"\",\"\",IF(FORMULARIO!J24=\"\",\"\",FORMULARIO!J24))","v":""},{"$f":"+IF(B30=\"\",\"\",IF(FORMULARIO!L24=\"\",\"\",FORMULARIO!L24))","v":""},{"$f":"+IF(B30=\"\",\"\",IF(FORMULARIO!N24=\"\",\"\",FORMULARIO!N24))","v":""},{"$f":"+IF(B30=\"\",\"\",IF(FORMULARIO!P24=\"\",\"\",FORMULARIO!P24))","v":""},{"$f":"+IF(B30=\"\",\"\",IF(FORMULARIO!R24=\"\",\"\",FORMULARIO!R24))","v":""},{"$f":"+IF(B30=\"\",\"\",IF(FORMULARIO!T24=\"\",\"\",IF(B30=$X$22,\"\",IF(B30=$X$23,\"\",IF(B30=$X$24,\"\",IF(B30=$X$25,\"\",IF(B30=$X$26,\"\",IF(B30=$X$27,\"\",IF(B30=$X$28,\"\",IF(B30=$X$29,\"\",IF(B30=$X$30,\"\",IF(B30=$X$31,\"\",IF(B30=$X$32,\"\",IF(B30=$X$33,\"\",IF(B30=$X$34,\"\",FORMULARIO!T24)))))))))))))))","v":""},{"$f":"+IF(B30=\"\",\"\",IF(FORMULARIO!V24=\"\",\"\",IF(B30=$X$22,\"\",IF(B30=$X$23,\"\",IF(B30=$X$24,\"\",IF(B30=$X$25,\"\",IF(B30=$X$26,\"\",IF(B30=$X$27,\"\",IF(B30=$X$28,\"\",IF(B30=$X$29,\"\",IF(B30=$X$30,\"\",IF(B30=$X$31,\"\",IF(B30=$X$32,\"\",IF(B30=$X$33,\"\",IF(B30=$X$34,\"\",FORMULARIO!V24)))))))))))))))","v":""},null,null,0,{"$f":"FORMULARIO!Y24","v":0},{"$nulls":7},"PAILITAS "]
[{"$f":"+FORMULARIO!A25","v":""},{"$f":"+IF(FORMULARIO!B25=\"\",\"\",FORMULARIO!B25)","v":""},{"$f":"+IF(B31=\"\",\"\",IF(FORMULARIO!D25=\"\",\"\",IF(B31=$X$33,\"\",FORMULARIO!D25)))","v":""},{"$f":"+IF(B31=\"\",\"\",IF(FORMULARIO!F25=\"\",\"\",FORMULARIO!F25))","v":""},{"$f":"+IF(B31=\"\",\"\",IF(FORMULARIO!H25=\"\",\"\",FORMULARIO!H25))","v":""},{"$f":"+IF(B31=\"\",\"\",IF(FORMULARIO!J25=\"\",\"\",FORMULARIO!J25))","v":""},{"$f":"+IF(B31=\"\",\"\",IF(FORMULARIO!L25=\"\",\"\",FORMULARIO!L25))","v":""},{"$f":"+IF(B31=\"\",\"\",IF(FORMULARIO!N25=\"\",\"\",FORMULARIO!N25))","v":""},{"$f":"+IF(B31=\"\",\"\",IF(FORMULARIO!P25=\"\",\"\",FORMULARIO!P25))","v":""},{"$f":"+IF(B31=\"\",\"\",IF(FORMULARIO!R25=\"\",\"\",FORMULARIO!R25))","v":""},{"$f":"+IF(B31=\"\",\"\",IF(FORMULARIO!T25=\"\",\"\",IF(B31=$X$22,\"\",IF(B31=$X$23,\"\",IF(B31=$X$24,\"\",IF(B31=$X$25,\"\",IF(B31=$X$26,\"\",IF(B31=$X$27,\"\",IF(B31=$X$28,\"\",IF(B31=$X$29,\"\",IF(B31=$X$30,\"\",IF(B31=$X$31,\"\",IF(B31=$X$32,\"\",IF(B31=$X$33,\"\",IF(B31=$X$34,\"\",FORMULARIO!T25)))))))))))))))","v":""},{"$f":"+IF(B31=\"\",\"\",IF(FORMULARIO!V25=\"\",\"\",IF(B31=$X$22,\"\",IF(B31=$X$23,\"\",IF(B31=$X$24,\"\",IF(B31=$X$25,\"\",IF(B31=$X$26,\"\",IF(B31=$X$27,\"\",IF(B31=$X$28,\"\",IF(B31=$X$29,\"\",IF(B31=$X$30,\"\",IF(B31=$X$31,\"\",IF(B31=$X$32,\"\",IF(B31=$X$33,\"\",IF(B31=$X$34,\"\",FORMULARIO!V25)))))))))))))))","v":""},null,null,0,{"$f":"FORMULARIO!Y25","v":0},{"$nulls":7},"PLATANAL"]
[{"$f":"+FORMULARIO!A26","v":""},{"$f":"+IF(FORMULARIO!B26=\"\",\"\",FORMULARIO!B26)","v":""},{"$f":"+IF(B32=\"\",\"\",IF(FORMULARIO!D26=\"\",\"\",IF(B32=$X$33,\"\",FORMULARIO!D26)))","v":""},{"$f":"+IF(B32=\"\",\"\",IF(FORMULARIO!F26=\"\",\"\",FORMULARIO!F26))","v":""},{"$f":"+IF(B32=\"\",\"\",IF(FORMULARIO!H26=\"\",\"\",FORMULARIO!H26))","v":""},{"$f":"+IF(B32=\"\",\"\",IF(FORMULARIO!J26=\"\",\"\",FORMULARIO!J26))","v":""},{"$f":"+IF(B32=\"\",\"\",IF(FORMULARIO!L26=\"\",\"\",FORMULARIO!L26))","v":""},{"$f":"+IF(B32=\"\",\"\",IF(FORMULARIO!N26=\"\",\"\",FORMULARIO!N26))","v":""},{"$f":"+IF(B32=\"\",\"\",IF(FORMULARIO!P26=\"\",\"\",FORMULARIO!P26))","v":""},{"$f":"+IF(B32=\"\",\"\",IF(FORMULARIO!R26=\"\",\"\",FORMULARIO!R26))","v":""},{"$f":"+IF(B32=\"\",\"\",IF(FORMULARIO!T26=\"\",\"\",IF(B32=$X$22,\"\",IF(B32=$X$23,\"\",IF(B32=$X$24,\"\",IF(B32=$X$25,\"\",IF(B32=$X$26,\"\",IF(B32=$X$27,\"\",IF(B32=$X$28,\"\",IF(B32=$X$29,\"\",IF(B32=$X$30,\"\",IF(B32=$X$31,\"\",IF(B32=$X$32,\"\",IF(B32=$X$33,\"\",IF(B32=$X$34,\"\",FORMULARIO!T26)))))))))))))))","v":""},{"$f":"+IF(B32=\"\",\"\",IF(FORMULARIO!V26=\"\",\"\",IF(B32=$X$22,\"\",IF(B32=$X$23,\"\",IF(B32=$X$24,\"\",IF(B32=$X$25,\"\",IF(B32=$X$26,\"\",IF(B32=$X$27,\"\",IF(B32=$X$28,\"\",IF(B32=$X$29,\"\",IF(B32=$X$30,\"\",IF(B32=$X$31,\"\",IF(B32=$X$32,\"\",IF(B32=$X$33,\"\",IF(B32=$X$34,\"\",FORMULARIO!V26)))))))))))))))","v":""},null,null,0,{"$f":"FORMULARIO!Y26","v":0},{"$nulls":7},"ZAMBITO "]
[{"$f":"+FORMULARIO!A27","v":""},{"$f":"+IF(FORMULARIO!B27=\"\",\"\",FORMULARIO!B27)","v":""},{"$f":"+IF(B33=\"\",\"\",IF(FORMULARIO!D27=\"\",\"\",IF(B33=$X$33,\"\",FORMULARIO!D27)))","v":""},{"$f":"+IF(B33=\"\",\"\",IF(FORMULARIO!F27=\"\",\"\",FORMULARIO!F27))","v":""},{"$f":"+IF(B33=\"\",\"\",IF(FORMULARIO!H27=\"\",\"\",FORMULARIO!H27))","v":""},{"$f":"+IF(B33=\"\",\"\",IF(FORMULARIO!J27=\"\",\"\",FORMULARIO!J27))","v":""},{"$f":"+IF(B33=\"\",\"\",IF(FORMULARIO!L27=\"\",\"\",FORMULARIO!L27))","v":""},{"$f":"+IF(B33=\"\",\"\",IF(FORMULARIO!N27=\"\",\"\",FORMULARIO!N27))","v":""},{"$f":"+IF(B33=\"\",\"\",IF(FORMULARIO!P27=\"\",\"\",FORMULARIO!P27))","v":""},{"$f":"+IF(B33=\"\",\"\",IF(FORMULARIO!R27=\"\",\"\",FORMULARIO!R27))","v":""},{"$f":"+IF(B33=\"\",\"\",IF(FORMULARIO!T27=\"\",\"\",IF(B33=$X$22,\"\",IF(B33=$X$23,\"\",IF(B33=$X$24,\"\",IF(B33=$X$25,\"\",IF(B33=$X$26,\"\",IF(B33=$X$27,\"\",IF(B33=$X$28,\"\",IF(B33=$X$29,\"\",IF(B33=$X$30,\"\",IF(B33=$X$31,\"\",IF(B33=$X$32,\"\",IF(B33=$X$33,\"\",IF(B33=$X$34,\"\",FORMULARIO!T27)))))))))))))))","v":""},{"$f":"+IF(B33=\"\",\"\",IF(FORMULARIO!V27=\"\",\"\",IF(B33=$X$22,\"\",IF(B33=$X$23,\"\",IF(B33=$X$24,\"\",IF(B33=$X$25,\"\",IF(B33=$X$26,\"\",IF(B33=$X$27,\"\",IF(B33=$X$28,\"\",IF(B33=$X$29,\"\",IF(B33=$X$30,\"\",IF(B33=$X$31,\"\",IF(B33=$X$32,\"\",IF(B33=$X$33,\"\",IF(B33=$X$34,\"\",FORMULARIO!V27)))))))))))))))","v":""},null,null,0,{"$f":"FORMULARIO!Y27","v":0},{"$nulls":7},"SAN JUAN"]
[{"$f":"+FORMULARIO!A28","v":""},{"$f":"+IF(FORMULARIO!B28=\"\",\"\",FORMULARIO!B28)","v":""},{"$f":"+IF(B34=\"\",\"\",IF(FORMULARIO!D28=\"\",\"\",IF(B34=$X$33,\"\",FORMULARIO!D28)))","v":""},{"$f":"+IF(B34=\"\",\"\",IF(FORMULARIO!F28=\"\",\"\",FORMULARIO!F28))","v":""},{"$f":"+IF(B34=\"\",\"\",IF(FORMULARIO!H28=\"\",\"\",FORMULARIO!H28))","v":""},{"$f":"+IF(B34=\"\",\"\",IF(FORMULARIO!J28=\"\",\"\",FORMULARIO!J28))","v":""},{"$f":"+IF(B34=\"\",\"\",IF(FORMULARIO!L28=\"\",\"\",FORMULARIO!L28))","v":""},{"$f":"+IF(B34=\"\",\"\",IF(FORMULARIO!N28=\"\",\"\",FORMULARIO!N28))","v":""},{"$f":"+IF(B34=\"\",\"\",IF(FORMULARIO!P28=\"\",\"\",FORMULARIO!P28))","v":""},{"$f":"+IF(B34=\"\",\"\",IF(FORMULARIO!R28=\"\",\"\",FORMULARIO!R28))","v":""},{"$f":"+IF(B34=\"\",\"\",IF(FORMULARIO!T28=\"\",\"\",IF(B34=$X$22,\"\",IF(B34=$X$23,\"\",IF(B34=$X$24,\"\",IF(B34=$X$25,\"\",IF(B34=$X$26,\"\",IF(B34=$X$27,\"\",IF(B34=$X$28,\"\",IF(B34=$X$29,\"\",IF(B34=$X$30,\"\",IF(B34=$X$31,\"\",IF(B34=$X$32,\"\",IF(B34=$X$33,\"\",IF(B34=$X$34,\"\",FORMULARIO!T28)))))))))))))))","v":""},{"$f":"+IF(B34=\"\",\"\",IF(FORMULARIO!V28=\"\",\"\",IF(B34=$X$22,\"\",IF(B34=$X$23,\"\",IF(B34=$X$24,\"\",IF(B34=$X$25,\"\",IF(B34=$X$26,\"\",IF(B34=$X$27,\"\",IF(B34=$X$28,\"\",IF(B34=$X$29,\"\",IF(B34=$X$30,\"\",IF(B34=$X$31,\"\",IF(B34=$X$32,\"\",IF(B34=$X$33,\"\",IF(B34=$X$34,\"\",FORMULARIO!V28)))))))))))))))","v":""},null,null,0,{"$f":"FORMULARIO!Y28","v":0},{"$nulls":7},"LOBOGUERRERO"]
[{"$f":"+FORMULARIO!A29","v":""},{"$f":"+IF(FORMULARIO!B29=\"\",\"\",FORMULARIO!B29)","v":""},{"$f":"+IF(B35=\"\",\"\",IF(FORMULARIO!D29=\"\",\"\",IF(B35=$X$33,\"\",FORMULARIO!D29)))","v":""},{"$f":"+IF(B35=\"\",\"\",IF(FORMULARIO!F29=\"\",\"\",FORMULARIO!F29))","v":""},{"$f":"+IF(B35=\"\",\"\",IF(FORMULARIO!H29=\"\",\"\",FORMULARIO!H29))","v":""},{"$f":"+IF(B35=\"\",\"\",IF(FORMULARIO!J29=\"\",\"\",FORMULARIO!J29))","v":""},{"$f":"+IF(B35=\"\",\"\",IF(FORMULARIO!L29=\"\",\"\",FORMULARIO!L29))","v":""},{"$f":"+IF(B35=\"\",\"\",IF(FORMULARIO!N29=\"\",\"\",FORMULARIO!N29))","v":""},{"$f":"+IF(B35=\"\",\"\",IF(FORMULARIO!P29=\"\",\"\",FORMULARIO!P29))","v":""},{"$f":"+IF(B35=\"\",\"\",IF(FORMULARIO!R29=\"\",\"\",FORMULARIO!R29))","v":""},{"$f":"+IF(B35=\"\",\"\",IF(FORMULARIO!T29=\"\",\"\",IF(B35=$X$22,\"\",IF(B35=$X$23,\"\",IF(B35=$X$24,\"\",IF(B35=$X$25,\"\",IF(B35=$X$26,\"\",IF(B35=$X$27,\"\",IF(B35=$X$28,\"\",IF(B35=$X$29,\"\",IF(B35=$X$30,\"\",IF(B35=$X$31,\"\",IF(B35=$X$32,\"\",IF(B35=$X$33,\"\",IF(B35=$X$34,\"\",FORMULARIO!T29)))))))))))))))","v":""},{"$f":"+IF(B35=\"\",\"\",IF(FORMULARIO!V29=\"\",\"\",IF(B35=$X$22,\"\",IF(B35=$X$23,\"\",IF(B35=$X$24,\"\",IF(B35=$X$25,\"\",IF(B35=$X$26,\"\",IF(B35=$X$27,\"\",IF(B35=$X$28,\"\",IF(B35=$X$29,\"\",IF(B35=$X$30,\"\",IF(B35=$X$31,\"\",IF(B35=$X$32,\"\",IF(B35=$X$33,\"\",IF(B35=$X$34,\"\",FORMULARIO!V29)))))))))))))))","v":""},null,null,0,{"$f":"FORMULARIO!Y29","v":0},{"$nulls":7},"LA PARADA"]
[{"$f":"+FORMULARIO!A30","v":""},{"$f":"+IF(FORMULARIO!B30=\"\",\"\",FORMULARIO!B30)","v":""},{"$f":"+IF(B36=\"\",\"\",IF(FORMULARIO!D30=\"\",\"\",IF(B36=$X$33,\"\",FORMULARIO!D30)))","v":""},{"$f":"+IF(B36=\"\",\"\",IF(FORMULARIO!F30=\"\",\"\",FORMULARIO!F30))","v":""},{"$f":"+IF(B36=\"\",\"\",IF(FORMULARIO!H30=\"\",\"\",FORMULARIO!H30))","v":""},{"$f":"+IF(B36=\"\",\"\",IF(FORMULARIO!J30=\"\",\"\",FORMULARIO!J30))","v":""},{"$f":"+IF(B36=\"\",\"\",IF(FORMULARIO!L30=\"\",\"\",FORMULARIO!L30))","v":""},{"$f":"+IF(B36=\"\",\"\",IF(FORMULARIO!N30=\"\",\"\",FORMULARIO!N30))","v":""},{"$f":"+IF(B36=\"\",\"\",IF(FORMULARIO!P30=\"\",\"\",FORMULARIO!P30))","v":""},{"$f":"+IF(B36=\"\",\"\",IF(FORMULARIO!R30=\"\",\"\",FORMULARIO!R30))","v":""},{"$f":"+IF(B36=\"\",\"\",IF(FORMULARIO!T30=\"\",\"\",IF(B36=$X$22,\"\",IF(B36=$X$23,\"\",IF(B36=$X$24,\"\",IF(B36=$X$25,\"\",IF(B36=$X$26,\"\",IF(B36=$X$27,\"\",IF(B36=$X$28,\"\",IF(B36=$X$29,\"\",IF(B36=$X$30,\"\",IF(B36=$X$31,\"\",IF(B36=$X$32,\"\",IF(B36=$X$33,\"\",IF(B36=$X$34,\"\",FORMULARIO!T30)))))))))))))))","v":""},{"$f":"+IF(B36=\"\",\"\",IF(FORMULARIO!V30=\"\",\"\",IF(B36=$X$22,\"\",IF(B36=$X$23,\"\",IF(B36=$X$24,\"\",IF(B36=$X$25,\"\",IF(B36=$X$26,\"\",IF(B36=$X$27,\"\",IF(B36=$X$28,\"\",IF(B36=$X$29,\"\",IF(B36=$X$30,\"\",IF(B36=$X$31,\"\",IF(B36=$X$32,\"\",IF(B36=$X$33,\"\",IF(B36=$X$34,\"\",FORMULARIO!V30)))))))))))))))","v":""},null,null,0,{"$f":"FORMULARIO!Y30","v":0},{"$nulls":7},"EL KORAN"]
[{"$f":"+FORMULARIO!A31","v":""},{"$f":"+IF(FORMULARIO!B31=\"\",\"\",FORMULARIO!B31)","v":""},{"$f":"+IF(B37=\"\",\"\",IF(FORMULARIO!D31=\"\",\"\",IF(B37=$X$33,\"\",FORMULARIO!D31)))","v":""},{"$f":"+IF(B37=\"\",\"\",IF(FORMULARIO!F31=\"\",\"\",FORMULARIO!F31))","v":""},{"$f":"+IF(B37=\"\",\"\",IF(FORMULARIO!H31=\"\",\"\",FORMULARIO!H31))","v":""},{"$f":"+IF(B37=\"\",\"\",IF(FORMULARIO!J31=\"\",\"\",FORMULARIO!J31))","v":""},{"$f":"+IF(B37=\"\",\"\",IF(FORMULARIO!L31=\"\",\"\",FORMULARIO!L31))","v":""},{"$f":"+IF(B37=\"\",\"\",IF(FORMULARIO!N31=\"\",\"\",FORMULARIO!N31))","v":""},{"$f":"+IF(B37=\"\",\"\",IF(FORMULARIO!P31=\"\",\"\",FORMULARIO!P31))","v":""},{"$f":"+IF(B37=\"\",\"\",IF(FORMULARIO!R31=\"\",\"\",FORMULARIO!R31))","v":""},{"$f":"+IF(B37=\"\",\"\",IF(FORMULARIO!T31=\"\",\"\",IF(B37=$X$22,\"\",IF(B37=$X$23,\"\",IF(B37=$X$24,\"\",IF(B37=$X$25,\"\",IF(B37=$X$26,\"\",IF(B37=$X$27,\"\",IF(B37=$X$28,\"\",IF(B37=$X$29,\"\",IF(B37=$X$30,\"\",IF(B37=$X$31,\"\",IF(B37=$X$32,\"\",IF(B37=$X$33,\"\",IF(B37=$X$34,\"\",FORMULARIO!T31)))))))))))))))","v":""},{"$f":"+IF(B37=\"\",\"\",IF(FORMULARIO!V31=\"\",\"\",IF(B37=$X$22,\"\",IF(B37=$X$23,\"\",IF(B37=$X$24,\"\",IF(B37=$X$25,\"\",IF(B37=$X$26,\"\",IF(B37=$X$27,\"\",IF(B37=$X$28,\"\",IF(B37=$X$29,\"\",IF(B37=$X$30,\"\",IF(B37=$X$31,\"\",IF(B37=$X$32,\"\",IF(B37=$X$33,\"\",IF(B37=$X$34,\"\",FORMULARIO!V31)))))))))))))))","v":""},null,null,0,{"$f":"FORMULARIO!Y31","v":0},{"$nulls":8},2023,null,2024]
[{"$f":"+FORMULARIO!A32","v":""},{"$f":"+IF(FORMULARIO!B32=\"\",\"\",FORMULARIO!B32)","v":""},{"$f":"+IF(B38=\"\",\"\",IF(FORMULARIO!D32=\"\",\"\",IF(B38=$X$33,\"\",FORMULARIO!D32)))","v":""},{"$f":"+IF(B38=\"\",\"\",IF(FORMULARIO!F32=\"\",\"\",FORMULARIO!F32))","v":""},{"$f":"+IF(B38=\"\",\"\",IF(FORMULARIO!H32=\"\",\"\",FORMULARIO!H32))","v":""},{"$f":"+IF(B38=\"\",\"\",IF(FORMULARIO!J32=\"\",\"\",FORMULARIO!J32))","v":""},{"$f":"+IF(B38=\"\",\"\",IF(FORMULARIO!L32=\"\",\"\",FORMULARIO!L32))","v":""},{"$f":"+IF(B38=\"\",\"\",IF(FORMULARIO!N32=\"\",\"\",FORMULARIO!N32))","v":""},{"$f":"+IF(B38=\"\",\"\",IF(FORMULARIO!P32=\"\",\"\",FORMULARIO!P32))","v":""},{"$f":"+IF(B38=\"\",\"\",IF(FORMULARIO!R32=\"\",\"\",FORMULARIO!R32))","v":""},{"$f":"+IF(B38=\"\",\"\",IF(FORMULARIO!T32=\"\",\"\",IF(B38=$X$22,\"\",IF(B38=$X$23,\"\",IF(B38=$X$24,\"\",IF(B38=$X$25,\"\",IF(B38=$X$26,\"\",IF(B38=$X$27,\"\",IF(B38=$X$28,\"\",IF(B38=$X$29,\"\",IF(B38=$X$30,\"\",IF(B38=$X$31,\"\",IF(B38=$X$32,\"\",IF(B38=$X$33,\"\",IF(B38=$X$34,\"\",FORMULARIO!T32)))))))))))))))","v":""},{"$f":"+IF(B38=\"\",\"\",IF(FORMULARIO!V32=\"\",\"\",IF(B38=$X$22,\"\",IF(B38=$X$23,\"\",IF(B38=$X$24,\"\",IF(B38=$X$25,\"\",IF(B38=$X$26,\"\",IF(B38=$X$27,\"\",IF(B38=$X$28,\"\",IF(B38=$X$29,\"\",IF(B38=$X$30,\"\",IF(B38=$X$31,\"\",IF(B38=$X$32,\"\",IF(B38=$X$33,\"\",IF(B38=$X$34,\"\",FORMULARIO!V32)))))))))))))))","v":""},null,null,0,{"$f":"FORMULARIO!Y32","v":0},{"$nulls":8},22000,{"$f":"13.12%+9.28%+5.2%","v":{"v":0.27599999999999997,"d":"27.60%"}},{"$f":"+ROUND(Y38*(1+Z38),-2)","v":{"v":28100,"d":"28,100.00"}}]
[{"$f":"+FORMULARIO!A33","v":""},{"$f":"+IF(FORMULARIO!B33=\"\",\"\",FORMULARIO!B33)","v":""},{"$f":"+IF(B39=\"\",\"\",IF(FORMULARIO!D33=\"\",\"\",IF(B39=$X$33,\"\",FORMULARIO!D33)))","v":""},{"$f":"+IF(B39=\"\",\"\",IF(FORMULARIO!F33=\"\",\"\",FORMULARIO!F33))","v":""},{"$f":"+IF(B39=\"\",\"\",IF(FORMULARIO!H33=\"\",\"\",FORMULARIO!H33))","v":""},{"$f":"+IF(B39=\"\",\"\",IF(FORMULARIO!J33=\"\",\"\",FORMULARIO!J33))","v":""},{"$f":"+IF(B39=\"\",\"\",IF(FORMULARIO!L33=\"\",\"\",FORMULARIO!L33))","v":""},{"$f":"+IF(B39=\"\",\"\",IF(FORMULARIO!N33=\"\",\"\",FORMULARIO!N33))","v":""},{"$f":"+IF(B39=\"\",\"\",IF(FORMULARIO!P33=\"\",\"\",FORMULARIO!P33))","v":""},{"$f":"+IF(B39=\"\",\"\",IF(FORMULARIO!R33=\"\",\"\",FORMULARIO!R33))","v":""},{"$f":"+IF(B39=\"\",\"\",IF(FORMULARIO!T33=\"\",\"\",IF(B39=$X$22,\"\",IF(B39=$X$23,\"\",IF(B39=$X$24,\"\",IF(B39=$X$25,\"\",IF(B39=$X$26,\"\",IF(B39=$X$27,\"\",IF(B39=$X$28,\"\",IF(B39=$X$29,\"\",IF(B39=$X$30,\"\",IF(B39=$X$31,\"\",IF(B39=$X$32,\"\",IF(B39=$X$33,\"\",IF(B39=$X$34,\"\",FORMULARIO!T33)))))))))))))))","v":""},{"$f":"+IF(B39=\"\",\"\",IF(FORMULARIO!V33=\"\",\"\",IF(B39=$X$22,\"\",IF(B39=$X$23,\"\",IF(B39=$X$24,\"\",IF(B39=$X$25,\"\",IF(B39=$X$26,\"\",IF(B39=$X$27,\"\",IF(B39=$X$28,\"\",IF(B39=$X$29,\"\",IF(B39=$X$30,\"\",IF(B39=$X$31,\"\",IF(B39=$X$32,\"\",IF(B39=$X$33,\"\",IF(B39=$X$34,\"\",FORMULARIO!V33)))))))))))))))","v":""},null,null,0,{"$f":"FORMULARIO!Y33","v":0}]
[null,"TOTAL",{"$f":"SUM(C22:C39)","v":0},0,0,0,0,0,0,0,0,0,null,null,{"$f":"SUM(O22:O39)","v":0},{"$f":"SUM(P22:P39)","v":0}]
[{"$nulls":24},2023,null,2024]
[null,null,"CONSIGNACION",null,null,"Consignación Local",{"$nulls":8},"Valor Total Tiquetes",{"$f":"+FORMULARIO!$Y$46","v":0},{"$nulls":6},0,"Consignación Local",0,{"$f":"13.12%+9.28%","v":{"v":0.22399999999999998,"d":"22.40%"}},{"$f":"+ROUND(Y42*(1+Z42),-2)","v":0}]
[{"$nulls":23},"Consignación Nacional",{"v":15000,"d":"$ 15,000"},{"$f":"13.12%+9.28%+5.2%","v":{"v":0.27599999999999997,"d":"27.60%"}},{"$f":"+ROUND(Y43*(1+Z43),-2)","v":{"v":19100,"d":"19,100.00"}}]
[{"$nulls":14},"Gastos Bancarios",{"$f":"IF(F42=\"\",0,IF(F42=\"Consignación Local\",AA42,IF(F42=\"Consignación Nacional\",AA43)))","v":0}]
[]
[null,"Firma del Cliente",{"$nulls":12},"Gastos de Envio",{"$f":"IF(P42>0,AA38,0)","v":0}]
[]
[{"$nulls":14},"Valor Total a Pagar",{"$f":"SUM(P42:P46)","v":0}]
[null,"DATOS PARA CONSIGNACION"]
[]
[null,"Entidad Bancaria","BANCOLOMBIA",{"$nulls":8}," ","     ","Cuenta de Ahorros No.",null,"031-0001021-0"]
[]
[null,"Nombre del Titular:","PA FIDUCIARIA BANCOLOMBIA SA SOCIEDAD FIDUCIARIA",{"$nulls":9}," ","NIT.",null,"830.054.539"]
[]
["PEGAR CONSIGNACION"]